Workbook
Name Clubs: Data!$A$3:$A$10

Sheet Female Dec's
B1: Under 11 Girls | D1: Under 13 Girls | F1: Under 15 Girls | H1: Under 17 Women | J1: Senior Women
A2: 1 | B2: Amber Cameron | C2: 1 | D2: Aaliyah McCloud | E2: 1 | F2: Abbie Harrison | G2: 1 | H2: Ailsa Hewick | I2: 1 | J2: Alice Mongellio
A3: 2 | B3: Amber McClatchey | C3: 2 | D3: Alex Sneddon | E3: 2 | F3: Alanna Mackenzie | G3: 2 | H3: Amy Collier | I3: 2 | J3: Alison Heggie
A4: 3 | B4: Anna Fraser | C4: 3 | D4: Alyssa Burnett | E4: 3 | F4: Alex Sneddon | G4: 3 | H4: Beth Grant | I4: 3 | J4: Beth Grant
A5: 4 | B5: Ava Lambie | C5: 4 | D5: Amber Sturrock | E5: 4 | F5: Alyssa Burnett | G5: 4 | H5: Beth Mackay | I5: 4 | J5: Chantall Fowlie
A6: 5 | B6: Eilidh MacLennan | C6: 5 | D6: Beth Urquhart | E6: 5 | F6: Alyth Gollan | G6: 5 | H6: Chloe Cheyne | I6: 5 | J6: Eleanor Briggs
A7: 6 | B7: Eve Mitchell | C7: 6 | D7: Caitlin Brown | E7: 6 | F7: Amy Llyod | G7: 6 | H7: Chloe Watson | I7: 6 | J7: Ellie Stone
A8: 7 | B8: Georgia Antliff | C8: 7 | D8: Caitlyn Heggie | E8: 7 | F8: Annabel Gillanders | G8: 7 | H8: Chloe Watson | I8: 7 | J8: Emma Pedrana
A9: 8 | B9: Holly Stewart | C9: 8 | D9: Eden Wocjik | E9: 8 | F9: Ava Walsh | G9: 8 | H9: Elsa Fearn | I9: 8 | J9: Gillian Gordon
A10: 9 | B10: Isla O,Neill | C10: 9 | D10: Elise Beacom | E10: 9 | F10: Caitlyn Heggie | G10: 9 | H10: Emma Barclay | I10: 9 | J10: Grace Whelan
A11: 10 | B11: Josephine Holyrod | C11: 10 | D11: Emily Bell | E11: 10 | F11: Chloe McEwan | G11: 10 | H11: Emma Seed | I11: 10 | J11: Heather Bruce
A12: 11 | B12: Lauren Abbott | C12: 11 | D12: Emily Murray | E12: 11 | F12: Elle Stewart | G12: 11 | H12: Eve Gardiner | I12: 11 | J12: Heather Welsh
A13: 12 | B13: Layla Elder | C13: 12 | D13: Emily Murray | E13: 12 | F13: Ellie Mackintosh | G13: 12 | H13: Eve Tulloch | I13: 12 | J13: Julie Wilson
... A21: 20 | B21: Skye Nimmoms | C21: 20 | D21: Isabella Henry | E21: 20 | F21: Kaylee Main | G21: 20 | H21: Rachel Maclennan | I21: 20 | J21: Yvonne Cantlie
A22: 21 | B22: Sophia Fell-Cano | C22: 21 | D22: Isla Marwick | E22: 21 | F22: Kirsten Bowie | G22: 21 | H22: Ruby Dunkley | I22: 21
A23: 22 | B23: Tayler Barlow | C23: 22 | D23: Isla Thomson | E23: 22 | F23: Kirsten Leeper | G23: 22 | H23: Ruby Soldan | I23: 22
A24: 23 | B24: Ula Donald | C24: 23 | D24: Islay Rutter | E24: 23 | F24: Kirsty Arnaud | G24: 23 | H24: Shauna Perry | I24: 23
A25: 24 | C25: 24 | D25: Isobel Garvie | E25: 24 | F25: Leah Inglis | G25: 24 | I25: 24
A26: 25 | C26: 25 | D26: Katie Meek | E26: 25 | F26: Loren Macdonald | G26: 25 | I26: 25
A27: 26 | C27: 26 | D27: Katie Murray | E27: 26 | F27: Megan McKay | G27: 26 | I27: 26
A28: 27 | C28: 27 | D28: Kirsten Burnett | E28: 27 | F28: Melissa Mack | G28: 27 | I28: 27
A29: 28 | C29: 28 | D29: Lauren Thompson | E29: 28 | F29: Molly Jamieson | G29: 28 | I29: 28
A30: 29 | C30: 29 | D30: Leona Fernandes | E30: 29 | F30: Morag Hickey | G30: 29 | I30: 29
A31: 30 | C31: 30 | D31: Mackenzie Findlay | E31: 30 | F31: Morven Mackenzie | G31: 30 | I31: 30
A32: 31 | C32: 31 | D32: Mica Mccloud | E32: 31 | F32: Niamh Grant | G32: 31 | I32: 31
A33: 32 | C33: 32 | D33: Morag Lynch | E33: 32 | F33: Ruth Wilson | G33: 32 | I33: 32
A34: 33 | C34: 33 | D34: Rhiannon Ebrihem | E34: 33 | F34: Sophie Bath | G34: 33 | I34: 33
A35: 34 | C35: 34 | D35: Rose McClatchey | E35: 34 | F35: Sophie McEwan | G35: 34 | I35: 34
A36: 35 | C36: 35 | D36: Rosie Milligan | E36: 35 | F36: Tamsin Fowlie | G36: 35 | I36: 35
A37: 36 | C37: 36 | D37: Ruby Mackintosh | E37: 36 | G37: 36 | I37: 36
A38: 37 | C38: 37 | D38: Ruby Wittka Jezewski | E38: 37 | G38: 37 | I38: 37
A39: 38 | C39: 38 | D39: Stroma Fraser | E39: 38 | G39: 38 | I39: 38
A40: 39 | C40: 39 | D40: Zara Gill | E40: 39 | G40: 39 | I40: 39
A41: 40 | C41: 40 | D41: Zoe Sharpe | E41: 40 | G41: 40 | I41: 40
A42: 41 | C42: 41 | E42: 41 | G42: 41 | I42: 41
A43: 42 | C43: 42 | E43: 42 | G43: 42 | I43: 42
A44: 43 | C44: 43 | E44: 43 | G44: 43 | I44: 43
A45: 44 | C45: 44 | E45: 44 | G45: 44 | I45: 44
A46: 45 | C46: 45 | E46: 45 | G46: 45 | I46: 45
A47: 46 | C47: 46 | E47: 46 | G47: 46 | I47: 46
...

Sheet Male Dec's
B1: Under 11 Boys | D1: Under 13 Boys | F1: Under 15 Boys | H1: Under 17 Men | J1: Senior Men
A2: 1 | B2: Aaron Cheyne | C2: 1 | D2: Adam Watkins | E2: 1 | F2: Aaron Kerr | G2: 1 | H2: Alastair Campbell | I2: 1 | J2: Adam Hobson
A3: 2 | B3: Adam Smith | C3: 2 | D3: Alistair Young | E3: 2 | F3: Alastair Young | G3: 2 | H3: Alex Ellen | I3: 2 | J3: Andrew McCammon
A4: 3 | B4: Aiden Williamson | C4: 3 | D4: Andrew Stockan | E4: 3 | F4: Alex Jamieson | G4: 3 | H4: Alexander MacKay | I4: 3 | J4: Andrew McFarlane
A5: 4 | B5: Andrew Baird | C5: 4 | D5: Ben Durrand | E5: 4 | F5: Alistair Campbell | G5: 4 | H5: Angus Smith | I5: 4 | J5: Andrew Stoker
A6: 5 | B6: Andrew MacLennan | C6: 5 | D6: Calum Prideaux | E6: 5 | F6: Alister Mackay | G6: 5 | H6: Blair Milne | I6: 5 | J6: Bill Lambie
A7: 6 | B7: Angus Gillanders | C7: 6 | D7: Douglas Maclennan | E7: 6 | F7: Angus Lallah | G7: 6 | H7: Danny McPake | I7: 6 | J7: Calum Fraser
A8: 7 | B8: Angus Porter | C8: 7 | D8: Dylan Mackintosh | E8: 7 | F8: Arron Kerr | G8: 7 | H8: David Scott | I8: 7 | J8: Eoin Coull
A9: 8 | B9: Archie Smith | C9: 8 | D9: Eoghain Sutherland | E9: 8 | F9: Ben Sharpe | G9: 8 | H9: Ewan Spink | I9: 8 | J9: Euan Cantlie
A10: 9 | B10: Aaron Craigie | C10: 9 | D10: Finlay Beange | E10: 9 | F10: Bruce Newlands | G10: 9 | H10: Finbar Dunne | I10: 9 | J10: Finlay Maclennan
A11: 10 | B11: Charlie Peterana | C11: 10 | D11: Finn Hewick | E11: 10 | F11: Callum Lee | G11: 10 | H11: Finlay Rollo | I11: 10 | J11: Gareth Jenkins
A12: 11 | B12: Conner Cameron | C12: 11 | D12: Jake Henderson | E12: 11 | F12: Cameron Welsh | G12: 11 | H12: George Russell | I12: 11 | J12: Gordon Mowat
A13: 12 | B13: Daniel Beacom | C13: 12 | D13: Joe MacPerson | E13: 12 | F13: Craig Maclennan | G13: 12 | H13: Gordon Manson | I13: 12 | J13: Hamish Hickey
... A23: 22 | B23: Josh Manson | C23: 22 | D23: Ryan Curran | E23: 22 | F23: Liam Munro | G23: 22 | H23: Victor Jude-Eze | I23: 22 | J23: Matty Papp
A24: 23 | B24: Kye Brandie | C24: 23 | D24: Ryan Macnamara | E24: 23 | F24: Liam Paterson | G24: 23 | I24: 23 | J24: Nicky Stone
A25: 24 | B25: Liam Mackenzie | C25: 24 | D25: Ryan Sutherland | E25: 24 | F25: Lucas Allan | G25: 24 | I25: 24 | J25: Phil Reynolds
A26: 25 | B26: Logan Anderson | C26: 25 | D26: Sam Burnett | E26: 25 | F26: Matthew Baker | G26: 25 | I26: 25 | J26: Ryan MacCarthy
A27: 26 | B27: Michael Millar | C27: 26 | D27: Sam Coull | E27: 26 | F27: Robin Sneddon | G27: 26 | I27: 26 | J27: Sam Anderson
A28: 27 | B28: Ollie Bevan-Whittey | C28: 27 | D28: Sam Gallager | E28: 27 | F28: Rowan Nillsen | G28: 27 | I28: 27 | J28: Scott Fraser
A29: 28 | B29: Riley Bevan-Whittey | C29: 28 | D29: Scott Gray | E29: 28 | F29: Ruaridh Ellen | G29: 28 | I29: 28 | J29: Scott Hamilton
A30: 29 | B30: Roddy McGillvray | C30: 29 | D30: Sean Radabaugh | E30: 29 | F30: Ryan MacNamara | G30: 29 | I30: 29 | J30: Stephen Frame
A31: 30 | B31: Ryan Rodger | C31: 30 | D31: Shaun Golden | E31: 30 | F31: Sam Bryan | G31: 30 | I31: 30 | J31: Stephen Mackenzie
A32: 31 | B32: Seumas Henderson | C32: 31 | D32: Stuart Robertson | E32: 31 | F32: Scott Perry | G32: 31 | I32: 31 | J32: Tom Jenkins
A33: 32 | B33: Seamus Eunson | C33: 32 | D33: Thomas Reynolds | E33: 32 | F33: William Hodi | G33: 32 | I33: 32 | J33: Tom Mathieson
A34: 33 | B34: Stephen Anderson | C34: 33 | D34: Tom Palmer | E34: 33 | G34: 33 | I34: 33
A35: 34 | B35: Struan Ellen | C35: 34 | D35: Zak Fearn | E35: 34 | G35: 34 | I35: 34
A36: 35 | B36: Travis Macpherson | C36: 35 | D36: Zak Stewart | E36: 35 | G36: 35 | I36: 35
A37: 36 | B37: Tyler Gordon | C37: 36 | E37: 36 | G37: 36 | I37: 36
A38: 37 | B38: Zack Gill | C38: 37 | E38: 37 | G38: 37 | I38: 37
A39: 38 | C39: 38 | E39: 38 | G39: 38 | I39: 38
A40: 39 | C40: 39 | E40: 39 | G40: 39 | I40: 39
A41: 40 | C41: 40 | E41: 40 | G41: 40 | I41: 40
A42: 41 | C42: 41 | E42: 41 | G42: 41 | I42: 41
A43: 42 | C43: 42 | E43: 42 | G43: 42 | I43: 42
A44: 43 | C44: 43 | E44: 43 | G44: 43 | I44: 43
A45: 44 | C45: 44 | E45: 44 | G45: 44 | I45: 44
A46: 45 | C46: 45 | E46: 45 | G46: 45 | I46: 45
A47: 46 | C47: 46 | E47: 46 | G47: 46 | I47: 46
A48: 47 | C48: 47 | E48: 47 | G48: 47 | I48: 47
A49: 48 | C49: 48 | E49: 48 | G49: 48 | I49: 48
...

Sheet U11G
A1: Event | B1: U11G | C1: 1st = 8A/B | D1: 2nd = 7A/B | E1: 3rd = 6A/B | F1: 4th = 5A/B | G1: 5th = 4A/B | H1: 6th = 3A/B | I1: 7th = 2A/B | J1: 8th = 1A/B | K1: CAAC | L1: Elgin | M1: ES | N1: FH | O1: IH | P1: MRR | Q1: NAAC | R1: RC
A2: 100m | B2: Name | C2: Holly Stewart | D2: Lauren Abbott | E2: Eve Mitchell | F2: Amber Cameron | G2: Ava Lambie
A3: A | B3: Club | C3: RC | D3: MRR | E3: IH | F3: NAAC | G3: CAAC | K3: 4 | L3: =IF(C3=L1,11,IF(D3=L1,9,IF(E3=L1,8,IF(F3=L1,7,IF(G3=L1,6,IF(H3=L1,5,IF(I3=L1,4,IF(J3=L1,3,0)))))))) -> 0 | M3: =IF(C3=M1,11,IF(D3=M1,9,IF(E3=M1,8,IF(F3=M1,7,IF(G3=M1,6,IF(H3=M1,5,IF(I3=M1,4,IF(J3=M1,3,0)))))))) -> 0 | N3: =IF(C3=N1,11,IF(D3=N1,9,IF(E3=N1,8,IF(F3=N1,7,IF(G3=N1,6,IF(H3=N1,5,IF(I3=N1,4,IF(J3=N1,3,0)))))))) -> 0 | O3: 6 | P3: 7 | Q3: 5 | R3: 8
A4: 2.3 | B4: Perf. | C4: 14.87 | D4: 15.11 | E4: 16.03 | F4: 16.49 | G4: 20.13
A5: 100m | B5: Name | C5: Tayler Barlow | D5: Lucy Robertson | E5: Rosie Ogston | F5: Rhiann Cantlie | G5: Josephine Holyrod
A6: B | B6: Club | C6: RC | D6: IH | E6: NAAC | F6: MRR | G6: CAAC | K6: =IF(C6=K1,9,IF(D6=K1,7,IF(E6=K1,6,IF(F6=K1,5,IF(G6=K1,4,IF(H6=K1,3,IF(I6=K1,2,IF(J6=K1,1,0)))))))) -> 4 | L6: =IF(C6=L1,9,IF(D6=L1,7,IF(E6=L1,6,IF(F6=L1,5,IF(G6=L1,4,IF(H6=L1,3,IF(I6=L1,2,IF(J6=L1,1,0)))))))) -> 0 | M6: =IF(C6=M1,9,IF(D6=M1,7,IF(E6=M1,6,IF(F6=M1,5,IF(G6=M1,4,IF(H6=M1,3,IF(I6=M1,2,IF(J6=M1,1,0)))))))) -> 0 | N6: =IF(C6=N1,9,IF(D6=N1,7,IF(E6=N1,6,IF(F6=N1,5,IF(G6=N1,4,IF(H6=N1,3,IF(I6=N1,2,IF(J6=N1,1,0)))))))) -> 0 | O6: =IF(C6=O1,9,IF(D6=O1,7,IF(E6=O1,6,IF(F6=O1,5,IF(G6=O1,4,IF(H6=O1,3,IF(I6=O1,2,IF(J6=O1,1,0)))))))) -> 7 | P6: =IF(C6=P1,9,IF(D6=P1,7,IF(E6=P1,6,IF(F6=P1,5,IF(G6=P1,4,IF(H6=P1,3,IF(I6=P1,2,IF(J6=P1,1,0)))))))) -> 5 | Q6: =IF(C6=Q1,9,IF(D6=Q1,7,IF(E6=Q1,6,IF(F6=Q1,5,IF(G6=Q1,4,IF(H6=Q1,3,IF(I6=Q1,2,IF(J6=Q1,1,0)))))))) -> 6 | R6: 8
A7: 2.8 | B7: Perf. | C7: 15.1 | D7: 16.47 | E7: 16.53 | F7: 17.21 | G7: 18.49
A8: 800m | B8: Name | C8: Isla O,Neill | D8: Lauren Abbott | E8: Sophia Fell-Cano | F8: Amber Cameron | G8: Anna Fraser
A9: A | B9: Club | C9: IH | D9: MRR | E9: CAAC | F9: NAAC | G9: RC | K9: 6 | L9: =IF(C9=L1,11,IF(D9=L1,9,IF(E9=L1,8,IF(F9=L1,7,IF(G9=L1,6,IF(H9=L1,5,IF(I9=L1,4,IF(J9=L1,3,0)))))))) -> 0 | M9: =IF(C9=M1,11,IF(D9=M1,9,IF(E9=M1,8,IF(F9=M1,7,IF(G9=M1,6,IF(H9=M1,5,IF(I9=M1,4,IF(J9=M1,3,0)))))))) -> 0 | N9: =IF(C9=N1,11,IF(D9=N1,9,IF(E9=N1,8,IF(F9=N1,7,IF(G9=N1,6,IF(H9=N1,5,IF(I9=N1,4,IF(J9=N1,3,0)))))))) -> 0 | O9: 8 | P9: 7 | Q9: 5 | R9: 4
B10: Perf. | C10: 2.56.89 | D10: 2.58.92 | E10: 3.02.15 | F10: 3.02.47 | G10: 3.02.79
A11: 800m | B11: Name | C11: Mairead Macleod | D11: Amber McClatchey | E11: Rhiann Cantlie | F11: Lucy Fraser | G11: Josephine Holyrod
A12: B | B12: Club | C12: IH | D12: NAAC | E12: MRR | F12: RC | G12: CAAC | K12: =IF(C12=K1,9,IF(D12=K1,7,IF(E12=K1,6,IF(F12=K1,5,IF(G12=K1,4,IF(H12=K1,3,IF(I12=K1,2,IF(J12=K1,1,0)))))))) -> 4 | L12: =IF(C12=L1,9,IF(D12=L1,7,IF(E12=L1,6,IF(F12=L1,5,IF(G12=L1,4,IF(H12=L1,3,IF(I12=L1,2,IF(J12=L1,1,0)))))))) -> 0 | M12: =IF(C12=M1,9,IF(D12=M1,7,IF(E12=M1,6,IF(F12=M1,5,IF(G12=M1,4,IF(H12=M1,3,IF(I12=M1,2,IF(J12=M1,1,0)))))))) -> 0 | N12: =IF(C12=N1,9,IF(D12=N1,7,IF(E12=N1,6,IF(F12=N1,5,IF(G12=N1,4,IF(H12=N1,3,IF(I12=N1,2,IF(J12=N1,1,0)))))))) -> 0 | O12: 8 | P12: =IF(C12=P1,9,IF(D12=P1,7,IF(E12=P1,6,IF(F12=P1,5,IF(G12=P1,4,IF(H12=P1,3,IF(I12=P1,2,IF(J12=P1,1,0)))))))) -> 6 | Q12: =IF(C12=Q1,9,IF(D12=Q1,7,IF(E12=Q1,6,IF(F12=Q1,5,IF(G12=Q1,4,IF(H12=Q1,3,IF(I12=Q1,2,IF(J12=Q1,1,0)))))))) -> 7 | R12: =IF(C12=R1,9,IF(D12=R1,7,IF(E12=R1,6,IF(F12=R1,5,IF(G12=R1,4,IF(H12=R1,3,IF(I12=R1,2,IF(J12=R1,1,0)))))))) -> 5
B13: Perf. | C13: 2.59.36 | D13: 3.11.58 | E13: 3.11.60 | F13: 3.13.71 | G13: 3.37.80
A14: S Putt | B14: Name | C14: Rosie Ogston | D14: Ula Donald | E14: Ava Lambie | F14: Lucy Fraser
A15: A | B15: Club | C15: NAAC | D15: IH | E15: CAAC | F15: RC | K15: 6 | L15: =IF(C15=L1,11,IF(D15=L1,9,IF(E15=L1,8,IF(F15=L1,7,IF(G15=L1,6,IF(H15=L1,5,IF(I15=L1,4,IF(J15=L1,3,0)))))))) -> 0 | M15: =IF(C15=M1,11,IF(D15=M1,9,IF(E15=M1,8,IF(F15=M1,7,IF(G15=M1,6,IF(H15=M1,5,IF(I15=M1,4,IF(J15=M1,3,0)))))))) -> 0 | N15: =IF(C15=N1,11,IF(D15=N1,9,IF(E15=N1,8,IF(F15=N1,7,IF(G15=N1,6,IF(H15=N1,5,IF(I15=N1,4,IF(J15=N1,3,0)))))))) -> 0 | O15: 7 | P15: =IF(C15=P1,11,IF(D15=P1,9,IF(E15=P1,8,IF(F15=P1,7,IF(G15=P1,6,IF(H15=P1,5,IF(I15=P1,4,IF(J15=P1,3,0)))))))) -> 0 | Q15: 8 | R15: 5
B16: Perf. | C16: 4.18 | D16: 3.8 | E16: 3.59 | F16: 3.47
A17: S Putt | B17: Name | C17: Skye Nimmoms | D17: Sophia Fell-Cano | E17: Amber Cameron | F17: Anna Fraser
A18: B | B18: Club | C18: IH | D18: CAAC | E18: NAAC | F18: RC | K18: =IF(C18=K1,9,IF(D18=K1,7,IF(E18=K1,6,IF(F18=K1,5,IF(G18=K1,4,IF(H18=K1,3,IF(I18=K1,2,IF(J18=K1,1,0)))))))) -> 7 | L18: =IF(C18=L1,9,IF(D18=L1,7,IF(E18=L1,6,IF(F18=L1,5,IF(G18=L1,4,IF(H18=L1,3,IF(I18=L1,2,IF(J18=L1,1,0)))))))) -> 0 | M18: =IF(C18=M1,9,IF(D18=M1,7,IF(E18=M1,6,IF(F18=M1,5,IF(G18=M1,4,IF(H18=M1,3,IF(I18=M1,2,IF(J18=M1,1,0)))))))) -> 0 | N18: =IF(C18=N1,9,IF(D18=N1,7,IF(E18=N1,6,IF(F18=N1,5,IF(G18=N1,4,IF(H18=N1,3,IF(I18=N1,2,IF(J18=N1,1,0)))))))) -> 0 | O18: 8 | P18: =IF(C18=P1,9,IF(D18=P1,7,IF(E18=P1,6,IF(F18=P1,5,IF(G18=P1,4,IF(H18=P1,3,IF(I18=P1,2,IF(J18=P1,1,0)))))))) -> 0 | Q18: =IF(C18=Q1,9,IF(D18=Q1,7,IF(E18=Q1,6,IF(F18=Q1,5,IF(G18=Q1,4,IF(H18=Q1,3,IF(I18=Q1,2,IF(J18=Q1,1,0)))))))) -> 6 | R18: =IF(C18=R1,9,IF(D18=R1,7,IF(E18=R1,6,IF(F18=R1,5,IF(G18=R1,4,IF(H18=R1,3,IF(I18=R1,2,IF(J18=R1,1,0)))))))) -> 5
B19: Perf. | C19: 3.69 | D19: 3.54 | E19: 3.3 | F19: 3.3
A20: H Jump | B20: Name | C20: Mairead Macleod | D20: Tayler Barlow | E20: Sophia Fell-Cano
A21: A | B21: Club | C21: IH | D21: RC | E21: CAAC | K21: 6 | L21: =IF(C21=L1,11,IF(D21=L1,9,IF(E21=L1,8,IF(F21=L1,7,IF(G21=L1,6,IF(H21=L1,5,IF(I21=L1,4,IF(J21=L1,3,0)))))))) -> 0 | M21: =IF(C21=M1,11,IF(D21=M1,9,IF(E21=M1,8,IF(F21=M1,7,IF(G21=M1,6,IF(H21=M1,5,IF(I21=M1,4,IF(J21=M1,3,0)))))))) -> 0 | N21: =IF(C21=N1,11,IF(D21=N1,9,IF(E21=N1,8,IF(F21=N1,7,IF(G21=N1,6,IF(H21=N1,5,IF(I21=N1,4,IF(J21=N1,3,0)))))))) -> 0 | O21: 8 | P21: =IF(C21=P1,11,IF(D21=P1,9,IF(E21=P1,8,IF(F21=P1,7,IF(G21=P1,6,IF(H21=P1,5,IF(I21=P1,4,IF(J21=P1,3,0)))))))) -> 0 | Q21: =IF(C21=Q1,11,IF(D21=Q1,9,IF(E21=Q1,8,IF(F21=Q1,7,IF(G21=Q1,6,IF(H21=Q1,5,IF(I21=Q1,4,IF(J21=Q1,3,0)))))))) -> 0 | R21: 7
B22: Perf. | C22: 1.10 | D22: 1.05 | E22: 1.00
A23: H Jump | B23: Name | C23: Holly Stewart | D23: Isla O,Neill | E23: Josephine Holyrod
A24: B | B24: Club | C24: RC | D24: IH | E24: CAAC | K24: =IF(C24=K1,9,IF(D24=K1,7,IF(E24=K1,6,IF(F24=K1,5,IF(G24=K1,4,IF(H24=K1,3,IF(I24=K1,2,IF(J24=K1,1,0)))))))) -> 6 | L24: =IF(C24=L1,9,IF(D24=L1,7,IF(E24=L1,6,IF(F24=L1,5,IF(G24=L1,4,IF(H24=L1,3,IF(I24=L1,2,IF(J24=L1,1,0)))))))) -> 0 | M24: =IF(C24=M1,9,IF(D24=M1,7,IF(E24=M1,6,IF(F24=M1,5,IF(G24=M1,4,IF(H24=M1,3,IF(I24=M1,2,IF(J24=M1,1,0)))))))) -> 0 | N24: =IF(C24=N1,9,IF(D24=N1,7,IF(E24=N1,6,IF(F24=N1,5,IF(G24=N1,4,IF(H24=N1,3,IF(I24=N1,2,IF(J24=N1,1,0)))))))) -> 0 | O24: =IF(C24=O1,9,IF(D24=O1,7,IF(E24=O1,6,IF(F24=O1,5,IF(G24=O1,4,IF(H24=O1,3,IF(I24=O1,2,IF(J24=O1,1,0)))))))) -> 7 | P24: =IF(C24=P1,9,IF(D24=P1,7,IF(E24=P1,6,IF(F24=P1,5,IF(G24=P1,4,IF(H24=P1,3,IF(I24=P1,2,IF(J24=P1,1,0)))))))) -> 0 | Q24: =IF(C24=Q1,9,IF(D24=Q1,7,IF(E24=Q1,6,IF(F24=Q1,5,IF(G24=Q1,4,IF(H24=Q1,3,IF(I24=Q1,2,IF(J24=Q1,1,0)))))))) -> 0 | R24: 8
B25: Perf. | C25: 1.05 | D25: 0.95 | E25: 0.90
B26: Name
A27: A | B27: Club | K27: =IF(C27=K1,11,IF(D27=K1,9,IF(E27=K1,8,IF(F27=K1,7,IF(G27=K1,6,IF(H27=K1,5,IF(I27=K1,4,IF(J27=K1,3,0)))))))) -> 0 | L27: =IF(C27=L1,11,IF(D27=L1,9,IF(E27=L1,8,IF(F27=L1,7,IF(G27=L1,6,IF(H27=L1,5,IF(I27=L1,4,IF(J27=L1,3,0)))))))) -> 0 | M27: =IF(C27=M1,11,IF(D27=M1,9,IF(E27=M1,8,IF(F27=M1,7,IF(G27=M1,6,IF(H27=M1,5,IF(I27=M1,4,IF(J27=M1,3,0)))))))) -> 0 | N27: =IF(C27=N1,11,IF(D27=N1,9,IF(E27=N1,8,IF(F27=N1,7,IF(G27=N1,6,IF(H27=N1,5,IF(I27=N1,4,IF(J27=N1,3,0)))))))) -> 0 | O27: =IF(C27=O1,11,IF(D27=O1,9,IF(E27=O1,8,IF(F27=O1,7,IF(G27=O1,6,IF(H27=O1,5,IF(I27=O1,4,IF(J27=O1,3,0)))))))) -> 0 | P27: =IF(C27=P1,11,IF(D27=P1,9,IF(E27=P1,8,IF(F27=P1,7,IF(G27=P1,6,IF(H27=P1,5,IF(I27=P1,4,IF(J27=P1,3,0)))))))) -> 0 | Q27: =IF(C27=Q1,11,IF(D27=Q1,9,IF(E27=Q1,8,IF(F27=Q1,7,IF(G27=Q1,6,IF(H27=Q1,5,IF(I27=Q1,4,IF(J27=Q1,3,0)))))))) -> 0 | R27: =IF(C27=R1,11,IF(D27=R1,9,IF(E27=R1,8,IF(F27=R1,7,IF(G27=R1,6,IF(H27=R1,5,IF(I27=R1,4,IF(J27=R1,3,0)))))))) -> 0
B28: Perf.
B29: Name
A30: B | B30: Club | K30: =IF(C30=K1,9,IF(D30=K1,7,IF(E30=K1,6,IF(F30=K1,5,IF(G30=K1,4,IF(H30=K1,3,IF(I30=K1,2,IF(J30=K1,1,0)))))))) -> 0 | L30: =IF(C30=L1,9,IF(D30=L1,7,IF(E30=L1,6,IF(F30=L1,5,IF(G30=L1,4,IF(H30=L1,3,IF(I30=L1,2,IF(J30=L1,1,0)))))))) -> 0 | M30: =IF(C30=M1,9,IF(D30=M1,7,IF(E30=M1,6,IF(F30=M1,5,IF(G30=M1,4,IF(H30=M1,3,IF(I30=M1,2,IF(J30=M1,1,0)))))))) -> 0 | N30: =IF(C30=N1,9,IF(D30=N1,7,IF(E30=N1,6,IF(F30=N1,5,IF(G30=N1,4,IF(H30=N1,3,IF(I30=N1,2,IF(J30=N1,1,0)))))))) -> 0 | O30: =IF(C30=O1,9,IF(D30=O1,7,IF(E30=O1,6,IF(F30=O1,5,IF(G30=O1,4,IF(H30=O1,3,IF(I30=O1,2,IF(J30=O1,1,0)))))))) -> 0 | P30: =IF(C30=P1,9,IF(D30=P1,7,IF(E30=P1,6,IF(F30=P1,5,IF(G30=P1,4,IF(H30=P1,3,IF(I30=P1,2,IF(J30=P1,1,0)))))))) -> 0 | Q30: =IF(C30=Q1,9,IF(D30=Q1,7,IF(E30=Q1,6,IF(F30=Q1,5,IF(G30=Q1,4,IF(H30=Q1,3,IF(I30=Q1,2,IF(J30=Q1,1,0)))))))) -> 0 | R30: =IF(C30=R1,9,IF(D30=R1,7,IF(E30=R1,6,IF(F30=R1,5,IF(G30=R1,4,IF(H30=R1,3,IF(I30=R1,2,IF(J30=R1,1,0)))))))) -> 0
B31: Perf.
B32: Name
A33: A | B33: Club | K33: =IF(C33=K1,11,IF(D33=K1,9,IF(E33=K1,8,IF(F33=K1,7,IF(G33=K1,6,IF(H33=K1,5,IF(I33=K1,4,IF(J33=K1,3,0)))))))) -> 0 | L33: =IF(C33=L1,11,IF(D33=L1,9,IF(E33=L1,8,IF(F33=L1,7,IF(G33=L1,6,IF(H33=L1,5,IF(I33=L1,4,IF(J33=L1,3,0)))))))) -> 0 | M33: =IF(C33=M1,11,IF(D33=M1,9,IF(E33=M1,8,IF(F33=M1,7,IF(G33=M1,6,IF(H33=M1,5,IF(I33=M1,4,IF(J33=M1,3,0)))))))) -> 0 | N33: =IF(C33=N1,11,IF(D33=N1,9,IF(E33=N1,8,IF(F33=N1,7,IF(G33=N1,6,IF(H33=N1,5,IF(I33=N1,4,IF(J33=N1,3,0)))))))) -> 0 | O33: =IF(C33=O1,11,IF(D33=O1,9,IF(E33=O1,8,IF(F33=O1,7,IF(G33=O1,6,IF(H33=O1,5,IF(I33=O1,4,IF(J33=O1,3,0)))))))) -> 0 | P33: =IF(C33=P1,11,IF(D33=P1,9,IF(E33=P1,8,IF(F33=P1,7,IF(G33=P1,6,IF(H33=P1,5,IF(I33=P1,4,IF(J33=P1,3,0)))))))) -> 0 | Q33: =IF(C33=Q1,11,IF(D33=Q1,9,IF(E33=Q1,8,IF(F33=Q1,7,IF(G33=Q1,6,IF(H33=Q1,5,IF(I33=Q1,4,IF(J33=Q1,3,0)))))))) -> 0 | R33: =IF(C33=R1,11,IF(D33=R1,9,IF(E33=R1,8,IF(F33=R1,7,IF(G33=R1,6,IF(H33=R1,5,IF(I33=R1,4,IF(J33=R1,3,0)))))))) -> 0
B34: Perf.
B35: Name
A36: B | B36: Club | K36: =IF(C36=K1,9,IF(D36=K1,7,IF(E36=K1,6,IF(F36=K1,5,IF(G36=K1,4,IF(H36=K1,3,IF(I36=K1,2,IF(J36=K1,1,0)))))))) -> 0 | L36: =IF(C36=L1,9,IF(D36=L1,7,IF(E36=L1,6,IF(F36=L1,5,IF(G36=L1,4,IF(H36=L1,3,IF(I36=L1,2,IF(J36=L1,1,0)))))))) -> 0 | M36: =IF(C36=M1,9,IF(D36=M1,7,IF(E36=M1,6,IF(F36=M1,5,IF(G36=M1,4,IF(H36=M1,3,IF(I36=M1,2,IF(J36=M1,1,0)))))))) -> 0 | N36: =IF(C36=N1,9,IF(D36=N1,7,IF(E36=N1,6,IF(F36=N1,5,IF(G36=N1,4,IF(H36=N1,3,IF(I36=N1,2,IF(J36=N1,1,0)))))))) -> 0 | O36: =IF(C36=O1,9,IF(D36=O1,7,IF(E36=O1,6,IF(F36=O1,5,IF(G36=O1,4,IF(H36=O1,3,IF(I36=O1,2,IF(J36=O1,1,0)))))))) -> 0 | P36: =IF(C36=P1,9,IF(D36=P1,7,IF(E36=P1,6,IF(F36=P1,5,IF(G36=P1,4,IF(H36=P1,3,IF(I36=P1,2,IF(J36=P1,1,0)))))))) -> 0 | Q36: =IF(C36=Q1,9,IF(D36=Q1,7,IF(E36=Q1,6,IF(F36=Q1,5,IF(G36=Q1,4,IF(H36=Q1,3,IF(I36=Q1,2,IF(J36=Q1,1,0)))))))) -> 0 | R36: =IF(C36=R1,9,IF(D36=R1,7,IF(E36=R1,6,IF(F36=R1,5,IF(G36=R1,4,IF(H36=R1,3,IF(I36=R1,2,IF(J36=R1,1,0)))))))) -> 0
B37: Perf.
B38: Name
A39: A | B39: Club | K39: =IF(C39=K1,11,IF(D39=K1,9,IF(E39=K1,8,IF(F39=K1,7,IF(G39=K1,6,IF(H39=K1,5,IF(I39=K1,4,IF(J39=K1,3,0)))))))) -> 0 | L39: =IF(C39=L1,11,IF(D39=L1,9,IF(E39=L1,8,IF(F39=L1,7,IF(G39=L1,6,IF(H39=L1,5,IF(I39=L1,4,IF(J39=L1,3,0)))))))) -> 0 | M39: =IF(C39=M1,11,IF(D39=M1,9,IF(E39=M1,8,IF(F39=M1,7,IF(G39=M1,6,IF(H39=M1,5,IF(I39=M1,4,IF(J39=M1,3,0)))))))) -> 0 | N39: =IF(C39=N1,11,IF(D39=N1,9,IF(E39=N1,8,IF(F39=N1,7,IF(G39=N1,6,IF(H39=N1,5,IF(I39=N1,4,IF(J39=N1,3,0)))))))) -> 0 | O39: =IF(C39=O1,11,IF(D39=O1,9,IF(E39=O1,8,IF(F39=O1,7,IF(G39=O1,6,IF(H39=O1,5,IF(I39=O1,4,IF(J39=O1,3,0)))))))) -> 0 | P39: =IF(C39=P1,11,IF(D39=P1,9,IF(E39=P1,8,IF(F39=P1,7,IF(G39=P1,6,IF(H39=P1,5,IF(I39=P1,4,IF(J39=P1,3,0)))))))) -> 0 | Q39: =IF(C39=Q1,11,IF(D39=Q1,9,IF(E39=Q1,8,IF(F39=Q1,7,IF(G39=Q1,6,IF(H39=Q1,5,IF(I39=Q1,4,IF(J39=Q1,3,0)))))))) -> 0 | R39: =IF(C39=R1,11,IF(D39=R1,9,IF(E39=R1,8,IF(F39=R1,7,IF(G39=R1,6,IF(H39=R1,5,IF(I39=R1,4,IF(J39=R1,3,0)))))))) -> 0
B40: Perf.
...

Sheet U13G
A1: Event | B1: U13G | C1: 1st = 8A/B | D1: 2nd = 7A/B | E1: 3rd = 6A/B | F1: 4th = 5A/B | G1: 5th = 4A/B | H1: 6th = 3A/B | I1: 7th = 2A/B | J1: 8th = 1A/B | K1: CAAC | L1: Elgin | M1: ES | N1: FH | O1: IH | P1: MRR | Q1: NAAC | R1: RC
A2: 100m | B2: Name | C2: Isabella Henry | D2: Rosie Milligan | E2: Katie Murray | F2: Elise Beacom | G2: Eden Wocjik
A3: A | B3: Club | C3: RC | D3: ES | E3: CAAC | F3: IH | G3: MRR | K3: 6 | L3: =IF(C3=L1,11,IF(D3=L1,9,IF(E3=L1,8,IF(F3=L1,7,IF(G3=L1,6,IF(H3=L1,5,IF(I3=L1,4,IF(J3=L1,3,0)))))))) -> 0 | M3: 7 | N3: =IF(C3=N1,11,IF(D3=N1,9,IF(E3=N1,8,IF(F3=N1,7,IF(G3=N1,6,IF(H3=N1,5,IF(I3=N1,4,IF(J3=N1,3,0)))))))) -> 0 | O3: 5 | P3: 4 | R3: 8
A4: 3.5 | B4: Perf. | C4: 14.54 | D4: 14.97 | E4: 15.38 | F4: 15.67 | G4: 15.77
A5: 100m | B5: Name | C5: Rhiannon Ebrihem | D5: Beth Urquhart | E5: Erin Sutherland | F5: Eva Ryan
A6: B | B6: Club | C6: RC | D6: MRR | E6: CAAC | F6: IH | K6: =IF(C6=K1,9,IF(D6=K1,7,IF(E6=K1,6,IF(F6=K1,5,IF(G6=K1,4,IF(H6=K1,3,IF(I6=K1,2,IF(J6=K1,1,0)))))))) -> 6 | L6: =IF(C6=L1,9,IF(D6=L1,7,IF(E6=L1,6,IF(F6=L1,5,IF(G6=L1,4,IF(H6=L1,3,IF(I6=L1,2,IF(J6=L1,1,0)))))))) -> 0 | M6: =IF(C6=M1,9,IF(D6=M1,7,IF(E6=M1,6,IF(F6=M1,5,IF(G6=M1,4,IF(H6=M1,3,IF(I6=M1,2,IF(J6=M1,1,0)))))))) -> 0 | N6: =IF(C6=N1,9,IF(D6=N1,7,IF(E6=N1,6,IF(F6=N1,5,IF(G6=N1,4,IF(H6=N1,3,IF(I6=N1,2,IF(J6=N1,1,0)))))))) -> 0 | O6: =IF(C6=O1,9,IF(D6=O1,7,IF(E6=O1,6,IF(F6=O1,5,IF(G6=O1,4,IF(H6=O1,3,IF(I6=O1,2,IF(J6=O1,1,0)))))))) -> 5 | P6: =IF(C6=P1,9,IF(D6=P1,7,IF(E6=P1,6,IF(F6=P1,5,IF(G6=P1,4,IF(H6=P1,3,IF(I6=P1,2,IF(J6=P1,1,0)))))))) -> 7 | Q6: =IF(C6=Q1,9,IF(D6=Q1,7,IF(E6=Q1,6,IF(F6=Q1,5,IF(G6=Q1,4,IF(H6=Q1,3,IF(I6=Q1,2,IF(J6=Q1,1,0)))))))) -> 0 | R6: 8
A7: 5 | B7: Perf. | C7: 14.31 | D7: 14.35 | E7: 16.61 | F7: 17.8
A8: 200m | B8: Name | C8: Rhiannon Ebrihem | D8: Katie Murray | E8: Eden Wocjik | F8: Isobel Garvie
A9: A | B9: Club | C9: RC | D9: CAAC | E9: MRR | F9: IH | K9: 7 | L9: =IF(C9=L1,11,IF(D9=L1,9,IF(E9=L1,8,IF(F9=L1,7,IF(G9=L1,6,IF(H9=L1,5,IF(I9=L1,4,IF(J9=L1,3,0)))))))) -> 0 | M9: =IF(C9=M1,11,IF(D9=M1,9,IF(E9=M1,8,IF(F9=M1,7,IF(G9=M1,6,IF(H9=M1,5,IF(I9=M1,4,IF(J9=M1,3,0)))))))) -> 0 | N9: =IF(C9=N1,11,IF(D9=N1,9,IF(E9=N1,8,IF(F9=N1,7,IF(G9=N1,6,IF(H9=N1,5,IF(I9=N1,4,IF(J9=N1,3,0)))))))) -> 0 | O9: 5 | P9: 6 | Q9: =IF(C9=Q1,11,IF(D9=Q1,9,IF(E9=Q1,8,IF(F9=Q1,7,IF(G9=Q1,6,IF(H9=Q1,5,IF(I9=Q1,4,IF(J9=Q1,3,0)))))))) -> 0 | R9: 8
A10: 1.7 | B10: Perf. | C10: 30.33 | D10: 32.04 | E10: 33.25 | F10: 34.2
A11: 200m | B11: Name | C11: Isabella Henry | D11: Elise Beacom | E11: Mackenzie Findlay | F11: Lauren Thompson
A12: B | B12: Club | C12: RC | D12: IH | E12: MRR | F12: CAAC | K12: =IF(C12=K1,9,IF(D12=K1,7,IF(E12=K1,6,IF(F12=K1,5,IF(G12=K1,4,IF(H12=K1,3,IF(I12=K1,2,IF(J12=K1,1,0)))))))) -> 5 | L12: =IF(C12=L1,9,IF(D12=L1,7,IF(E12=L1,6,IF(F12=L1,5,IF(G12=L1,4,IF(H12=L1,3,IF(I12=L1,2,IF(J12=L1,1,0)))))))) -> 0 | M12: =IF(C12=M1,9,IF(D12=M1,7,IF(E12=M1,6,IF(F12=M1,5,IF(G12=M1,4,IF(H12=M1,3,IF(I12=M1,2,IF(J12=M1,1,0)))))))) -> 0 | N12: =IF(C12=N1,9,IF(D12=N1,7,IF(E12=N1,6,IF(F12=N1,5,IF(G12=N1,4,IF(H12=N1,3,IF(I12=N1,2,IF(J12=N1,1,0)))))))) -> 0 | O12: =IF(C12=O1,9,IF(D12=O1,7,IF(E12=O1,6,IF(F12=O1,5,IF(G12=O1,4,IF(H12=O1,3,IF(I12=O1,2,IF(J12=O1,1,0)))))))) -> 7 | P12: =IF(C12=P1,9,IF(D12=P1,7,IF(E12=P1,6,IF(F12=P1,5,IF(G12=P1,4,IF(H12=P1,3,IF(I12=P1,2,IF(J12=P1,1,0)))))))) -> 6 | Q12: =IF(C12=Q1,9,IF(D12=Q1,7,IF(E12=Q1,6,IF(F12=Q1,5,IF(G12=Q1,4,IF(H12=Q1,3,IF(I12=Q1,2,IF(J12=Q1,1,0)))))))) -> 0 | R12: 8
A13: 2.6 | B13: Perf. | C13: 30.76 | D13: 32.46 | E13: 33.84 | F13: 39.59
A14: 1500m | B14: Name | C14: Beth Urquhart | D14: Kirsten Burnett | E14: Rosie Milligan | F14: Morag Lynch
A15: A | B15: Club | C15: MRR | D15: IH | E15: ES | F15: RC | K15: =IF(C15=K1,11,IF(D15=K1,9,IF(E15=K1,8,IF(F15=K1,7,IF(G15=K1,6,IF(H15=K1,5,IF(I15=K1,4,IF(J15=K1,3,0)))))))) -> 0 | L15: =IF(C15=L1,11,IF(D15=L1,9,IF(E15=L1,8,IF(F15=L1,7,IF(G15=L1,6,IF(H15=L1,5,IF(I15=L1,4,IF(J15=L1,3,0)))))))) -> 0 | M15: 6 | N15: =IF(C15=N1,11,IF(D15=N1,9,IF(E15=N1,8,IF(F15=N1,7,IF(G15=N1,6,IF(H15=N1,5,IF(I15=N1,4,IF(J15=N1,3,0)))))))) -> 0 | O15: 7 | P15: 8 | Q15: =IF(C15=Q1,11,IF(D15=Q1,9,IF(E15=Q1,8,IF(F15=Q1,7,IF(G15=Q1,6,IF(H15=Q1,5,IF(I15=Q1,4,IF(J15=Q1,3,0)))))))) -> 0 | R15: 5
B16: Perf. | C16: 5.28.25 | D16: 5.31.40 | E16: 5.39.70 | F16: 6.11.49
A17: 1500m | B17: Name | C17: Isobel Garvie | D17: Mackenzie Findlay | E17: Emily Bell
A18: B | B18: Club | C18: IH | D18: MRR | E18: RC | K18: =IF(C18=K1,9,IF(D18=K1,7,IF(E18=K1,6,IF(F18=K1,5,IF(G18=K1,4,IF(H18=K1,3,IF(I18=K1,2,IF(J18=K1,1,0)))))))) -> 0 | L18: =IF(C18=L1,9,IF(D18=L1,7,IF(E18=L1,6,IF(F18=L1,5,IF(G18=L1,4,IF(H18=L1,3,IF(I18=L1,2,IF(J18=L1,1,0)))))))) -> 0 | M18: =IF(C18=M1,9,IF(D18=M1,7,IF(E18=M1,6,IF(F18=M1,5,IF(G18=M1,4,IF(H18=M1,3,IF(I18=M1,2,IF(J18=M1,1,0)))))))) -> 0 | N18: =IF(C18=N1,9,IF(D18=N1,7,IF(E18=N1,6,IF(F18=N1,5,IF(G18=N1,4,IF(H18=N1,3,IF(I18=N1,2,IF(J18=N1,1,0)))))))) -> 0 | O18: 8 | P18: =IF(C18=P1,9,IF(D18=P1,7,IF(E18=P1,6,IF(F18=P1,5,IF(G18=P1,4,IF(H18=P1,3,IF(I18=P1,2,IF(J18=P1,1,0)))))))) -> 7 | Q18: =IF(C18=Q1,9,IF(D18=Q1,7,IF(E18=Q1,6,IF(F18=Q1,5,IF(G18=Q1,4,IF(H18=Q1,3,IF(I18=Q1,2,IF(J18=Q1,1,0)))))))) -> 0 | R18: =IF(C18=R1,9,IF(D18=R1,7,IF(E18=R1,6,IF(F18=R1,5,IF(G18=R1,4,IF(H18=R1,3,IF(I18=R1,2,IF(J18=R1,1,0)))))))) -> 6
B19: Perf. | C19: 5.39.57 | D19: 6.01.81 | E19: 6.15.28
A20: H Jump | B20: Name | C20: Stroma Fraser | D20: Rosie Milligan | E20: Femke Waite | F20: Katie Murray
A21: A | B21: Club | C21: IH | D21: ES | E21: RC | F21: CAAC | K21: 6 | L21: =IF(C21=L1,11,IF(D21=L1,9,IF(E21=L1,8,IF(F21=L1,7,IF(G21=L1,6,IF(H21=L1,5,IF(I21=L1,4,IF(J21=L1,3,0)))))))) -> 0 | M21: 7 | N21: =IF(C21=N1,11,IF(D21=N1,9,IF(E21=N1,8,IF(F21=N1,7,IF(G21=N1,6,IF(H21=N1,5,IF(I21=N1,4,IF(J21=N1,3,0)))))))) -> 0 | O21: 8 | P21: =IF(C21=P1,11,IF(D21=P1,9,IF(E21=P1,8,IF(F21=P1,7,IF(G21=P1,6,IF(H21=P1,5,IF(I21=P1,4,IF(J21=P1,3,0)))))))) -> 0 | Q21: =IF(C21=Q1,11,IF(D21=Q1,9,IF(E21=Q1,8,IF(F21=Q1,7,IF(G21=Q1,6,IF(H21=Q1,5,IF(I21=Q1,4,IF(J21=Q1,3,0)))))))) -> 0 | R21: 6
B22: Perf. | C22: 1.42 | D22: 1.28 | E22: 3= 1.10 | F22: 3= 1.10
A23: H Jump | B23: Name | C23: Grace MacDonald | D23: Ruby Wittka Jezewski
A24: B | B24: Club | C24: IH | D24: RC | K24: =IF(C24=K1,9,IF(D24=K1,7,IF(E24=K1,6,IF(F24=K1,5,IF(G24=K1,4,IF(H24=K1,3,IF(I24=K1,2,IF(J24=K1,1,0)))))))) -> 0 | L24: =IF(C24=L1,9,IF(D24=L1,7,IF(E24=L1,6,IF(F24=L1,5,IF(G24=L1,4,IF(H24=L1,3,IF(I24=L1,2,IF(J24=L1,1,0)))))))) -> 0 | M24: =IF(C24=M1,9,IF(D24=M1,7,IF(E24=M1,6,IF(F24=M1,5,IF(G24=M1,4,IF(H24=M1,3,IF(I24=M1,2,IF(J24=M1,1,0)))))))) -> 0 | N24: =IF(C24=N1,9,IF(D24=N1,7,IF(E24=N1,6,IF(F24=N1,5,IF(G24=N1,4,IF(H24=N1,3,IF(I24=N1,2,IF(J24=N1,1,0)))))))) -> 0 | O24: 8 | P24: =IF(C24=P1,9,IF(D24=P1,7,IF(E24=P1,6,IF(F24=P1,5,IF(G24=P1,4,IF(H24=P1,3,IF(I24=P1,2,IF(J24=P1,1,0)))))))) -> 0 | Q24: =IF(C24=Q1,9,IF(D24=Q1,7,IF(E24=Q1,6,IF(F24=Q1,5,IF(G24=Q1,4,IF(H24=Q1,3,IF(I24=Q1,2,IF(J24=Q1,1,0)))))))) -> 0 | R24: =IF(C24=R1,9,IF(D24=R1,7,IF(E24=R1,6,IF(F24=R1,5,IF(G24=R1,4,IF(H24=R1,3,IF(I24=R1,2,IF(J24=R1,1,0)))))))) -> 7
B25: Perf. | C25: 1.25 | D25: 1.10
A26: S Putt | B26: Name | C26: Stroma Fraser | D26: Femke Waite | E26: Erin Sutherland | F26: Mackenzie Findlay
A27: A | B27: Club | C27: IH | D27: RC | E27: CAAC | F27: MRR | K27: 6 | L27: =IF(C27=L1,11,IF(D27=L1,9,IF(E27=L1,8,IF(F27=L1,7,IF(G27=L1,6,IF(H27=L1,5,IF(I27=L1,4,IF(J27=L1,3,0)))))))) -> 0 | M27: =IF(C27=M1,11,IF(D27=M1,9,IF(E27=M1,8,IF(F27=M1,7,IF(G27=M1,6,IF(H27=M1,5,IF(I27=M1,4,IF(J27=M1,3,0)))))))) -> 0 | N27: =IF(C27=N1,11,IF(D27=N1,9,IF(E27=N1,8,IF(F27=N1,7,IF(G27=N1,6,IF(H27=N1,5,IF(I27=N1,4,IF(J27=N1,3,0)))))))) -> 0 | O27: 8 | P27: 5 | Q27: =IF(C27=Q1,11,IF(D27=Q1,9,IF(E27=Q1,8,IF(F27=Q1,7,IF(G27=Q1,6,IF(H27=Q1,5,IF(I27=Q1,4,IF(J27=Q1,3,0)))))))) -> 0 | R27: 7
B28: Perf. | C28: 8.03 | D28: 6.74 | E28: 5.38 | F28: 3.70
A29: S Putt | B29: Name | C29: Caitlyn Heggie | D29: Isla Marwick
A30: B | B30: Club | C30: RC | D30: IH | K30: =IF(C30=K1,9,IF(D30=K1,7,IF(E30=K1,6,IF(F30=K1,5,IF(G30=K1,4,IF(H30=K1,3,IF(I30=K1,2,IF(J30=K1,1,0)))))))) -> 0 | L30: =IF(C30=L1,9,IF(D30=L1,7,IF(E30=L1,6,IF(F30=L1,5,IF(G30=L1,4,IF(H30=L1,3,IF(I30=L1,2,IF(J30=L1,1,0)))))))) -> 0 | M30: =IF(C30=M1,9,IF(D30=M1,7,IF(E30=M1,6,IF(F30=M1,5,IF(G30=M1,4,IF(H30=M1,3,IF(I30=M1,2,IF(J30=M1,1,0)))))))) -> 0 | N30: =IF(C30=N1,9,IF(D30=N1,7,IF(E30=N1,6,IF(F30=N1,5,IF(G30=N1,4,IF(H30=N1,3,IF(I30=N1,2,IF(J30=N1,1,0)))))))) -> 0 | O30: =IF(C30=O1,9,IF(D30=O1,7,IF(E30=O1,6,IF(F30=O1,5,IF(G30=O1,4,IF(H30=O1,3,IF(I30=O1,2,IF(J30=O1,1,0)))))))) -> 7 | P30: =IF(C30=P1,9,IF(D30=P1,7,IF(E30=P1,6,IF(F30=P1,5,IF(G30=P1,4,IF(H30=P1,3,IF(I30=P1,2,IF(J30=P1,1,0)))))))) -> 0 | Q30: =IF(C30=Q1,9,IF(D30=Q1,7,IF(E30=Q1,6,IF(F30=Q1,5,IF(G30=Q1,4,IF(H30=Q1,3,IF(I30=Q1,2,IF(J30=Q1,1,0)))))))) -> 0 | R30: 8
B31: Perf. | C31: 6.27 | D31: 5.15
B32: Name
A33: A | B33: Club | K33: =IF(C33=K1,11,IF(D33=K1,9,IF(E33=K1,8,IF(F33=K1,7,IF(G33=K1,6,IF(H33=K1,5,IF(I33=K1,4,IF(J33=K1,3,0)))))))) -> 0 | L33: =IF(C33=L1,11,IF(D33=L1,9,IF(E33=L1,8,IF(F33=L1,7,IF(G33=L1,6,IF(H33=L1,5,IF(I33=L1,4,IF(J33=L1,3,0)))))))) -> 0 | M33: =IF(C33=M1,11,IF(D33=M1,9,IF(E33=M1,8,IF(F33=M1,7,IF(G33=M1,6,IF(H33=M1,5,IF(I33=M1,4,IF(J33=M1,3,0)))))))) -> 0 | N33: =IF(C33=N1,11,IF(D33=N1,9,IF(E33=N1,8,IF(F33=N1,7,IF(G33=N1,6,IF(H33=N1,5,IF(I33=N1,4,IF(J33=N1,3,0)))))))) -> 0 | O33: =IF(C33=O1,11,IF(D33=O1,9,IF(E33=O1,8,IF(F33=O1,7,IF(G33=O1,6,IF(H33=O1,5,IF(I33=O1,4,IF(J33=O1,3,0)))))))) -> 0 | P33: =IF(C33=P1,11,IF(D33=P1,9,IF(E33=P1,8,IF(F33=P1,7,IF(G33=P1,6,IF(H33=P1,5,IF(I33=P1,4,IF(J33=P1,3,0)))))))) -> 0 | Q33: =IF(C33=Q1,11,IF(D33=Q1,9,IF(E33=Q1,8,IF(F33=Q1,7,IF(G33=Q1,6,IF(H33=Q1,5,IF(I33=Q1,4,IF(J33=Q1,3,0)))))))) -> 0 | R33: =IF(C33=R1,11,IF(D33=R1,9,IF(E33=R1,8,IF(F33=R1,7,IF(G33=R1,6,IF(H33=R1,5,IF(I33=R1,4,IF(J33=R1,3,0)))))))) -> 0
B34: Perf.
B35: Name
A36: B | B36: Club | K36: =IF(C36=K1,9,IF(D36=K1,7,IF(E36=K1,6,IF(F36=K1,5,IF(G36=K1,4,IF(H36=K1,3,IF(I36=K1,2,IF(J36=K1,1,0)))))))) -> 0 | L36: =IF(C36=L1,9,IF(D36=L1,7,IF(E36=L1,6,IF(F36=L1,5,IF(G36=L1,4,IF(H36=L1,3,IF(I36=L1,2,IF(J36=L1,1,0)))))))) -> 0 | M36: =IF(C36=M1,9,IF(D36=M1,7,IF(E36=M1,6,IF(F36=M1,5,IF(G36=M1,4,IF(H36=M1,3,IF(I36=M1,2,IF(J36=M1,1,0)))))))) -> 0 | N36: =IF(C36=N1,9,IF(D36=N1,7,IF(E36=N1,6,IF(F36=N1,5,IF(G36=N1,4,IF(H36=N1,3,IF(I36=N1,2,IF(J36=N1,1,0)))))))) -> 0 | O36: =IF(C36=O1,9,IF(D36=O1,7,IF(E36=O1,6,IF(F36=O1,5,IF(G36=O1,4,IF(H36=O1,3,IF(I36=O1,2,IF(J36=O1,1,0)))))))) -> 0 | P36: =IF(C36=P1,9,IF(D36=P1,7,IF(E36=P1,6,IF(F36=P1,5,IF(G36=P1,4,IF(H36=P1,3,IF(I36=P1,2,IF(J36=P1,1,0)))))))) -> 0 | Q36: =IF(C36=Q1,9,IF(D36=Q1,7,IF(E36=Q1,6,IF(F36=Q1,5,IF(G36=Q1,4,IF(H36=Q1,3,IF(I36=Q1,2,IF(J36=Q1,1,0)))))))) -> 0 | R36: =IF(C36=R1,9,IF(D36=R1,7,IF(E36=R1,6,IF(F36=R1,5,IF(G36=R1,4,IF(H36=R1,3,IF(I36=R1,2,IF(J36=R1,1,0)))))))) -> 0
B37: Perf.
B38: Name
A39: A | B39: Club | K39: =IF(C39=K1,11,IF(D39=K1,9,IF(E39=K1,8,IF(F39=K1,7,IF(G39=K1,6,IF(H39=K1,5,IF(I39=K1,4,IF(J39=K1,3,0)))))))) -> 0 | L39: =IF(C39=L1,11,IF(D39=L1,9,IF(E39=L1,8,IF(F39=L1,7,IF(G39=L1,6,IF(H39=L1,5,IF(I39=L1,4,IF(J39=L1,3,0)))))))) -> 0 | M39: =IF(C39=M1,11,IF(D39=M1,9,IF(E39=M1,8,IF(F39=M1,7,IF(G39=M1,6,IF(H39=M1,5,IF(I39=M1,4,IF(J39=M1,3,0)))))))) -> 0 | N39: =IF(C39=N1,11,IF(D39=N1,9,IF(E39=N1,8,IF(F39=N1,7,IF(G39=N1,6,IF(H39=N1,5,IF(I39=N1,4,IF(J39=N1,3,0)))))))) -> 0 | O39: =IF(C39=O1,11,IF(D39=O1,9,IF(E39=O1,8,IF(F39=O1,7,IF(G39=O1,6,IF(H39=O1,5,IF(I39=O1,4,IF(J39=O1,3,0)))))))) -> 0 | P39: =IF(C39=P1,11,IF(D39=P1,9,IF(E39=P1,8,IF(F39=P1,7,IF(G39=P1,6,IF(H39=P1,5,IF(I39=P1,4,IF(J39=P1,3,0)))))))) -> 0 | Q39: =IF(C39=Q1,11,IF(D39=Q1,9,IF(E39=Q1,8,IF(F39=Q1,7,IF(G39=Q1,6,IF(H39=Q1,5,IF(I39=Q1,4,IF(J39=Q1,3,0)))))))) -> 0 | R39: =IF(C39=R1,11,IF(D39=R1,9,IF(E39=R1,8,IF(F39=R1,7,IF(G39=R1,6,IF(H39=R1,5,IF(I39=R1,4,IF(J39=R1,3,0)))))))) -> 0
B40: Perf.
...

Sheet U15G
A1: Event | B1: U15G | C1: 1st = 8A/B | D1: 2nd = 7A/B | E1: 3rd = 6A/B | F1: 4th = 5A/B | G1: 5th = 4A/B | H1: 6th = 3A/B | I1: 7th = 2A/B | J1: 8th = 1A/B | K1: CAAC | L1: Elgin | M1: ES | N1: FH | O1: IH | P1: MRR | Q1: NAAC | R1: RC
A2: 100m | B2: Name | C2: Tamsin Fowlie | D2: Molly Jamieson | E2: Ellie Mackintosh | F2: Megan McKay | G2: Annabel Gillanders | H2: Amy Llyod
A3: A | B3: Club | C3: Elgin | D3: IH | E3: RC | F3: MRR | G3: NAAC | H3: CAAC | K3: 3 | L3: 8 | M3: =IF(C3=M1,11,IF(D3=M1,9,IF(E3=M1,8,IF(F3=M1,7,IF(G3=M1,6,IF(H3=M1,5,IF(I3=M1,4,IF(J3=M1,3,0)))))))) -> 0 | N3: =IF(C3=N1,11,IF(D3=N1,9,IF(E3=N1,8,IF(F3=N1,7,IF(G3=N1,6,IF(H3=N1,5,IF(I3=N1,4,IF(J3=N1,3,0)))))))) -> 0 | O3: 7 | P3: 5 | Q3: 4 | R3: 6
A4: 3.3 | B4: Perf. | C4: 12.7 | D4: 13.75 | E4: 14.33 | F4: 14.85 | G4: 15.18 | H4: 15.31
A5: 100m | B5: Name | C5: Kirsten Bowie | D5: Abbie Harrison | E5: Morven Mackenzie | F5: Niamh Grant | G5: Elle Stewart | H5: Chloe McEwan
A6: B | B6: Club | C6: Elgin | D6: IH | E6: CAAC | F6: MRR | G6: RC | H6: NAAC | K6: =IF(C6=K1,9,IF(D6=K1,7,IF(E6=K1,6,IF(F6=K1,5,IF(G6=K1,4,IF(H6=K1,3,IF(I6=K1,2,IF(J6=K1,1,0)))))))) -> 6 | L6: 8 | M6: =IF(C6=M1,9,IF(D6=M1,7,IF(E6=M1,6,IF(F6=M1,5,IF(G6=M1,4,IF(H6=M1,3,IF(I6=M1,2,IF(J6=M1,1,0)))))))) -> 0 | N6: =IF(C6=N1,9,IF(D6=N1,7,IF(E6=N1,6,IF(F6=N1,5,IF(G6=N1,4,IF(H6=N1,3,IF(I6=N1,2,IF(J6=N1,1,0)))))))) -> 0 | O6: =IF(C6=O1,9,IF(D6=O1,7,IF(E6=O1,6,IF(F6=O1,5,IF(G6=O1,4,IF(H6=O1,3,IF(I6=O1,2,IF(J6=O1,1,0)))))))) -> 7 | P6: =IF(C6=P1,9,IF(D6=P1,7,IF(E6=P1,6,IF(F6=P1,5,IF(G6=P1,4,IF(H6=P1,3,IF(I6=P1,2,IF(J6=P1,1,0)))))))) -> 5 | Q6: =IF(C6=Q1,9,IF(D6=Q1,7,IF(E6=Q1,6,IF(F6=Q1,5,IF(G6=Q1,4,IF(H6=Q1,3,IF(I6=Q1,2,IF(J6=Q1,1,0)))))))) -> 3 | R6: =IF(C6=R1,9,IF(D6=R1,7,IF(E6=R1,6,IF(F6=R1,5,IF(G6=R1,4,IF(H6=R1,3,IF(I6=R1,2,IF(J6=R1,1,0)))))))) -> 4
A7: 3.3 | B7: Perf. | C7: 13.24 | D7: 14.03 | E7: 14.72 | F7: 14.83 | G7: 15.09 | H7: 15.95
A8: 300m | B8: Name | C8: Tamsin Fowlie | D8: Kirsty Arnaud | E8: Sophie Bath | F8: Morven Mackenzie | G8: Megan McKay | H8: Morag Hickey | I8: Sophie McEwan
A9: A | B9: Club | C9: Elgin | D9: IH | E9: ES | F9: CAAC | G9: MRR | H9: RC | I9: NAAC | K9: 5 | L9: 8 | M9: 6 | N9: =IF(C9=N1,11,IF(D9=N1,9,IF(E9=N1,8,IF(F9=N1,7,IF(G9=N1,6,IF(H9=N1,5,IF(I9=N1,4,IF(J9=N1,3,0)))))))) -> 0 | O9: 7 | P9: 4 | Q9: 2 | R9: 3
B10: Perf. | C10: 42.16 | D10: 44.93 | E10: 47.36 | F10: 51.23 | G10: 52.14 | H10: 52.8 | I10: 54.81
A11: 300m | B11: Name | C11: Kirsten Bowie | D11: Evie MacLeod | E11: Annabel Gillanders | F11: Amy Llyod | G11: Harriet Whelan
A12: B | B12: Club | C12: Elgin | D12: IH | E12: NAAC | F12: CAAC | G12: MRR | K12: =IF(C12=K1,9,IF(D12=K1,7,IF(E12=K1,6,IF(F12=K1,5,IF(G12=K1,4,IF(H12=K1,3,IF(I12=K1,2,IF(J12=K1,1,0)))))))) -> 5 | L12: 8 | M12: =IF(C12=M1,9,IF(D12=M1,7,IF(E12=M1,6,IF(F12=M1,5,IF(G12=M1,4,IF(H12=M1,3,IF(I12=M1,2,IF(J12=M1,1,0)))))))) -> 0 | N12: =IF(C12=N1,9,IF(D12=N1,7,IF(E12=N1,6,IF(F12=N1,5,IF(G12=N1,4,IF(H12=N1,3,IF(I12=N1,2,IF(J12=N1,1,0)))))))) -> 0 | O12: =IF(C12=O1,9,IF(D12=O1,7,IF(E12=O1,6,IF(F12=O1,5,IF(G12=O1,4,IF(H12=O1,3,IF(I12=O1,2,IF(J12=O1,1,0)))))))) -> 7 | P12: =IF(C12=P1,9,IF(D12=P1,7,IF(E12=P1,6,IF(F12=P1,5,IF(G12=P1,4,IF(H12=P1,3,IF(I12=P1,2,IF(J12=P1,1,0)))))))) -> 4 | Q12: =IF(C12=Q1,9,IF(D12=Q1,7,IF(E12=Q1,6,IF(F12=Q1,5,IF(G12=Q1,4,IF(H12=Q1,3,IF(I12=Q1,2,IF(J12=Q1,1,0)))))))) -> 6 | R12: =IF(C12=R1,9,IF(D12=R1,7,IF(E12=R1,6,IF(F12=R1,5,IF(G12=R1,4,IF(H12=R1,3,IF(I12=R1,2,IF(J12=R1,1,0)))))))) -> 0
B13: Perf. | C13: 45.61 | D13: 49.1 | E13: 51.65 | F13: 54.59 | G13: 55.73
A14: 1500m | B14: Name | C14: Kirsty Arnaud | D14: Alyth Gollan | E14: Morag Hickey | F14: Harriet Whelan | G14: Kaylee Main
A15: A | B15: Club | C15: IH | D15: ES | E15: RC | F15: MRR | G15: NAAC | K15: =IF(C15=K1,11,IF(D15=K1,9,IF(E15=K1,8,IF(F15=K1,7,IF(G15=K1,6,IF(H15=K1,5,IF(I15=K1,4,IF(J15=K1,3,0)))))))) -> 0 | L15: =IF(C15=L1,11,IF(D15=L1,9,IF(E15=L1,8,IF(F15=L1,7,IF(G15=L1,6,IF(H15=L1,5,IF(I15=L1,4,IF(J15=L1,3,0)))))))) -> 0 | M15: 7 | N15: =IF(C15=N1,11,IF(D15=N1,9,IF(E15=N1,8,IF(F15=N1,7,IF(G15=N1,6,IF(H15=N1,5,IF(I15=N1,4,IF(J15=N1,3,0)))))))) -> 0 | O15: 8 | P15: 5 | Q15: 4 | R15: 6
B16: Perf. | C16: 5.09.13 | D16: 5.11.01 | E16: 5.53.23 | F16: 5.57.05 | G16: 6.30.41
A17: 1500m | B17: Name | C17: Ava Walsh | D17: Sophie McEwan
A18: B | B18: Club | C18: IH | D18: NAAC | K18: =IF(C18=K1,9,IF(D18=K1,7,IF(E18=K1,6,IF(F18=K1,5,IF(G18=K1,4,IF(H18=K1,3,IF(I18=K1,2,IF(J18=K1,1,0)))))))) -> 0 | L18: =IF(C18=L1,9,IF(D18=L1,7,IF(E18=L1,6,IF(F18=L1,5,IF(G18=L1,4,IF(H18=L1,3,IF(I18=L1,2,IF(J18=L1,1,0)))))))) -> 0 | M18: =IF(C18=M1,9,IF(D18=M1,7,IF(E18=M1,6,IF(F18=M1,5,IF(G18=M1,4,IF(H18=M1,3,IF(I18=M1,2,IF(J18=M1,1,0)))))))) -> 0 | N18: =IF(C18=N1,9,IF(D18=N1,7,IF(E18=N1,6,IF(F18=N1,5,IF(G18=N1,4,IF(H18=N1,3,IF(I18=N1,2,IF(J18=N1,1,0)))))))) -> 0 | O18: 8 | P18: =IF(C18=P1,9,IF(D18=P1,7,IF(E18=P1,6,IF(F18=P1,5,IF(G18=P1,4,IF(H18=P1,3,IF(I18=P1,2,IF(J18=P1,1,0)))))))) -> 0 | Q18: =IF(C18=Q1,9,IF(D18=Q1,7,IF(E18=Q1,6,IF(F18=Q1,5,IF(G18=Q1,4,IF(H18=Q1,3,IF(I18=Q1,2,IF(J18=Q1,1,0)))))))) -> 7 | R18: =IF(C18=R1,9,IF(D18=R1,7,IF(E18=R1,6,IF(F18=R1,5,IF(G18=R1,4,IF(H18=R1,3,IF(I18=R1,2,IF(J18=R1,1,0)))))))) -> 0
B19: Perf. | C19: 5.29.23 | D19: 6.42.84
A20: L Jump | B20: Name | C20: Tamsin Fowlie | D20: Ellie Mackintosh | E20: Niamh Grant | F20: Amy Llyod | G20: Ruth Wilson | H20: Annabel Gillanders
A21: A | B21: Club | C21: Elgin | D21: RC | E21: MRR | F21: CAAC | G21: IH | H21: NAAC | K21: 5 | L21: 8 | M21: =IF(C21=M1,11,IF(D21=M1,9,IF(E21=M1,8,IF(F21=M1,7,IF(G21=M1,6,IF(H21=M1,5,IF(I21=M1,4,IF(J21=M1,3,0)))))))) -> 0 | N21: =IF(C21=N1,11,IF(D21=N1,9,IF(E21=N1,8,IF(F21=N1,7,IF(G21=N1,6,IF(H21=N1,5,IF(I21=N1,4,IF(J21=N1,3,0)))))))) -> 0 | O21: 4 | P21: 6 | Q21: 3 | R21: 7
B22: Perf. | C22: 4.39 | D22: 4.20 | E22: 4.04 | F22: 3.59 | G22: 3.39 | H22: 3.09
A23: L Jump | B23: Name | C23: Kirsten Bowie | D23: Megan McKay | E23: Elle Stewart | F23: Erin Macintosh | G23: Kaylee Main
A24: B | B24: Club | C24: Elgin | D24: MRR | E24: RC | F24: CAAC | G24: NAAC | K24: =IF(C24=K1,9,IF(D24=K1,7,IF(E24=K1,6,IF(F24=K1,5,IF(G24=K1,4,IF(H24=K1,3,IF(I24=K1,2,IF(J24=K1,1,0)))))))) -> 5 | L24: 8 | M24: =IF(C24=M1,9,IF(D24=M1,7,IF(E24=M1,6,IF(F24=M1,5,IF(G24=M1,4,IF(H24=M1,3,IF(I24=M1,2,IF(J24=M1,1,0)))))))) -> 0 | N24: =IF(C24=N1,9,IF(D24=N1,7,IF(E24=N1,6,IF(F24=N1,5,IF(G24=N1,4,IF(H24=N1,3,IF(I24=N1,2,IF(J24=N1,1,0)))))))) -> 0 | O24: =IF(C24=O1,9,IF(D24=O1,7,IF(E24=O1,6,IF(F24=O1,5,IF(G24=O1,4,IF(H24=O1,3,IF(I24=O1,2,IF(J24=O1,1,0)))))))) -> 0 | P24: =IF(C24=P1,9,IF(D24=P1,7,IF(E24=P1,6,IF(F24=P1,5,IF(G24=P1,4,IF(H24=P1,3,IF(I24=P1,2,IF(J24=P1,1,0)))))))) -> 7 | Q24: =IF(C24=Q1,9,IF(D24=Q1,7,IF(E24=Q1,6,IF(F24=Q1,5,IF(G24=Q1,4,IF(H24=Q1,3,IF(I24=Q1,2,IF(J24=Q1,1,0)))))))) -> 4 | R24: =IF(C24=R1,9,IF(D24=R1,7,IF(E24=R1,6,IF(F24=R1,5,IF(G24=R1,4,IF(H24=R1,3,IF(I24=R1,2,IF(J24=R1,1,0)))))))) -> 6
B25: Perf. | C25: 4.29 | D25: 3.84 | E25: 3.59 | F25: 3.28 | G25: 3.07
A26: Javelin | B26: Name | C26: Melissa Mack | D26: Kirsten Leeper | E26: Niamh Grant | F26: Erin Macintosh | G26: Kaylee Main
A27: A | B27: Club | C27: IH | D27: RC | E27: MRR | F27: CAAC | G27: NAAC | K27: 5 | L27: =IF(C27=L1,11,IF(D27=L1,9,IF(E27=L1,8,IF(F27=L1,7,IF(G27=L1,6,IF(H27=L1,5,IF(I27=L1,4,IF(J27=L1,3,0)))))))) -> 0 | M27: =IF(C27=M1,11,IF(D27=M1,9,IF(E27=M1,8,IF(F27=M1,7,IF(G27=M1,6,IF(H27=M1,5,IF(I27=M1,4,IF(J27=M1,3,0)))))))) -> 0 | N27: =IF(C27=N1,11,IF(D27=N1,9,IF(E27=N1,8,IF(F27=N1,7,IF(G27=N1,6,IF(H27=N1,5,IF(I27=N1,4,IF(J27=N1,3,0)))))))) -> 0 | O27: 8 | P27: 6 | Q27: 4 | R27: 7
B28: Perf. | C28: 18.50 | D28: 17.02 | E28: 15.41 | F28: 11.93 | G28: 11.55
A29: Javelin | B29: Name | C29: Harriet Whelan | D29: Ava Walsh | E29: Morven Mackenzie | F29: Sophie McEwan
A30: B | B30: Club | C30: MRR | D30: IH | E30: CAAC | F30: NAAC | K30: =IF(C30=K1,9,IF(D30=K1,7,IF(E30=K1,6,IF(F30=K1,5,IF(G30=K1,4,IF(H30=K1,3,IF(I30=K1,2,IF(J30=K1,1,0)))))))) -> 6 | L30: =IF(C30=L1,9,IF(D30=L1,7,IF(E30=L1,6,IF(F30=L1,5,IF(G30=L1,4,IF(H30=L1,3,IF(I30=L1,2,IF(J30=L1,1,0)))))))) -> 0 | M30: =IF(C30=M1,9,IF(D30=M1,7,IF(E30=M1,6,IF(F30=M1,5,IF(G30=M1,4,IF(H30=M1,3,IF(I30=M1,2,IF(J30=M1,1,0)))))))) -> 0 | N30: =IF(C30=N1,9,IF(D30=N1,7,IF(E30=N1,6,IF(F30=N1,5,IF(G30=N1,4,IF(H30=N1,3,IF(I30=N1,2,IF(J30=N1,1,0)))))))) -> 0 | O30: =IF(C30=O1,9,IF(D30=O1,7,IF(E30=O1,6,IF(F30=O1,5,IF(G30=O1,4,IF(H30=O1,3,IF(I30=O1,2,IF(J30=O1,1,0)))))))) -> 7 | P30: 8 | Q30: =IF(C30=Q1,9,IF(D30=Q1,7,IF(E30=Q1,6,IF(F30=Q1,5,IF(G30=Q1,4,IF(H30=Q1,3,IF(I30=Q1,2,IF(J30=Q1,1,0)))))))) -> 5 | R30: =IF(C30=R1,9,IF(D30=R1,7,IF(E30=R1,6,IF(F30=R1,5,IF(G30=R1,4,IF(H30=R1,3,IF(I30=R1,2,IF(J30=R1,1,0)))))))) -> 0
B31: Perf. | C31: 11.37 | D31: 11.32 | E31: 9.27 | F31: 8.05
B32: Name
A33: A | B33: Club | K33: =IF(C33=K1,11,IF(D33=K1,9,IF(E33=K1,8,IF(F33=K1,7,IF(G33=K1,6,IF(H33=K1,5,IF(I33=K1,4,IF(J33=K1,3,0)))))))) -> 0 | L33: =IF(C33=L1,11,IF(D33=L1,9,IF(E33=L1,8,IF(F33=L1,7,IF(G33=L1,6,IF(H33=L1,5,IF(I33=L1,4,IF(J33=L1,3,0)))))))) -> 0 | M33: =IF(C33=M1,11,IF(D33=M1,9,IF(E33=M1,8,IF(F33=M1,7,IF(G33=M1,6,IF(H33=M1,5,IF(I33=M1,4,IF(J33=M1,3,0)))))))) -> 0 | N33: =IF(C33=N1,11,IF(D33=N1,9,IF(E33=N1,8,IF(F33=N1,7,IF(G33=N1,6,IF(H33=N1,5,IF(I33=N1,4,IF(J33=N1,3,0)))))))) -> 0 | O33: =IF(C33=O1,11,IF(D33=O1,9,IF(E33=O1,8,IF(F33=O1,7,IF(G33=O1,6,IF(H33=O1,5,IF(I33=O1,4,IF(J33=O1,3,0)))))))) -> 0 | P33: =IF(C33=P1,11,IF(D33=P1,9,IF(E33=P1,8,IF(F33=P1,7,IF(G33=P1,6,IF(H33=P1,5,IF(I33=P1,4,IF(J33=P1,3,0)))))))) -> 0 | Q33: =IF(C33=Q1,11,IF(D33=Q1,9,IF(E33=Q1,8,IF(F33=Q1,7,IF(G33=Q1,6,IF(H33=Q1,5,IF(I33=Q1,4,IF(J33=Q1,3,0)))))))) -> 0 | R33: =IF(C33=R1,11,IF(D33=R1,9,IF(E33=R1,8,IF(F33=R1,7,IF(G33=R1,6,IF(H33=R1,5,IF(I33=R1,4,IF(J33=R1,3,0)))))))) -> 0
B34: Perf.
B35: Name
A36: B | B36: Club | K36: =IF(C36=K1,9,IF(D36=K1,7,IF(E36=K1,6,IF(F36=K1,5,IF(G36=K1,4,IF(H36=K1,3,IF(I36=K1,2,IF(J36=K1,1,0)))))))) -> 0 | L36: =IF(C36=L1,9,IF(D36=L1,7,IF(E36=L1,6,IF(F36=L1,5,IF(G36=L1,4,IF(H36=L1,3,IF(I36=L1,2,IF(J36=L1,1,0)))))))) -> 0 | M36: =IF(C36=M1,9,IF(D36=M1,7,IF(E36=M1,6,IF(F36=M1,5,IF(G36=M1,4,IF(H36=M1,3,IF(I36=M1,2,IF(J36=M1,1,0)))))))) -> 0 | N36: =IF(C36=N1,9,IF(D36=N1,7,IF(E36=N1,6,IF(F36=N1,5,IF(G36=N1,4,IF(H36=N1,3,IF(I36=N1,2,IF(J36=N1,1,0)))))))) -> 0 | O36: =IF(C36=O1,9,IF(D36=O1,7,IF(E36=O1,6,IF(F36=O1,5,IF(G36=O1,4,IF(H36=O1,3,IF(I36=O1,2,IF(J36=O1,1,0)))))))) -> 0 | P36: =IF(C36=P1,9,IF(D36=P1,7,IF(E36=P1,6,IF(F36=P1,5,IF(G36=P1,4,IF(H36=P1,3,IF(I36=P1,2,IF(J36=P1,1,0)))))))) -> 0 | Q36: =IF(C36=Q1,9,IF(D36=Q1,7,IF(E36=Q1,6,IF(F36=Q1,5,IF(G36=Q1,4,IF(H36=Q1,3,IF(I36=Q1,2,IF(J36=Q1,1,0)))))))) -> 0 | R36: =IF(C36=R1,9,IF(D36=R1,7,IF(E36=R1,6,IF(F36=R1,5,IF(G36=R1,4,IF(H36=R1,3,IF(I36=R1,2,IF(J36=R1,1,0)))))))) -> 0
B37: Perf.
B38: Name
A39: A | B39: Club | K39: =IF(C39=K1,11,IF(D39=K1,9,IF(E39=K1,8,IF(F39=K1,7,IF(G39=K1,6,IF(H39=K1,5,IF(I39=K1,4,IF(J39=K1,3,0)))))))) -> 0 | L39: =IF(C39=L1,11,IF(D39=L1,9,IF(E39=L1,8,IF(F39=L1,7,IF(G39=L1,6,IF(H39=L1,5,IF(I39=L1,4,IF(J39=L1,3,0)))))))) -> 0 | M39: =IF(C39=M1,11,IF(D39=M1,9,IF(E39=M1,8,IF(F39=M1,7,IF(G39=M1,6,IF(H39=M1,5,IF(I39=M1,4,IF(J39=M1,3,0)))))))) -> 0 | N39: =IF(C39=N1,11,IF(D39=N1,9,IF(E39=N1,8,IF(F39=N1,7,IF(G39=N1,6,IF(H39=N1,5,IF(I39=N1,4,IF(J39=N1,3,0)))))))) -> 0 | O39: =IF(C39=O1,11,IF(D39=O1,9,IF(E39=O1,8,IF(F39=O1,7,IF(G39=O1,6,IF(H39=O1,5,IF(I39=O1,4,IF(J39=O1,3,0)))))))) -> 0 | P39: =IF(C39=P1,11,IF(D39=P1,9,IF(E39=P1,8,IF(F39=P1,7,IF(G39=P1,6,IF(H39=P1,5,IF(I39=P1,4,IF(J39=P1,3,0)))))))) -> 0 | Q39: =IF(C39=Q1,11,IF(D39=Q1,9,IF(E39=Q1,8,IF(F39=Q1,7,IF(G39=Q1,6,IF(H39=Q1,5,IF(I39=Q1,4,IF(J39=Q1,3,0)))))))) -> 0 | R39: =IF(C39=R1,11,IF(D39=R1,9,IF(E39=R1,8,IF(F39=R1,7,IF(G39=R1,6,IF(H39=R1,5,IF(I39=R1,4,IF(J39=R1,3,0)))))))) -> 0
B40: Perf.
...

Sheet U17W
A1: Event | B1: U17W | C1: 1st = 8A/B | D1: 2nd = 7A/B | E1: 3rd = 6A/B | F1: 4th = 5A/B | G1: 5th = 4A/B | H1: 6th = 3A/B | I1: 7th = 2A/B | J1: 8th = 1A/B | K1: CAAC | L1: Elgin | M1: ES | N1: FH | O1: IH | P1: MRR | Q1: NAAC | R1: RC
A2: 100m | B2: Name | C2: Rachel Johnstone | D2: Emma Barclay | E2: Beth Grant
A3: A | B3: Club | C3: IH | D3: Elgin | E3: MRR | K3: =IF(C3=K1,11,IF(D3=K1,9,IF(E3=K1,8,IF(F3=K1,7,IF(G3=K1,6,IF(H3=K1,5,IF(I3=K1,4,IF(J3=K1,3,0)))))))) -> 0 | L3: 7 | M3: =IF(C3=M1,11,IF(D3=M1,9,IF(E3=M1,8,IF(F3=M1,7,IF(G3=M1,6,IF(H3=M1,5,IF(I3=M1,4,IF(J3=M1,3,0)))))))) -> 0 | N3: =IF(C3=N1,11,IF(D3=N1,9,IF(E3=N1,8,IF(F3=N1,7,IF(G3=N1,6,IF(H3=N1,5,IF(I3=N1,4,IF(J3=N1,3,0)))))))) -> 0 | O3: 8 | P3: 6 | Q3: =IF(C3=Q1,11,IF(D3=Q1,9,IF(E3=Q1,8,IF(F3=Q1,7,IF(G3=Q1,6,IF(H3=Q1,5,IF(I3=Q1,4,IF(J3=Q1,3,0)))))))) -> 0 | R3: =IF(C3=R1,11,IF(D3=R1,9,IF(E3=R1,8,IF(F3=R1,7,IF(G3=R1,6,IF(H3=R1,5,IF(I3=R1,4,IF(J3=R1,3,0)))))))) -> 0
A4: 1.6 | B4: Perf. | C4: 13.51 | D4: 13.57 | E4: 13.96
A5: 100m | B5: Name | C5: Beth Mackay | D5: Eve Gardiner
A6: B | B6: Club | C6: Elgin | D6: IH | K6: =IF(C6=K1,9,IF(D6=K1,7,IF(E6=K1,6,IF(F6=K1,5,IF(G6=K1,4,IF(H6=K1,3,IF(I6=K1,2,IF(J6=K1,1,0)))))))) -> 0 | L6: 8 | M6: =IF(C6=M1,9,IF(D6=M1,7,IF(E6=M1,6,IF(F6=M1,5,IF(G6=M1,4,IF(H6=M1,3,IF(I6=M1,2,IF(J6=M1,1,0)))))))) -> 0 | N6: =IF(C6=N1,9,IF(D6=N1,7,IF(E6=N1,6,IF(F6=N1,5,IF(G6=N1,4,IF(H6=N1,3,IF(I6=N1,2,IF(J6=N1,1,0)))))))) -> 0 | O6: 7 | P6: =IF(C6=P1,9,IF(D6=P1,7,IF(E6=P1,6,IF(F6=P1,5,IF(G6=P1,4,IF(H6=P1,3,IF(I6=P1,2,IF(J6=P1,1,0)))))))) -> 0 | Q6: =IF(C6=Q1,9,IF(D6=Q1,7,IF(E6=Q1,6,IF(F6=Q1,5,IF(G6=Q1,4,IF(H6=Q1,3,IF(I6=Q1,2,IF(J6=Q1,1,0)))))))) -> 0 | R6: =IF(C6=R1,9,IF(D6=R1,7,IF(E6=R1,6,IF(F6=R1,5,IF(G6=R1,4,IF(H6=R1,3,IF(I6=R1,2,IF(J6=R1,1,0)))))))) -> 0
A7: 1.6 | B7: Perf. | C7: 14.2 | D7: 14.44
A8: 300m | B8: Name | C8: Emma Barclay | D8: Chloe Cheyne | E8: Beth Grant
A9: A | B9: Club | C9: Elgin | D9: IH | E9: MRR | K9: =IF(C9=K1,11,IF(D9=K1,9,IF(E9=K1,8,IF(F9=K1,7,IF(G9=K1,6,IF(H9=K1,5,IF(I9=K1,4,IF(J9=K1,3,0)))))))) -> 0 | L9: 8 | M9: =IF(C9=M1,11,IF(D9=M1,9,IF(E9=M1,8,IF(F9=M1,7,IF(G9=M1,6,IF(H9=M1,5,IF(I9=M1,4,IF(J9=M1,3,0)))))))) -> 0 | N9: =IF(C9=N1,11,IF(D9=N1,9,IF(E9=N1,8,IF(F9=N1,7,IF(G9=N1,6,IF(H9=N1,5,IF(I9=N1,4,IF(J9=N1,3,0)))))))) -> 0 | O9: 7 | P9: 6 | Q9: =IF(C9=Q1,11,IF(D9=Q1,9,IF(E9=Q1,8,IF(F9=Q1,7,IF(G9=Q1,6,IF(H9=Q1,5,IF(I9=Q1,4,IF(J9=Q1,3,0)))))))) -> 0 | R9: =IF(C9=R1,11,IF(D9=R1,9,IF(E9=R1,8,IF(F9=R1,7,IF(G9=R1,6,IF(H9=R1,5,IF(I9=R1,4,IF(J9=R1,3,0)))))))) -> 0
B10: Perf. | C10: 44.07 | D10: 44.7 | E10: 50.58
A11: 300m | B11: Name | C11: Ruby Soldan | D11: Eve Tulloch | E11: Niamh Whelan
A12: B | B12: Club | C12: IH | D12: Elgin | E12: MRR | K12: =IF(C12=K1,9,IF(D12=K1,7,IF(E12=K1,6,IF(F12=K1,5,IF(G12=K1,4,IF(H12=K1,3,IF(I12=K1,2,IF(J12=K1,1,0)))))))) -> 0 | L12: =IF(C12=L1,9,IF(D12=L1,7,IF(E12=L1,6,IF(F12=L1,5,IF(G12=L1,4,IF(H12=L1,3,IF(I12=L1,2,IF(J12=L1,1,0)))))))) -> 7 | M12: =IF(C12=M1,9,IF(D12=M1,7,IF(E12=M1,6,IF(F12=M1,5,IF(G12=M1,4,IF(H12=M1,3,IF(I12=M1,2,IF(J12=M1,1,0)))))))) -> 0 | N12: =IF(C12=N1,9,IF(D12=N1,7,IF(E12=N1,6,IF(F12=N1,5,IF(G12=N1,4,IF(H12=N1,3,IF(I12=N1,2,IF(J12=N1,1,0)))))))) -> 0 | O12: 8 | P12: =IF(C12=P1,9,IF(D12=P1,7,IF(E12=P1,6,IF(F12=P1,5,IF(G12=P1,4,IF(H12=P1,3,IF(I12=P1,2,IF(J12=P1,1,0)))))))) -> 6 | Q12: =IF(C12=Q1,9,IF(D12=Q1,7,IF(E12=Q1,6,IF(F12=Q1,5,IF(G12=Q1,4,IF(H12=Q1,3,IF(I12=Q1,2,IF(J12=Q1,1,0)))))))) -> 0 | R12: =IF(C12=R1,9,IF(D12=R1,7,IF(E12=R1,6,IF(F12=R1,5,IF(G12=R1,4,IF(H12=R1,3,IF(I12=R1,2,IF(J12=R1,1,0)))))))) -> 0
B13: Perf. | C13: 45.76 | D13: 46.11 | E13: 55.92
A14: 1500m | B14: Name | C14: Ruby Soldan | D14: Shauna Perry | E14: Niamh Whelan
A15: A | B15: Club | C15: IH | D15: Elgin | E15: MRR | K15: =IF(C15=K1,11,IF(D15=K1,9,IF(E15=K1,8,IF(F15=K1,7,IF(G15=K1,6,IF(H15=K1,5,IF(I15=K1,4,IF(J15=K1,3,0)))))))) -> 0 | L15: 7 | M15: =IF(C15=M1,11,IF(D15=M1,9,IF(E15=M1,8,IF(F15=M1,7,IF(G15=M1,6,IF(H15=M1,5,IF(I15=M1,4,IF(J15=M1,3,0)))))))) -> 0 | N15: =IF(C15=N1,11,IF(D15=N1,9,IF(E15=N1,8,IF(F15=N1,7,IF(G15=N1,6,IF(H15=N1,5,IF(I15=N1,4,IF(J15=N1,3,0)))))))) -> 0 | O15: 8 | P15: 6 | Q15: =IF(C15=Q1,11,IF(D15=Q1,9,IF(E15=Q1,8,IF(F15=Q1,7,IF(G15=Q1,6,IF(H15=Q1,5,IF(I15=Q1,4,IF(J15=Q1,3,0)))))))) -> 0 | R15: =IF(C15=R1,11,IF(D15=R1,9,IF(E15=R1,8,IF(F15=R1,7,IF(G15=R1,6,IF(H15=R1,5,IF(I15=R1,4,IF(J15=R1,3,0)))))))) -> 0
B16: Perf. | C16: 5.22.37 | D16: 5.30.16 | E16: 6.11.09
A17: 1500m | B17: Name | C17: Emma Seed
A18: B | B18: Club | C18: IH | K18: =IF(C18=K1,9,IF(D18=K1,7,IF(E18=K1,6,IF(F18=K1,5,IF(G18=K1,4,IF(H18=K1,3,IF(I18=K1,2,IF(J18=K1,1,0)))))))) -> 0 | L18: =IF(C18=L1,9,IF(D18=L1,7,IF(E18=L1,6,IF(F18=L1,5,IF(G18=L1,4,IF(H18=L1,3,IF(I18=L1,2,IF(J18=L1,1,0)))))))) -> 0 | M18: =IF(C18=M1,9,IF(D18=M1,7,IF(E18=M1,6,IF(F18=M1,5,IF(G18=M1,4,IF(H18=M1,3,IF(I18=M1,2,IF(J18=M1,1,0)))))))) -> 0 | N18: =IF(C18=N1,9,IF(D18=N1,7,IF(E18=N1,6,IF(F18=N1,5,IF(G18=N1,4,IF(H18=N1,3,IF(I18=N1,2,IF(J18=N1,1,0)))))))) -> 0 | O18: 8 | P18: =IF(C18=P1,9,IF(D18=P1,7,IF(E18=P1,6,IF(F18=P1,5,IF(G18=P1,4,IF(H18=P1,3,IF(I18=P1,2,IF(J18=P1,1,0)))))))) -> 0 | Q18: =IF(C18=Q1,9,IF(D18=Q1,7,IF(E18=Q1,6,IF(F18=Q1,5,IF(G18=Q1,4,IF(H18=Q1,3,IF(I18=Q1,2,IF(J18=Q1,1,0)))))))) -> 0 | R18: =IF(C18=R1,9,IF(D18=R1,7,IF(E18=R1,6,IF(F18=R1,5,IF(G18=R1,4,IF(H18=R1,3,IF(I18=R1,2,IF(J18=R1,1,0)))))))) -> 0
B19: Perf. | C19: 5.38.55
A20: S Putt | B20: Name | C20: Beth Grant | D20: Rachel Maclennan | E20: Ruby Dunkley | F20: Beth Mackay
A21: A | B21: Club | C21: MRR | D21: IH | E21: NAAC | F21: Elgin | K21: =IF(C21=K1,11,IF(D21=K1,9,IF(E21=K1,8,IF(F21=K1,7,IF(G21=K1,6,IF(H21=K1,5,IF(I21=K1,4,IF(J21=K1,3,0)))))))) -> 0 | L21: 5 | M21: =IF(C21=M1,11,IF(D21=M1,9,IF(E21=M1,8,IF(F21=M1,7,IF(G21=M1,6,IF(H21=M1,5,IF(I21=M1,4,IF(J21=M1,3,0)))))))) -> 0 | N21: =IF(C21=N1,11,IF(D21=N1,9,IF(E21=N1,8,IF(F21=N1,7,IF(G21=N1,6,IF(H21=N1,5,IF(I21=N1,4,IF(J21=N1,3,0)))))))) -> 0 | O21: 7 | P21: 8 | Q21: 6 | R21: =IF(C21=R1,11,IF(D21=R1,9,IF(E21=R1,8,IF(F21=R1,7,IF(G21=R1,6,IF(H21=R1,5,IF(I21=R1,4,IF(J21=R1,3,0)))))))) -> 0
B22: Perf. | C22: 8.99 | D22: 8.62 | E22: 7.93 | F22: 6.02
A23: S Putt | B23: Name | C23: Amy Collier | D23: Shauna Perry
A24: B | B24: Club | C24: IH | D24: Elgin | K24: =IF(C24=K1,9,IF(D24=K1,7,IF(E24=K1,6,IF(F24=K1,5,IF(G24=K1,4,IF(H24=K1,3,IF(I24=K1,2,IF(J24=K1,1,0)))))))) -> 0 | L24: =IF(C24=L1,9,IF(D24=L1,7,IF(E24=L1,6,IF(F24=L1,5,IF(G24=L1,4,IF(H24=L1,3,IF(I24=L1,2,IF(J24=L1,1,0)))))))) -> 7 | M24: =IF(C24=M1,9,IF(D24=M1,7,IF(E24=M1,6,IF(F24=M1,5,IF(G24=M1,4,IF(H24=M1,3,IF(I24=M1,2,IF(J24=M1,1,0)))))))) -> 0 | N24: =IF(C24=N1,9,IF(D24=N1,7,IF(E24=N1,6,IF(F24=N1,5,IF(G24=N1,4,IF(H24=N1,3,IF(I24=N1,2,IF(J24=N1,1,0)))))))) -> 0 | O24: 8 | P24: =IF(C24=P1,9,IF(D24=P1,7,IF(E24=P1,6,IF(F24=P1,5,IF(G24=P1,4,IF(H24=P1,3,IF(I24=P1,2,IF(J24=P1,1,0)))))))) -> 0 | Q24: =IF(C24=Q1,9,IF(D24=Q1,7,IF(E24=Q1,6,IF(F24=Q1,5,IF(G24=Q1,4,IF(H24=Q1,3,IF(I24=Q1,2,IF(J24=Q1,1,0)))))))) -> 0 | R24: =IF(C24=R1,9,IF(D24=R1,7,IF(E24=R1,6,IF(F24=R1,5,IF(G24=R1,4,IF(H24=R1,3,IF(I24=R1,2,IF(J24=R1,1,0)))))))) -> 0
B25: Perf. | C25: 6.92 | D25: 4.18
A26: T Jump | B26: Name | C26: Eve Tulloch | D26: Rachel Johnstone | E26: Ruby Dunkley
A27: A | B27: Club | C27: Elgin | D27: IH | E27: NAAC | K27: =IF(C27=K1,11,IF(D27=K1,9,IF(E27=K1,8,IF(F27=K1,7,IF(G27=K1,6,IF(H27=K1,5,IF(I27=K1,4,IF(J27=K1,3,0)))))))) -> 0 | L27: 8 | M27: =IF(C27=M1,11,IF(D27=M1,9,IF(E27=M1,8,IF(F27=M1,7,IF(G27=M1,6,IF(H27=M1,5,IF(I27=M1,4,IF(J27=M1,3,0)))))))) -> 0 | N27: =IF(C27=N1,11,IF(D27=N1,9,IF(E27=N1,8,IF(F27=N1,7,IF(G27=N1,6,IF(H27=N1,5,IF(I27=N1,4,IF(J27=N1,3,0)))))))) -> 0 | O27: 7 | P27: =IF(C27=P1,11,IF(D27=P1,9,IF(E27=P1,8,IF(F27=P1,7,IF(G27=P1,6,IF(H27=P1,5,IF(I27=P1,4,IF(J27=P1,3,0)))))))) -> 0 | Q27: 6 | R27: =IF(C27=R1,11,IF(D27=R1,9,IF(E27=R1,8,IF(F27=R1,7,IF(G27=R1,6,IF(H27=R1,5,IF(I27=R1,4,IF(J27=R1,3,0)))))))) -> 0
B28: Perf. | C28: 9.17 | D28: 8.96 | E28: 7.96
A29: T Jump | B29: Name | C29: Emma Barclay | D29: Rachel Gillies
A30: B | B30: Club | C30: Elgin | D30: IH | K30: =IF(C30=K1,9,IF(D30=K1,7,IF(E30=K1,6,IF(F30=K1,5,IF(G30=K1,4,IF(H30=K1,3,IF(I30=K1,2,IF(J30=K1,1,0)))))))) -> 0 | L30: 8 | M30: =IF(C30=M1,9,IF(D30=M1,7,IF(E30=M1,6,IF(F30=M1,5,IF(G30=M1,4,IF(H30=M1,3,IF(I30=M1,2,IF(J30=M1,1,0)))))))) -> 0 | N30: =IF(C30=N1,9,IF(D30=N1,7,IF(E30=N1,6,IF(F30=N1,5,IF(G30=N1,4,IF(H30=N1,3,IF(I30=N1,2,IF(J30=N1,1,0)))))))) -> 0 | O30: =IF(C30=O1,9,IF(D30=O1,7,IF(E30=O1,6,IF(F30=O1,5,IF(G30=O1,4,IF(H30=O1,3,IF(I30=O1,2,IF(J30=O1,1,0)))))))) -> 7 | P30: =IF(C30=P1,9,IF(D30=P1,7,IF(E30=P1,6,IF(F30=P1,5,IF(G30=P1,4,IF(H30=P1,3,IF(I30=P1,2,IF(J30=P1,1,0)))))))) -> 0 | Q30: =IF(C30=Q1,9,IF(D30=Q1,7,IF(E30=Q1,6,IF(F30=Q1,5,IF(G30=Q1,4,IF(H30=Q1,3,IF(I30=Q1,2,IF(J30=Q1,1,0)))))))) -> 0 | R30: =IF(C30=R1,9,IF(D30=R1,7,IF(E30=R1,6,IF(F30=R1,5,IF(G30=R1,4,IF(H30=R1,3,IF(I30=R1,2,IF(J30=R1,1,0)))))))) -> 0
B31: Perf. | C31: 9.13 | D31: 8.61
B32: Name
A33: A | B33: Club | K33: =IF(C33=K1,11,IF(D33=K1,9,IF(E33=K1,8,IF(F33=K1,7,IF(G33=K1,6,IF(H33=K1,5,IF(I33=K1,4,IF(J33=K1,3,0)))))))) -> 0 | L33: =IF(C33=L1,11,IF(D33=L1,9,IF(E33=L1,8,IF(F33=L1,7,IF(G33=L1,6,IF(H33=L1,5,IF(I33=L1,4,IF(J33=L1,3,0)))))))) -> 0 | M33: =IF(C33=M1,11,IF(D33=M1,9,IF(E33=M1,8,IF(F33=M1,7,IF(G33=M1,6,IF(H33=M1,5,IF(I33=M1,4,IF(J33=M1,3,0)))))))) -> 0 | N33: =IF(C33=N1,11,IF(D33=N1,9,IF(E33=N1,8,IF(F33=N1,7,IF(G33=N1,6,IF(H33=N1,5,IF(I33=N1,4,IF(J33=N1,3,0)))))))) -> 0 | O33: =IF(C33=O1,11,IF(D33=O1,9,IF(E33=O1,8,IF(F33=O1,7,IF(G33=O1,6,IF(H33=O1,5,IF(I33=O1,4,IF(J33=O1,3,0)))))))) -> 0 | P33: =IF(C33=P1,11,IF(D33=P1,9,IF(E33=P1,8,IF(F33=P1,7,IF(G33=P1,6,IF(H33=P1,5,IF(I33=P1,4,IF(J33=P1,3,0)))))))) -> 0 | Q33: =IF(C33=Q1,11,IF(D33=Q1,9,IF(E33=Q1,8,IF(F33=Q1,7,IF(G33=Q1,6,IF(H33=Q1,5,IF(I33=Q1,4,IF(J33=Q1,3,0)))))))) -> 0 | R33: =IF(C33=R1,11,IF(D33=R1,9,IF(E33=R1,8,IF(F33=R1,7,IF(G33=R1,6,IF(H33=R1,5,IF(I33=R1,4,IF(J33=R1,3,0)))))))) -> 0
B34: Perf.
B35: Name
A36: B | B36: Club | K36: =IF(C36=K1,9,IF(D36=K1,7,IF(E36=K1,6,IF(F36=K1,5,IF(G36=K1,4,IF(H36=K1,3,IF(I36=K1,2,IF(J36=K1,1,0)))))))) -> 0 | L36: =IF(C36=L1,9,IF(D36=L1,7,IF(E36=L1,6,IF(F36=L1,5,IF(G36=L1,4,IF(H36=L1,3,IF(I36=L1,2,IF(J36=L1,1,0)))))))) -> 0 | M36: =IF(C36=M1,9,IF(D36=M1,7,IF(E36=M1,6,IF(F36=M1,5,IF(G36=M1,4,IF(H36=M1,3,IF(I36=M1,2,IF(J36=M1,1,0)))))))) -> 0 | N36: =IF(C36=N1,9,IF(D36=N1,7,IF(E36=N1,6,IF(F36=N1,5,IF(G36=N1,4,IF(H36=N1,3,IF(I36=N1,2,IF(J36=N1,1,0)))))))) -> 0 | O36: =IF(C36=O1,9,IF(D36=O1,7,IF(E36=O1,6,IF(F36=O1,5,IF(G36=O1,4,IF(H36=O1,3,IF(I36=O1,2,IF(J36=O1,1,0)))))))) -> 0 | P36: =IF(C36=P1,9,IF(D36=P1,7,IF(E36=P1,6,IF(F36=P1,5,IF(G36=P1,4,IF(H36=P1,3,IF(I36=P1,2,IF(J36=P1,1,0)))))))) -> 0 | Q36: =IF(C36=Q1,9,IF(D36=Q1,7,IF(E36=Q1,6,IF(F36=Q1,5,IF(G36=Q1,4,IF(H36=Q1,3,IF(I36=Q1,2,IF(J36=Q1,1,0)))))))) -> 0 | R36: =IF(C36=R1,9,IF(D36=R1,7,IF(E36=R1,6,IF(F36=R1,5,IF(G36=R1,4,IF(H36=R1,3,IF(I36=R1,2,IF(J36=R1,1,0)))))))) -> 0
B37: Perf.
B38: Name
A39: A | B39: Club | K39: =IF(C39=K1,11,IF(D39=K1,9,IF(E39=K1,8,IF(F39=K1,7,IF(G39=K1,6,IF(H39=K1,5,IF(I39=K1,4,IF(J39=K1,3,0)))))))) -> 0 | L39: =IF(C39=L1,11,IF(D39=L1,9,IF(E39=L1,8,IF(F39=L1,7,IF(G39=L1,6,IF(H39=L1,5,IF(I39=L1,4,IF(J39=L1,3,0)))))))) -> 0 | M39: =IF(C39=M1,11,IF(D39=M1,9,IF(E39=M1,8,IF(F39=M1,7,IF(G39=M1,6,IF(H39=M1,5,IF(I39=M1,4,IF(J39=M1,3,0)))))))) -> 0 | N39: =IF(C39=N1,11,IF(D39=N1,9,IF(E39=N1,8,IF(F39=N1,7,IF(G39=N1,6,IF(H39=N1,5,IF(I39=N1,4,IF(J39=N1,3,0)))))))) -> 0 | O39: =IF(C39=O1,11,IF(D39=O1,9,IF(E39=O1,8,IF(F39=O1,7,IF(G39=O1,6,IF(H39=O1,5,IF(I39=O1,4,IF(J39=O1,3,0)))))))) -> 0 | P39: =IF(C39=P1,11,IF(D39=P1,9,IF(E39=P1,8,IF(F39=P1,7,IF(G39=P1,6,IF(H39=P1,5,IF(I39=P1,4,IF(J39=P1,3,0)))))))) -> 0 | Q39: =IF(C39=Q1,11,IF(D39=Q1,9,IF(E39=Q1,8,IF(F39=Q1,7,IF(G39=Q1,6,IF(H39=Q1,5,IF(I39=Q1,4,IF(J39=Q1,3,0)))))))) -> 0 | R39: =IF(C39=R1,11,IF(D39=R1,9,IF(E39=R1,8,IF(F39=R1,7,IF(G39=R1,6,IF(H39=R1,5,IF(I39=R1,4,IF(J39=R1,3,0)))))))) -> 0
B40: Perf.
...

Sheet SW
A1: Event | B1: SW | C1: 1st = 8A/B | D1: 2nd = 7A/B | E1: 3rd = 6A/B | F1: 4th = 5A/B | G1: 5th = 4A/B | H1: 6th = 3A/B | I1: 7th = 2A/B | J1: 8th = 1A/B | K1: CAAC | L1: Elgin | M1: ES | N1: FH | O1: IH | P1: MRR | Q1: NAAC | R1: RC
A2: 100m | B2: Name | C2: Emma Pedrana | D2: Heather Welsh | E2: Chantall Fowlie | F2: Alison Heggie | G2: Yvonne Cantlie
A3: A | B3: Club | C3: IH | D3: NAAC | E3: Elgin | F3: RC | G3: MRR | K3: =IF(C3=K1,11,IF(D3=K1,9,IF(E3=K1,8,IF(F3=K1,7,IF(G3=K1,6,IF(H3=K1,5,IF(I3=K1,4,IF(J3=K1,3,0)))))))) -> 0 | L3: 6 | M3: =IF(C3=M1,11,IF(D3=M1,9,IF(E3=M1,8,IF(F3=M1,7,IF(G3=M1,6,IF(H3=M1,5,IF(I3=M1,4,IF(J3=M1,3,0)))))))) -> 0 | N3: =IF(C3=N1,11,IF(D3=N1,9,IF(E3=N1,8,IF(F3=N1,7,IF(G3=N1,6,IF(H3=N1,5,IF(I3=N1,4,IF(J3=N1,3,0)))))))) -> 0 | O3: 8 | P3: 4 | Q3: 7 | R3: 5
A4: 3.9 | B4: Perf. | C4: 12.57 | D4: 14.3 | E4: 15.23 | F4: 15.38 | G4: 16.15
A5: 100m | B5: Name | C5: Heather Bruce
A6: B | B6: Club | C6: IH | K6: =IF(C6=K1,9,IF(D6=K1,7,IF(E6=K1,6,IF(F6=K1,5,IF(G6=K1,4,IF(H6=K1,3,IF(I6=K1,2,IF(J6=K1,1,0)))))))) -> 0 | L6: =IF(C6=L1,9,IF(D6=L1,7,IF(E6=L1,6,IF(F6=L1,5,IF(G6=L1,4,IF(H6=L1,3,IF(I6=L1,2,IF(J6=L1,1,0)))))))) -> 0 | M6: =IF(C6=M1,9,IF(D6=M1,7,IF(E6=M1,6,IF(F6=M1,5,IF(G6=M1,4,IF(H6=M1,3,IF(I6=M1,2,IF(J6=M1,1,0)))))))) -> 0 | N6: =IF(C6=N1,9,IF(D6=N1,7,IF(E6=N1,6,IF(F6=N1,5,IF(G6=N1,4,IF(H6=N1,3,IF(I6=N1,2,IF(J6=N1,1,0)))))))) -> 0 | O6: 8 | P6: =IF(C6=P1,9,IF(D6=P1,7,IF(E6=P1,6,IF(F6=P1,5,IF(G6=P1,4,IF(H6=P1,3,IF(I6=P1,2,IF(J6=P1,1,0)))))))) -> 0 | Q6: =IF(C6=Q1,9,IF(D6=Q1,7,IF(E6=Q1,6,IF(F6=Q1,5,IF(G6=Q1,4,IF(H6=Q1,3,IF(I6=Q1,2,IF(J6=Q1,1,0)))))))) -> 0 | R6: =IF(C6=R1,9,IF(D6=R1,7,IF(E6=R1,6,IF(F6=R1,5,IF(G6=R1,4,IF(H6=R1,3,IF(I6=R1,2,IF(J6=R1,1,0)))))))) -> 0
A7: 3.9 | B7: Perf. | C7: 13.06
A8: 400m | B8: Name | C8: Gillian Gordon | D8: Yvonne Cantlie
A9: A | B9: Club | C9: IH | D9: MRR | K9: =IF(C9=K1,11,IF(D9=K1,9,IF(E9=K1,8,IF(F9=K1,7,IF(G9=K1,6,IF(H9=K1,5,IF(I9=K1,4,IF(J9=K1,3,0)))))))) -> 0 | L9: =IF(C9=L1,11,IF(D9=L1,9,IF(E9=L1,8,IF(F9=L1,7,IF(G9=L1,6,IF(H9=L1,5,IF(I9=L1,4,IF(J9=L1,3,0)))))))) -> 0 | M9: =IF(C9=M1,11,IF(D9=M1,9,IF(E9=M1,8,IF(F9=M1,7,IF(G9=M1,6,IF(H9=M1,5,IF(I9=M1,4,IF(J9=M1,3,0)))))))) -> 0 | N9: =IF(C9=N1,11,IF(D9=N1,9,IF(E9=N1,8,IF(F9=N1,7,IF(G9=N1,6,IF(H9=N1,5,IF(I9=N1,4,IF(J9=N1,3,0)))))))) -> 0 | O9: 8 | P9: 7 | Q9: =IF(C9=Q1,11,IF(D9=Q1,9,IF(E9=Q1,8,IF(F9=Q1,7,IF(G9=Q1,6,IF(H9=Q1,5,IF(I9=Q1,4,IF(J9=Q1,3,0)))))))) -> 0 | R9: =IF(C9=R1,11,IF(D9=R1,9,IF(E9=R1,8,IF(F9=R1,7,IF(G9=R1,6,IF(H9=R1,5,IF(I9=R1,4,IF(J9=R1,3,0)))))))) -> 0
B10: Perf. | C10: 1.00.59 | D10: 1.21.12
A11: 400m | B11: Name | C11: Julie Wilson | D11: Kirsty Weir
A12: B | B12: Club | C12: IH | D12: MRR | K12: =IF(C12=K1,9,IF(D12=K1,7,IF(E12=K1,6,IF(F12=K1,5,IF(G12=K1,4,IF(H12=K1,3,IF(I12=K1,2,IF(J12=K1,1,0)))))))) -> 0 | L12: =IF(C12=L1,9,IF(D12=L1,7,IF(E12=L1,6,IF(F12=L1,5,IF(G12=L1,4,IF(H12=L1,3,IF(I12=L1,2,IF(J12=L1,1,0)))))))) -> 0 | M12: =IF(C12=M1,9,IF(D12=M1,7,IF(E12=M1,6,IF(F12=M1,5,IF(G12=M1,4,IF(H12=M1,3,IF(I12=M1,2,IF(J12=M1,1,0)))))))) -> 0 | N12: =IF(C12=N1,9,IF(D12=N1,7,IF(E12=N1,6,IF(F12=N1,5,IF(G12=N1,4,IF(H12=N1,3,IF(I12=N1,2,IF(J12=N1,1,0)))))))) -> 0 | O12: 8 | P12: =IF(C12=P1,9,IF(D12=P1,7,IF(E12=P1,6,IF(F12=P1,5,IF(G12=P1,4,IF(H12=P1,3,IF(I12=P1,2,IF(J12=P1,1,0)))))))) -> 7 | Q12: =IF(C12=Q1,9,IF(D12=Q1,7,IF(E12=Q1,6,IF(F12=Q1,5,IF(G12=Q1,4,IF(H12=Q1,3,IF(I12=Q1,2,IF(J12=Q1,1,0)))))))) -> 0 | R12: =IF(C12=R1,9,IF(D12=R1,7,IF(E12=R1,6,IF(F12=R1,5,IF(G12=R1,4,IF(H12=R1,3,IF(I12=R1,2,IF(J12=R1,1,0)))))))) -> 0
B13: Perf. | C13: 1.11.99 | D13: 1.30.61
A14: 1500m | B14: Name | C14: Grace Whelan
