Workbook
Name Clubs: Data!$A$3:$A$10

Sheet Female Dec's
B1: Under 11 Girls | D1: Under 13 Girls | F1: Under 15 Girls | H1: Under 17 Women | J1: Senior Women
A2: 1 | B2: Amber Cameron | C2: 1 | D2: Aaliyah McCloud | E2: 1 | F2: Abbie Harrison | G2: 1 | H2: Ailsa Hewick | I2: 1 | J2: Alice Mongellio
A3: 2 | B3: Amber McClatchey | C3: 2 | D3: Alex Sneddon | E3: 2 | F3: Alanna Mackenzie | G3: 2 | H3: Amy Collier | I3: 2 | J3: Alison Heggie
A4: 3 | B4: Anna Fraser | C4: 3 | D4: Alyssa Burnett | E4: 3 | F4: Alex Sneddon | G4: 3 | H4: Beth Grant | I4: 3 | J4: Beth Grant
A5: 4 | B5: Ava Lambie | C5: 4 | D5: Amber Sturrock | E5: 4 | F5: Alyssa Burnett | G5: 4 | H5: Beth Mackay | I5: 4 | J5: Chantall Fowlie
A6: 5 | B6: Eilidh MacLennan | C6: 5 | D6: Beth Urquhart | E6: 5 | F6: Alyth Gollan | G6: 5 | H6: Chloe Cheyne | I6: 5 | J6: Eleanor Briggs
A7: 6 | B7: Eve Mitchell | C7: 6 | D7: Caitlin Brown | E7: 6 | F7: Amy Llyod | G7: 6 | H7: Chloe Watson | I7: 6 | J7: Ellie Stone
A8: 7 | B8: Georgia Antliff | C8: 7 | D8: Caitlyn Heggie | E8: 7 | F8: Annabel Gillanders | G8: 7 | H8: Chloe Watson | I8: 7 | J8: Emma Pedrana
A9: 8 | B9: Holly Stewart | C9: 8 | D9: Eden Wocjik | E9: 8 | F9: Ava Walsh | G9: 8 | H9: Elsa Fearn | I9: 8 | J9: Gillian Gordon
A10: 9 | B10: Isla O,Neill | C10: 9 | D10: Elise Beacom | E10: 9 | F10: Caitlyn Heggie | G10: 9 | H10: Emma Barclay | I10: 9 | J10: Grace Whelan
A11: 10 | B11: Josephine Holyrod | C11: 10 | D11: Emily Bell | E11: 10 | F11: Chloe McEwan | G11: 10 | H11: Emma Seed | I11: 10 | J11: Heather Bruce
A12: 11 | B12: Lauren Abbott | C12: 11 | D12: Emily Murray | E12: 11 | F12: Elle Stewart | G12: 11 | H12: Eve Gardiner | I12: 11 | J12: Heather Welsh
A13: 12 | B13: Layla Elder | C13: 12 | D13: Emily Murray | E13: 12 | F13: Ellie Mackintosh | G13: 12 | H13: Eve Tulloch | I13: 12 | J13: Julie Wilson
... A21: 20 | B21: Skye Nimmoms | C21: 20 | D21: Isabella Henry | E21: 20 | F21: Kaylee Main | G21: 20 | H21: Rachel Maclennan | I21: 20 | J21: Yvonne Cantlie
A22: 21 | B22: Sophia Fell-Cano | C22: 21 | D22: Isla Marwick | E22: 21 | F22: Kirsten Bowie | G22: 21 | H22: Ruby Dunkley | I22: 21
A23: 22 | B23: Tayler Barlow | C23: 22 | D23: Isla Thomson | E23: 22 | F23: Kirsten Leeper | G23: 22 | H23: Ruby Soldan | I23: 22
A24: 23 | B24: Ula Donald | C24: 23 | D24: Islay Rutter | E24: 23 | F24: Kirsty Arnaud | G24: 23 | H24: Shauna Perry | I24: 23
A25: 24 | C25: 24 | D25: Isobel Garvie | E25: 24 | F25: Leah Inglis | G25: 24 | I25: 24
A26: 25 | C26: 25 | D26: Katie Meek | E26: 25 | F26: Loren Macdonald | G26: 25 | I26: 25
A27: 26 | C27: 26 | D27: Katie Murray | E27: 26 | F27: Megan McKay | G27: 26 | I27: 26
A28: 27 | C28: 27 | D28: Kirsten Burnett | E28: 27 | F28: Melissa Mack | G28: 27 | I28: 27
A29: 28 | C29: 28 | D29: Lauren Thompson | E29: 28 | F29: Molly Jamieson | G29: 28 | I29: 28
A30: 29 | C30: 29 | D30: Leona Fernandes | E30: 29 | F30: Morag Hickey | G30: 29 | I30: 29
A31: 30 | C31: 30 | D31: Mackenzie Findlay | E31: 30 | F31: Morven Mackenzie | G31: 30 | I31: 30
A32: 31 | C32: 31 | D32: Mica Mccloud | E32: 31 | F32: Niamh Grant | G32: 31 | I32: 31
A33: 32 | C33: 32 | D33: Morag Lynch | E33: 32 | F33: Ruth Wilson | G33: 32 | I33: 32
A34: 33 | C34: 33 | D34: Rhiannon Ebrihem | E34: 33 | F34: Sophie Bath | G34: 33 | I34: 33
A35: 34 | C35: 34 | D35: Rose McClatchey | E35: 34 | F35: Sophie McEwan | G35: 34 | I35: 34
A36: 35 | C36: 35 | D36: Rosie Milligan | E36: 35 | F36: Tamsin Fowlie | G36: 35 | I36: 35
A37: 36 | C37: 36 | D37: Ruby Mackintosh | E37: 36 | G37: 36 | I37: 36
A38: 37 | C38: 37 | D38: Ruby Wittka Jezewski | E38: 37 | G38: 37 | I38: 37
A39: 38 | C39: 38 | D39: Stroma Fraser | E39: 38 | G39: 38 | I39: 38
A40: 39 | C40: 39 | D40: Zara Gill | E40: 39 | G40: 39 | I40: 39
A41: 40 | C41: 40 | D41: Zoe Sharpe | E41: 40 | G41: 40 | I41: 40
A42: 41 | C42: 41 | E42: 41 | G42: 41 | I42: 41
A43: 42 | C43: 42 | E43: 42 | G43: 42 | I43: 42
A44: 43 | C44: 43 | E44: 43 | G44: 43 | I44: 43
A45: 44 | C45: 44 | E45: 44 | G45: 44 | I45: 44
A46: 45 | C46: 45 | E46: 45 | G46: 45 | I46: 45
A47: 46 | C47: 46 | E47: 46 | G47: 46 | I47: 46
A48: 47 | C48: 47 | E48: 47 | G48: 47 | I48: 47
A49: 48 | C49: 48 | E49: 48 | G49: 48 | I49: 48
A50: 49 | C50: 49 | E50: 49 | G50: 49 | I50: 49
A51: 50 | C51: 50 | E51: 50 | G51: 50 | I51: 50
A52: 51 | C52: 51 | E52: 51 | G52: 51 | I52: 51
A53: 52 | C53: 52 | E53: 52 | G53: 52 | I53: 52
... A100: 99 | C100: 99 | E100: 99 | G100: 99 | I100: 99

Sheet Male Dec's
B1: Under 11 Boys | D1: Under 13 Boys | F1: Under 15 Boys | H1: Under 17 Men | J1: Senior Men
A2: 1 | B2: Aaron Cheyne | C2: 1 | D2: Adam Watkins | E2: 1 | F2: Aaron Kerr | G2: 1 | H2: Alastair Campbell | I2: 1 | J2: Adam Hobson
A3: 2 | B3: Adam Smith | C3: 2 | D3: Alistair Young | E3: 2 | F3: Alastair Young | G3: 2 | H3: Alex Ellen | I3: 2 | J3: Andrew McCammon
A4: 3 | B4: Aiden Williamson | C4: 3 | D4: Andrew Stockan | E4: 3 | F4: Alex Jamieson | G4: 3 | H4: Alexander MacKay | I4: 3 | J4: Andrew McFarlane
A5: 4 | B5: Andrew Baird | C5: 4 | D5: Ben Durrand | E5: 4 | F5: Alistair Campbell | G5: 4 | H5: Angus Smith | I5: 4 | J5: Andrew Stoker
A6: 5 | B6: Andrew MacLennan | C6: 5 | D6: Calum Prideaux | E6: 5 | F6: Alister Mackay | G6: 5 | H6: Blair Milne | I6: 5 | J6: Bill Lambie
A7: 6 | B7: Angus Gillanders | C7: 6 | D7: Douglas Maclennan | E7: 6 | F7: Angus Lallah | G7: 6 | H7: Danny McPake | I7: 6 | J7: Calum Fraser
A8: 7 | B8: Angus Porter | C8: 7 | D8: Dylan Mackintosh | E8: 7 | F8: Arron Kerr | G8: 7 | H8: David Scott | I8: 7 | J8: Eoin Coull
A9: 8 | B9: Archie Smith | C9: 8 | D9: Eoghain Sutherland | E9: 8 | F9: Ben Sharpe | G9: 8 | H9: Ewan Spink | I9: 8 | J9: Euan Cantlie
A10: 9 | B10: Aaron Craigie | C10: 9 | D10: Finlay Beange | E10: 9 | F10: Bruce Newlands | G10: 9 | H10: Finbar Dunne | I10: 9 | J10: Finlay Maclennan
A11: 10 | B11: Charlie Peterana | C11: 10 | D11: Finn Hewick | E11: 10 | F11: Callum Lee | G11: 10 | H11: Finlay Rollo | I11: 10 | J11: Gareth Jenkins
A12: 11 | B12: Conner Cameron | C12: 11 | D12: Jake Henderson | E12: 11 | F12: Cameron Welsh | G12: 11 | H12: George Russell | I12: 11 | J12: Gordon Mowat
A13: 12 | B13: Daniel Beacom | C13: 12 | D13: Joe MacPerson | E13: 12 | F13: Craig Maclennan | G13: 12 | H13: Gordon Manson | I13: 12 | J13: Hamish Hickey
... A23: 22 | B23: Josh Manson | C23: 22 | D23: Ryan Curran | E23: 22 | F23: Liam Munro | G23: 22 | H23: Victor Jude-Eze | I23: 22 | J23: Matty Papp
A24: 23 | B24: Kye Brandie | C24: 23 | D24: Ryan Macnamara | E24: 23 | F24: Liam Paterson | G24: 23 | I24: 23 | J24: Nicky Stone
A25: 24 | B25: Liam Mackenzie | C25: 24 | D25: Ryan Sutherland | E25: 24 | F25: Lucas Allan | G25: 24 | I25: 24 | J25: Phil Reynolds
A26: 25 | B26: Logan Anderson | C26: 25 | D26: Sam Burnett | E26: 25 | F26: Matthew Baker | G26: 25 | I26: 25 | J26: Ryan MacCarthy
A27: 26 | B27: Michael Millar | C27: 26 | D27: Sam Coull | E27: 26 | F27: Robin Sneddon | G27: 26 | I27: 26 | J27: Sam Anderson
A28: 27 | B28: Ollie Bevan-Whittey | C28: 27 | D28: Sam Gallager | E28: 27 | F28: Rowan Nillsen | G28: 27 | I28: 27 | J28: Scott Fraser
A29: 28 | B29: Riley Bevan-Whittey | C29: 28 | D29: Scott Gray | E29: 28 | F29: Ruaridh Ellen | G29: 28 | I29: 28 | J29: Scott Hamilton
A30: 29 | B30: Roddy McGillvray | C30: 29 | D30: Sean Radabaugh | E30: 29 | F30: Ryan MacNamara | G30: 29 | I30: 29 | J30: Stephen Frame
A31: 30 | B31: Ryan Rodger | C31: 30 | D31: Shaun Golden | E31: 30 | F31: Sam Bryan | G31: 30 | I31: 30 | J31: Stephen Mackenzie
A32: 31 | B32: Seumas Henderson | C32: 31 | D32: Stuart Robertson | E32: 31 | F32: Scott Perry | G32: 31 | I32: 31 | J32: Tom Jenkins
A33: 32 | B33: Seamus Eunson | C33: 32 | D33: Thomas Reynolds | E33: 32 | F33: William Hodi | G33: 32 | I33: 32 | J33: Tom Mathieson
A34: 33 | B34: Stephen Anderson | C34: 33 | D34: Tom Palmer | E34: 33 | G34: 33 | I34: 33
A35: 34 | B35: Struan Ellen | C35: 34 | D35: Zak Fearn | E35: 34 | G35: 34 | I35: 34
A36: 35 | B36: Travis Macpherson | C36: 35 | D36: Zak Stewart | E36: 35 | G36: 35 | I36: 35
A37: 36 | B37: Tyler Gordon | C37: 36 | E37: 36 | G37: 36 | I37: 36
A38: 37 | B38: Zack Gill | C38: 37 | E38: 37 | G38: 37 | I38: 37
A39: 38 | C39: 38 | E39: 38 | G39: 38 | I39: 38
A40: 39 | C40: 39 | E40: 39 | G40: 39 | I40: 39
A41: 40 | C41: 40 | E41: 40 | G41: 40 | I41: 40
A42: 41 | C42: 41 | E42: 41 | G42: 41 | I42: 41
A43: 42 | C43: 42 | E43: 42 | G43: 42 | I43: 42
A44: 43 | C44: 43 | E44: 43 | G44: 43 | I44: 43
A45: 44 | C45: 44 | E45: 44 | G45: 44 | I45: 44
A46: 45 | C46: 45 | E46: 45 | G46: 45 | I46: 45
A47: 46 | C47: 46 | E47: 46 | G47: 46 | I47: 46
A48: 47 | C48: 47 | E48: 47 | G48: 47 | I48: 47
A49: 48 | C49: 48 | E49: 48 | G49: 48 | I49: 48
A50: 49 | C50: 49 | E50: 49 | G50: 49 | I50: 49
... A100: 99 | C100: 99 | E100: 99 | G100: 99 | I100: 99

Sheet U11G
A1: Event | B1: U11G | C1: 1st = 8A/B | D1: 2nd = 7A/B | E1: 3rd = 6A/B | F1: 4th = 5A/B | G1: 5th = 4A/B | H1: 6th = 3A/B | I1: 7th = 2A/B | J1: 8th = 1A/B | K1: CAAC | L1: Elgin | M1: ES | N1: FH | O1: IH | P1: MRR | Q1: NAAC | R1: RC
A2: 100m | B2: Name | C2: Holly Stewart | D2: Lauren Abbott | E2: Eve Mitchell | F2: Amber Cameron | G2: Ava Lambie
A3: A | B3: Club | C3: RC | D3: MRR | E3: IH | F3: NAAC | G3: CAAC | K3: 4 | L3: =IF(C3=L1,11,IF(D3=L1,9,IF(E3=L1,8,IF(F3=L1,7,IF(G3=L1,6,IF(H3=L1,5,IF(I3=L1,4,IF(J3=L1,3,0)))))))) -> 0 | M3: =IF(C3=M1,11,IF(D3=M1,9,IF(E3=M1,8,IF(F3=M1,7,IF(G3=M1,6,IF(H3=M1,5,IF(I3=M1,4,IF(J3=M1,3,0)))))))) -> 0 | N3: =IF(C3=N1,11,IF(D3=N1,9,IF(E3=N1,8,IF(F3=N1,7,IF(G3=N1,6,IF(H3=N1,5,IF(I3=N1,4,IF(J3=N1,3,0)))))))) -> 0 | O3: 6 | P3: 7 | Q3: 5 | R3: 8
A4: 2.3 | B4: Perf. | C4: 14.87 | D4: 15.11 | E4: 16.03 | F4: 16.49 | G4: 20.13
A5: 100m | B5: Name | C5: Tayler Barlow | D5: Lucy Robertson | E5: Rosie Ogston | F5: Rhiann Cantlie | G5: Josephine Holyrod
A6: B | B6: Club | C6: RC | D6: IH | E6: NAAC | F6: MRR | G6: CAAC | K6: =IF(C6=K1,9,IF(D6=K1,7,IF(E6=K1,6,IF(F6=K1,5,IF(G6=K1,4,IF(H6=K1,3,IF(I6=K1,2,IF(J6=K1,1,0)))))))) -> 4 | L6: =IF(C6=L1,9,IF(D6=L1,7,IF(E6=L1,6,IF(F6=L1,5,IF(G6=L1,4,IF(H6=L1,3,IF(I6=L1,2,IF(J6=L1,1,0)))))))) -> 0 | M6: =IF(C6=M1,9,IF(D6=M1,7,IF(E6=M1,6,IF(F6=M1,5,IF(G6=M1,4,IF(H6=M1,3,IF(I6=M1,2,IF(J6=M1,1,0)))))))) -> 0 | N6: =IF(C6=N1,9,IF(D6=N1,7,IF(E6=N1,6,IF(F6=N1,5,IF(G6=N1,4,IF(H6=N1,3,IF(I6=N1,2,IF(J6=N1,1,0)))))))) -> 0 | O6: =IF(C6=O1,9,IF(D6=O1,7,IF(E6=O1,6,IF(F6=O1,5,IF(G6=O1,4,IF(H6=O1,3,IF(I6=O1,2,IF(J6=O1,1,0)))))))) -> 7 | P6: =IF(C6=P1,9,IF(D6=P1,7,IF(E6=P1,6,IF(F6=P1,5,IF(G6=P1,4,IF(H6=P1,3,IF(I6=P1,2,IF(J6=P1,1,0)))))))) -> 5 | Q6: =IF(C6=Q1,9,IF(D6=Q1,7,IF(E6=Q1,6,IF(F6=Q1,5,IF(G6=Q1,4,IF(H6=Q1,3,IF(I6=Q1,2,IF(J6=Q1,1,0)))))))) -> 6 | R6: 8
A7: 2.8 | B7: Perf. | C7: 15.1 | D7: 16.47 | E7: 16.53 | F7: 17.21 | G7: 18.49
A8: 800m | B8: Name | C8: Isla O,Neill | D8: Lauren Abbott | E8: Sophia Fell-Cano | F8: Amber Cameron | G8: Anna Fraser
A9: A | B9: Club | C9: IH | D9: MRR | E9: CAAC | F9: NAAC | G9: RC | K9: 6 | L9: =IF(C9=L1,11,IF(D9=L1,9,IF(E9=L1,8,IF(F9=L1,7,IF(G9=L1,6,IF(H9=L1,5,IF(I9=L1,4,IF(J9=L1,3,0)))))))) -> 0 | M9: =IF(C9=M1,11,IF(D9=M1,9,IF(E9=M1,8,IF(F9=M1,7,IF(G9=M1,6,IF(H9=M1,5,IF(I9=M1,4,IF(J9=M1,3,0)))))))) -> 0 | N9: =IF(C9=N1,11,IF(D9=N1,9,IF(E9=N1,8,IF(F9=N1,7,IF(G9=N1,6,IF(H9=N1,5,IF(I9=N1,4,IF(J9=N1,3,0)))))))) -> 0 | O9: 8 | P9: 7 | Q9: 5 | R9: 4
B10: Perf. | C10: 2.56.89 | D10: 2.58.92 | E10: 3.02.15 | F10: 3.02.47 | G10: 3.02.79
A11: 800m | B11: Name | C11: Mairead Macleod | D11: Amber McClatchey | E11: Rhiann Cantlie | F11: Lucy Fraser | G11: Josephine Holyrod
A12: B | B12: Club | C12: IH | D12: NAAC | E12: MRR | F12: RC | G12: CAAC | K12: =IF(C12=K1,9,IF(D12=K1,7,IF(E12=K1,6,IF(F12=K1,5,IF(G12=K1,4,IF(H12=K1,3,IF(I12=K1,2,IF(J12=K1,1,0)))))))) -> 4 | L12: =IF(C12=L1,9,IF(D12=L1,7,IF(E12=L1,6,IF(F12=L1,5,IF(G12=L1,4,IF(H12=L1,3,IF(I12=L1,2,IF(J12=L1,1,0)))))))) -> 0 | M12: =IF(C12=M1,9,IF(D12=M1,7,IF(E12=M1,6,IF(F12=M1,5,IF(G12=M1,4,IF(H12=M1,3,IF(I12=M1,2,IF(J12=M1,1,0)))))))) -> 0 | N12: =IF(C12=N1,9,IF(D12=N1,7,IF(E12=N1,6,IF(F12=N1,5,IF(G12=N1,4,IF(H12=N1,3,IF(I12=N1,2,IF(J12=N1,1,0)))))))) -> 0 | O12: 8 | P12: =IF(C12=P1,9,IF(D12=P1,7,IF(E12=P1,6,IF(F12=P1,5,IF(G12=P1,4,IF(H12=P1,3,IF(I12=P1,2,IF(J12=P1,1,0)))))))) -> 6 | Q12: =IF(C12=Q1,9,IF(D12=Q1,7,IF(E12=Q1,6,IF(F12=Q1,5,IF(G12=Q1,4,IF(H12=Q1,3,IF(I12=Q1,2,IF(J12=Q1,1,0)))))))) -> 7 | R12: =IF(C12=R1,9,IF(D12=R1,7,IF(E12=R1,6,IF(F12=R1,5,IF(G12=R1,4,IF(H12=R1,3,IF(I12=R1,2,IF(J12=R1,1,0)))))))) -> 5
B13: Perf. | C13: 2.59.36 | D13: 3.11.58 | E13: 3.11.60 | F13: 3.13.71 | G13: 3.37.80
A14: S Putt | B14: Name | C14: Rosie Ogston | D14: Ula Donald | E14: Ava Lambie | F14: Lucy Fraser
A15: A | B15: Club | C15: NAAC | D15: IH | E15: CAAC | F15: RC | K15: 6 | L15: =IF(C15=L1,11,IF(D15=L1,9,IF(E15=L1,8,IF(F15=L1,7,IF(G15=L1,6,IF(H15=L1,5,IF(I15=L1,4,IF(J15=L1,3,0)))))))) -> 0 | M15: =IF(C15=M1,11,IF(D15=M1,9,IF(E15=M1,8,IF(F15=M1,7,IF(G15=M1,6,IF(H15=M1,5,IF(I15=M1,4,IF(J15=M1,3,0)))))))) -> 0 | N15: =IF(C15=N1,11,IF(D15=N1,9,IF(E15=N1,8,IF(F15=N1,7,IF(G15=N1,6,IF(H15=N1,5,IF(I15=N1,4,IF(J15=N1,3,0)))))))) -> 0 | O15: 7 | P15: =IF(C15=P1,11,IF(D15=P1,9,IF(E15=P1,8,IF(F15=P1,7,IF(G15=P1,6,IF(H15=P1,5,IF(I15=P1,4,IF(J15=P1,3,0)))))))) -> 0 | Q15: 8 | R15: 5
B16: Perf. | C16: 4.18 | D16: 3.8 | E16: 3.59 | F16: 3.47
A17: S Putt | B17: Name | C17: Skye Nimmoms | D17: Sophia Fell-Cano | E17: Amber Cameron | F17: Anna Fraser
A18: B | B18: Club | C18: IH | D18: CAAC | E18: NAAC | F18: RC | K18: =IF(C18=K1,9,IF(D18=K1,7,IF(E18=K1,6,IF(F18=K1,5,IF(G18=K1,4,IF(H18=K1,3,IF(I18=K1,2,IF(J18=K1,1,0)))))))) -> 7 | L18: =IF(C18=L1,9,IF(D18=L1,7,IF(E18=L1,6,IF(F18=L1,5,IF(G18=L1,4,IF(H18=L1,3,IF(I18=L1,2,IF(J18=L1,1,0)))))))) -> 0 | M18: =IF(C18=M1,9,IF(D18=M1,7,IF(E18=M1,6,IF(F18=M1,5,IF(G18=M1,4,IF(H18=M1,3,IF(I18=M1,2,IF(J18=M1,1,0)))))))) -> 0 | N18: =IF(C18=N1,9,IF(D18=N1,7,IF(E18=N1,6,IF(F18=N1,5,IF(G18=N1,4,IF(H18=N1,3,IF(I18=N1,2,IF(J18=N1,1,0)))))))) -> 0 | O18: 8 | P18: =IF(C18=P1,9,IF(D18=P1,7,IF(E18=P1,6,IF(F18=P1,5,IF(G18=P1,4,IF(H18=P1,3,IF(I18=P1,2,IF(J18=P1,1,0)))))))) -> 0 | Q18: =IF(C18=Q1,9,IF(D18=Q1,7,IF(E18=Q1,6,IF(F18=Q1,5,IF(G18=Q1,4,IF(H18=Q1,3,IF(I18=Q1,2,IF(J18=Q1,1,0)))))))) -> 6 | R18: =IF(C18=R1,9,IF(D18=R1,7,IF(E18=R1,6,IF(F18=R1,5,IF(G18=R1,4,IF(H18=R1,3,IF(I18=R1,2,IF(J18=R1,1,0)))))))) -> 5
B19: Perf. | C19: 3.69 | D19: 3.54 | E19: 3.3 | F19: 3.3
A20: H Jump | B20: Name | C20: Mairead Macleod | D20: Tayler Barlow | E20: Sophia Fell-Cano
A21: A | B21: Club | C21: IH | D21: RC | E21: CAAC | K21: 6 | L21: =IF(C21=L1,11,IF(D21=L1,9,IF(E21=L1,8,IF(F21=L1,7,IF(G21=L1,6,IF(H21=L1,5,IF(I21=L1,4,IF(J21=L1,3,0)))))))) -> 0 | M21: =IF(C21=M1,11,IF(D21=M1,9,IF(E21=M1,8,IF(F21=M1,7,IF(G21=M1,6,IF(H21=M1,5,IF(I21=M1,4,IF(J21=M1,3,0)))))))) -> 0 | N21: =IF(C21=N1,11,IF(D21=N1,9,IF(E21=N1,8,IF(F21=N1,7,IF(G21=N1,6,IF(H21=N1,5,IF(I21=N1,4,IF(J21=N1,3,0)))))))) -> 0 | O21: 8 | P21: =IF(C21=P1,11,IF(D21=P1,9,IF(E21=P1,8,IF(F21=P1,7,IF(G21=P1,6,IF(H21=P1,5,IF(I21=P1,4,IF(J21=P1,3,0)))))))) -> 0 | Q21: =IF(C21=Q1,11,IF(D21=Q1,9,IF(E21=Q1,8,IF(F21=Q1,7,IF(G21=Q1,6,IF(H21=Q1,5,IF(I21=Q1,4,IF(J21=Q1,3,0)))))))) -> 0 | R21: 7
B22: Perf. | C22: 1.10 | D22: 1.05 | E22: 1.00
A23: H Jump | B23: Name | C23: Holly Stewart | D23: Isla O,Neill | E23: Josephine Holyrod
A24: B | B24: Club | C24: RC | D24: IH | E24: CAAC | K24: =IF(C24=K1,9,IF(D24=K1,7,IF(E24=K1,6,IF(F24=K1,5,IF(G24=K1,4,IF(H24=K1,3,IF(I24=K1,2,IF(J24=K1,1,0)))))))) -> 6 | L24: =IF(C24=L1,9,IF(D24=L1,7,IF(E24=L1,6,IF(F24=L1,5,IF(G24=L1,4,IF(H24=L1,3,IF(I24=L1,2,IF(J24=L1,1,0)))))))) -> 0 | M24: =IF(C24=M1,9,IF(D24=M1,7,IF(E24=M1,6,IF(F24=M1,5,IF(G24=M1,4,IF(H24=M1,3,IF(I24=M1,2,IF(J24=M1,1,0)))))))) -> 0 | N24: =IF(C24=N1,9,IF(D24=N1,7,IF(E24=N1,6,IF(F24=N1,5,IF(G24=N1,4,IF(H24=N1,3,IF(I24=N1,2,IF(J24=N1,1,0)))))))) -> 0 | O24: =IF(C24=O1,9,IF(D24=O1,7,IF(E24=O1,6,IF(F24=O1,5,IF(G24=O1,4,IF(H24=O1,3,IF(I24=O1,2,IF(J24=O1,1,0)))))))) -> 7 | P24: =IF(C24=P1,9,IF(D24=P1,7,IF(E24=P1,6,IF(F24=P1,5,IF(G24=P1,4,IF(H24=P1,3,IF(I24=P1,2,IF(J24=P1,1,0)))))))) -> 0 | Q24: =IF(C24=Q1,9,IF(D24=Q1,7,IF(E24=Q1,6,IF(F24=Q1,5,IF(G24=Q1,4,IF(H24=Q1,3,IF(I24=Q1,2,IF(J24=Q1,1,0)))))))) -> 0 | R24: 8
B25: Perf. | C25: 1.05 | D25: 0.95 | E25: 0.90
B26: Name
A27: A | B27: Club | K27: =IF(C27=K1,11,IF(D27=K1,9,IF(E27=K1,8,IF(F27=K1,7,IF(G27=K1,6,IF(H27=K1,5,IF(I27=K1,4,IF(J27=K1,3,0)))))))) -> 0 | L27: =IF(C27=L1,11,IF(D27=L1,9,IF(E27=L1,8,IF(F27=L1,7,IF(G27=L1,6,IF(H27=L1,5,IF(I27=L1,4,IF(J27=L1,3,0)))))))) -> 0 | M27: =IF(C27=M1,11,IF(D27=M1,9,IF(E27=M1,8,IF(F27=M1,7,IF(G27=M1,6,IF(H27=M1,5,IF(I27=M1,4,IF(J27=M1,3,0)))))))) -> 0 | N27: =IF(C27=N1,11,IF(D27=N1,9,IF(E27=N1,8,IF(F27=N1,7,IF(G27=N1,6,IF(H27=N1,5,IF(I27=N1,4,IF(J27=N1,3,0)))))))) -> 0 | O27: =IF(C27=O1,11,IF(D27=O1,9,IF(E27=O1,8,IF(F27=O1,7,IF(G27=O1,6,IF(H27=O1,5,IF(I27=O1,4,IF(J27=O1,3,0)))))))) -> 0 | P27: =IF(C27=P1,11,IF(D27=P1,9,IF(E27=P1,8,IF(F27=P1,7,IF(G27=P1,6,IF(H27=P1,5,IF(I27=P1,4,IF(J27=P1,3,0)))))))) -> 0 | Q27: =IF(C27=Q1,11,IF(D27=Q1,9,IF(E27=Q1,8,IF(F27=Q1,7,IF(G27=Q1,6,IF(H27=Q1,5,IF(I27=Q1,4,IF(J27=Q1,3,0)))))))) -> 0 | R27: =IF(C27=R1,11,IF(D27=R1,9,IF(E27=R1,8,IF(F27=R1,7,IF(G27=R1,6,IF(H27=R1,5,IF(I27=R1,4,IF(J27=R1,3,0)))))))) -> 0
B28: Perf.
B29: Name
A30: B | B30: Club | K30: =IF(C30=K1,9,IF(D30=K1,7,IF(E30=K1,6,IF(F30=K1,5,IF(G30=K1,4,IF(H30=K1,3,IF(I30=K1,2,IF(J30=K1,1,0)))))))) -> 0 | L30: =IF(C30=L1,9,IF(D30=L1,7,IF(E30=L1,6,IF(F30=L1,5,IF(G30=L1,4,IF(H30=L1,3,IF(I30=L1,2,IF(J30=L1,1,0)))))))) -> 0 | M30: =IF(C30=M1,9,IF(D30=M1,7,IF(E30=M1,6,IF(F30=M1,5,IF(G30=M1,4,IF(H30=M1,3,IF(I30=M1,2,IF(J30=M1,1,0)))))))) -> 0 | N30: =IF(C30=N1,9,IF(D30=N1,7,IF(E30=N1,6,IF(F30=N1,5,IF(G30=N1,4,IF(H30=N1,3,IF(I30=N1,2,IF(J30=N1,1,0)))))))) -> 0 | O30: =IF(C30=O1,9,IF(D30=O1,7,IF(E30=O1,6,IF(F30=O1,5,IF(G30=O1,4,IF(H30=O1,3,IF(I30=O1,2,IF(J30=O1,1,0)))))))) -> 0 | P30: =IF(C30=P1,9,IF(D30=P1,7,IF(E30=P1,6,IF(F30=P1,5,IF(G30=P1,4,IF(H30=P1,3,IF(I30=P1,2,IF(J30=P1,1,0)))))))) -> 0 | Q30: =IF(C30=Q1,9,IF(D30=Q1,7,IF(E30=Q1,6,IF(F30=Q1,5,IF(G30=Q1,4,IF(H30=Q1,3,IF(I30=Q1,2,IF(J30=Q1,1,0)))))))) -> 0 | R30: =IF(C30=R1,9,IF(D30=R1,7,IF(E30=R1,6,IF(F30=R1,5,IF(G30=R1,4,IF(H30=R1,3,IF(I30=R1,2,IF(J30=R1,1,0)))))))) -> 0
B31: Perf.
B32: Name
A33: A | B33: Club | K33: =IF(C33=K1,11,IF(D33=K1,9,IF(E33=K1,8,IF(F33=K1,7,IF(G33=K1,6,IF(H33=K1,5,IF(I33=K1,4,IF(J33=K1,3,0)))))))) -> 0 | L33: =IF(C33=L1,11,IF(D33=L1,9,IF(E33=L1,8,IF(F33=L1,7,IF(G33=L1,6,IF(H33=L1,5,IF(I33=L1,4,IF(J33=L1,3,0)))))))) -> 0 | M33: =IF(C33=M1,11,IF(D33=M1,9,IF(E33=M1,8,IF(F33=M1,7,IF(G33=M1,6,IF(H33=M1,5,IF(I33=M1,4,IF(J33=M1,3,0)))))))) -> 0 | N33: =IF(C33=N1,11,IF(D33=N1,9,IF(E33=N1,8,IF(F33=N1,7,IF(G33=N1,6,IF(H33=N1,5,IF(I33=N1,4,IF(J33=N1,3,0)))))))) -> 0 | O33: =IF(C33=O1,11,IF(D33=O1,9,IF(E33=O1,8,IF(F33=O1,7,IF(G33=O1,6,IF(H33=O1,5,IF(I33=O1,4,IF(J33=O1,3,0)))))))) -> 0 | P33: =IF(C33=P1,11,IF(D33=P1,9,IF(E33=P1,8,IF(F33=P1,7,IF(G33=P1,6,IF(H33=P1,5,IF(I33=P1,4,IF(J33=P1,3,0)))))))) -> 0 | Q33: =IF(C33=Q1,11,IF(D33=Q1,9,IF(E33=Q1,8,IF(F33=Q1,7,IF(G33=Q1,6,IF(H33=Q1,5,IF(I33=Q1,4,IF(J33=Q1,3,0)))))))) -> 0 | R33: =IF(C33=R1,11,IF(D33=R1,9,IF(E33=R1,8,IF(F33=R1,7,IF(G33=R1,6,IF(H33=R1,5,IF(I33=R1,4,IF(J33=R1,3,0)))))))) -> 0
B34: Perf.
B35: Name
A36: B | B36: Club | K36: =IF(C36=K1,9,IF(D36=K1,7,IF(E36=K1,6,IF(F36=K1,5,IF(G36=K1,4,IF(H36=K1,3,IF(I36=K1,2,IF(J36=K1,1,0)))))))) -> 0 | L36: =IF(C36=L1,9,IF(D36=L1,7,IF(E36=L1,6,IF(F36=L1,5,IF(G36=L1,4,IF(H36=L1,3,IF(I36=L1,2,IF(J36=L1,1,0)))))))) -> 0 | M36: =IF(C36=M1,9,IF(D36=M1,7,IF(E36=M1,6,IF(F36=M1,5,IF(G36=M1,4,IF(H36=M1,3,IF(I36=M1,2,IF(J36=M1,1,0)))))))) -> 0 | N36: =IF(C36=N1,9,IF(D36=N1,7,IF(E36=N1,6,IF(F36=N1,5,IF(G36=N1,4,IF(H36=N1,3,IF(I36=N1,2,IF(J36=N1,1,0)))))))) -> 0 | O36: =IF(C36=O1,9,IF(D36=O1,7,IF(E36=O1,6,IF(F36=O1,5,IF(G36=O1,4,IF(H36=O1,3,IF(I36=O1,2,IF(J36=O1,1,0)))))))) -> 0 | P36: =IF(C36=P1,9,IF(D36=P1,7,IF(E36=P1,6,IF(F36=P1,5,IF(G36=P1,4,IF(H36=P1,3,IF(I36=P1,2,IF(J36=P1,1,0)))))))) -> 0 | Q36: =IF(C36=Q1,9,IF(D36=Q1,7,IF(E36=Q1,6,IF(F36=Q1,5,IF(G36=Q1,4,IF(H36=Q1,3,IF(I36=Q1,2,IF(J36=Q1,1,0)))))))) -> 0 | R36: =IF(C36=R1,9,IF(D36=R1,7,IF(E36=R1,6,IF(F36=R1,5,IF(G36=R1,4,IF(H36=R1,3,IF(I36=R1,2,IF(J36=R1,1,0)))))))) -> 0
B37: Perf.
B38: Name
A39: A | B39: Club | K39: =IF(C39=K1,11,IF(D39=K1,9,IF(E39=K1,8,IF(F39=K1,7,IF(G39=K1,6,IF(H39=K1,5,IF(I39=K1,4,IF(J39=K1,3,0)))))))) -> 0 | L39: =IF(C39=L1,11,IF(D39=L1,9,IF(E39=L1,8,IF(F39=L1,7,IF(G39=L1,6,IF(H39=L1,5,IF(I39=L1,4,IF(J39=L1,3,0)))))))) -> 0 | M39: =IF(C39=M1,11,IF(D39=M1,9,IF(E39=M1,8,IF(F39=M1,7,IF(G39=M1,6,IF(H39=M1,5,IF(I39=M1,4,IF(J39=M1,3,0)))))))) -> 0 | N39: =IF(C39=N1,11,IF(D39=N1,9,IF(E39=N1,8,IF(F39=N1,7,IF(G39=N1,6,IF(H39=N1,5,IF(I39=N1,4,IF(J39=N1,3,0)))))))) -> 0 | O39: =IF(C39=O1,11,IF(D39=O1,9,IF(E39=O1,8,IF(F39=O1,7,IF(G39=O1,6,IF(H39=O1,5,IF(I39=O1,4,IF(J39=O1,3,0)))))))) -> 0 | P39: =IF(C39=P1,11,IF(D39=P1,9,IF(E39=P1,8,IF(F39=P1,7,IF(G39=P1,6,IF(H39=P1,5,IF(I39=P1,4,IF(J39=P1,3,0)))))))) -> 0 | Q39: =IF(C39=Q1,11,IF(D39=Q1,9,IF(E39=Q1,8,IF(F39=Q1,7,IF(G39=Q1,6,IF(H39=Q1,5,IF(I39=Q1,4,IF(J39=Q1,3,0)))))))) -> 0 | R39: =IF(C39=R1,11,IF(D39=R1,9,IF(E39=R1,8,IF(F39=R1,7,IF(G39=R1,6,IF(H39=R1,5,IF(I39=R1,4,IF(J39=R1,3,0)))))))) -> 0
B40: Perf.
B41: Name
A42: B | B42: Club | K42: =IF(C42=K1,9,IF(D42=K1,7,IF(E42=K1,6,IF(F42=K1,5,IF(G42=K1,4,IF(H42=K1,3,IF(I42=K1,2,IF(J42=K1,1,0)))))))) -> 0 | L42: =IF(C42=L1,9,IF(D42=L1,7,IF(E42=L1,6,IF(F42=L1,5,IF(G42=L1,4,IF(H42=L1,3,IF(I42=L1,2,IF(J42=L1,1,0)))))))) -> 0 | M42: =IF(C42=M1,9,IF(D42=M1,7,IF(E42=M1,6,IF(F42=M1,5,IF(G42=M1,4,IF(H42=M1,3,IF(I42=M1,2,IF(J42=M1,1,0)))))))) -> 0 | N42: =IF(C42=N1,9,IF(D42=N1,7,IF(E42=N1,6,IF(F42=N1,5,IF(G42=N1,4,IF(H42=N1,3,IF(I42=N1,2,IF(J42=N1,1,0)))))))) -> 0 | O42: =IF(C42=O1,9,IF(D42=O1,7,IF(E42=O1,6,IF(F42=O1,5,IF(G42=O1,4,IF(H42=O1,3,IF(I42=O1,2,IF(J42=O1,1,0)))))))) -> 0 | P42: =IF(C42=P1,9,IF(D42=P1,7,IF(E42=P1,6,IF(F42=P1,5,IF(G42=P1,4,IF(H42=P1,3,IF(I42=P1,2,IF(J42=P1,1,0)))))))) -> 0 | Q42: =IF(C42=Q1,9,IF(D42=Q1,7,IF(E42=Q1,6,IF(F42=Q1,5,IF(G42=Q1,4,IF(H42=Q1,3,IF(I42=Q1,2,IF(J42=Q1,1,0)))))))) -> 0 | R42: =IF(C42=R1,9,IF(D42=R1,7,IF(E42=R1,6,IF(F42=R1,5,IF(G42=R1,4,IF(H42=R1,3,IF(I42=R1,2,IF(J42=R1,1,0)))))))) -> 0
B43: Perf.
A44: RELAY | B44: Club | C44: IH | D44: RC | K44: =IF(C44=K1,11,IF(D44=K1,9,IF(E44=K1,8,IF(F44=K1,7,IF(G44=K1,6,IF(H44=K1,5,IF(I44=K1,4,IF(J44=K1,3,0)))))))) -> 0 | L44: =IF(C44=L1,11,IF(D44=L1,9,IF(E44=L1,8,IF(F44=L1,7,IF(G44=L1,6,IF(H44=L1,5,IF(I44=L1,4,IF(J44=L1,3,0)))))))) -> 0 | M44: =IF(C44=M1,11,IF(D44=M1,9,IF(E44=M1,8,IF(F44=M1,7,IF(G44=M1,6,IF(H44=M1,5,IF(I44=M1,4,IF(J44=M1,3,0)))))))) -> 0 | N44: =IF(C44=N1,11,IF(D44=N1,9,IF(E44=N1,8,IF(F44=N1,7,IF(G44=N1,6,IF(H44=N1,5,IF(I44=N1,4,IF(J44=N1,3,0)))))))) -> 0 | O44: 8 | P44: =IF(C44=P1,11,IF(D44=P1,9,IF(E44=P1,8,IF(F44=P1,7,IF(G44=P1,6,IF(H44=P1,5,IF(I44=P1,4,IF(J44=P1,3,0)))))))) -> 0 | Q44: =IF(C44=Q1,11,IF(D44=Q1,9,IF(E44=Q1,8,IF(F44=Q1,7,IF(G44=Q1,6,IF(H44=Q1,5,IF(I44=Q1,4,IF(J44=Q1,3,0)))))))) -> 0 | R44: 7
A45: 4 x 100m | B45: Perf. | C45: 1.04.80 | D45: 1.06.54
J46: Totals | K46: =SUM(K44+K42+K39+K36+K33+K30+K27+K24+K21+K18+K15+K12+K9+K6+K3) -> 43 | L46: =SUM(L44+L42+L39+L36+L33+L30+L27+L24+L21+L18+L15+L12+L9+L6+L3) -> 0 | M46: =SUM(M44+M42+M39+M36+M33+M30+M27+M24+M21+M18+M15+M12+M9+M6+M3) -> 0 | N46: =SUM(N44+N42+N39+N36+N33+N30+N27+N24+N21+N18+N15+N12+N9+N6+N3) -> 0 | O46: =SUM(O44+O42+O39+O36+O33+O30+O27+O24+O21+O18+O15+O12+O9+O6+O3) -> 67 | P46: =SUM(P44+P42+P39+P36+P33+P30+P27+P24+P21+P18+P15+P12+P9+P6+P3) -> 25 | Q46: =SUM(Q44+Q42+Q39+Q36+Q33+Q30+Q27+Q24+Q21+Q18+Q15+Q12+Q9+Q6+Q3) -> 37 | R46: =SUM(R44+R42+R39+R36+R33+R30+R27+R24+R21+R18+R15+R12+R9+R6+R3) -> 57
J47: Position | K47: 3 | O47: 1 | P47: 5 | Q47: 4 | R47: 2
K48: =K1 -> CAAC | L48: =L1 -> Elgin | M48: =M1 -> ES | N48: =N1 -> FH | O48: =O1 -> IH | P48: =P1 -> MRR | Q48: =Q1 -> NAAC | R48: =R1 -> RC

Sheet U13G
A1: Event | B1: U13G | C1: 1st = 8A/B | D1: 2nd = 7A/B | E1: 3rd = 6A/B | F1: 4th = 5A/B | G1: 5th = 4A/B | H1: 6th = 3A/B | I1: 7th = 2A/B | J1: 8th = 1A/B | K1: CAAC | L1: Elgin | M1: ES | N1: FH | O1: IH | P1: MRR | Q1: NAAC | R1: RC
A2: 100m | B2: Name | C2: Isabella Henry | D2: Rosie Milligan | E2: Katie Murray | F2: Elise Beacom | G2: Eden Wocjik
A3: A | B3: Club | C3: RC | D3: ES | E3: CAAC | F3: IH | G3: MRR | K3: 6 | L3: =IF(C3=L1,11,IF(D3=L1,9,IF(E3=L1,8,IF(F3=L1,7,IF(G3=L1,6,IF(H3=L1,5,IF(I3=L1,4,IF(J3=L1,3,0)))))))) -> 0 | M3: 7 | N3: =IF(C3=N1,11,IF(D3=N1,9,IF(E3=N1,8,IF(F3=N1,7,IF(G3=N1,6,IF(H3=N1,5,IF(I3=N1,4,IF(J3=N1,3,0)))))))) -> 0 | O3: 5 | P3: 4 | R3: 8
A4: 3.5 | B4: Perf. | C4: 14.54 | D4: 14.97 | E4: 15.38 | F4: 15.67 | G4: 15.77
A5: 100m | B5: Name | C5: Rhiannon Ebrihem | D5: Beth Urquhart | E5: Erin Sutherland | F5: Eva Ryan
A6: B | B6: Club | C6: RC | D6: MRR | E6: CAAC | F6: IH | K6: =IF(C6=K1,9,IF(D6=K1,7,IF(E6=K1,6,IF(F6=K1,5,IF(G6=K1,4,IF(H6=K1,3,IF(I6=K1,2,IF(J6=K1,1,0)))))))) -> 6 | L6: =IF(C6=L1,9,IF(D6=L1,7,IF(E6=L1,6,IF(F6=L1,5,IF(G6=L1,4,IF(H6=L1,3,IF(I6=L1,2,IF(J6=L1,1,0)))))))) -> 0 | M6: =IF(C6=M1,9,IF(D6=M1,7,IF(E6=M1,6,IF(F6=M1,5,IF(G6=M1,4,IF(H6=M1,3,IF(I6=M1,2,IF(J6=M1,1,0)))))))) -> 0 | N6: =IF(C6=N1,9,IF(D6=N1,7,IF(E6=N1,6,IF(F6=N1,5,IF(G6=N1,4,IF(H6=N1,3,IF(I6=N1,2,IF(J6=N1,1,0)))))))) -> 0 | O6: =IF(C6=O1,9,IF(D6=O1,7,IF(E6=O1,6,IF(F6=O1,5,IF(G6=O1,4,IF(H6=O1,3,IF(I6=O1,2,IF(J6=O1,1,0)))))))) -> 5 | P6: =IF(C6=P1,9,IF(D6=P1,7,IF(E6=P1,6,IF(F6=P1,5,IF(G6=P1,4,IF(H6=P1,3,IF(I6=P1,2,IF(J6=P1,1,0)))))))) -> 7 | Q6: =IF(C6=Q1,9,IF(D6=Q1,7,IF(E6=Q1,6,IF(F6=Q1,5,IF(G6=Q1,4,IF(H6=Q1,3,IF(I6=Q1,2,IF(J6=Q1,1,0)))))))) -> 0 | R6: 8
A7: 5 | B7: Perf. | C7: 14.31 | D7: 14.35 | E7: 16.61 | F7: 17.8
A8: 200m | B8: Name | C8: Rhiannon Ebrihem | D8: Katie Murray | E8: Eden Wocjik | F8: Isobel Garvie
A9: A | B9: Club | C9: RC | D9: CAAC | E9: MRR | F9: IH | K9: 7 | L9: =IF(C9=L1,11,IF(D9=L1,9,IF(E9=L1,8,IF(F9=L1,7,IF(G9=L1,6,IF(H9=L1,5,IF(I9=L1,4,IF(J9=L1,3,0)))))))) -> 0 | M9: =IF(C9=M1,11,IF(D9=M1,9,IF(E9=M1,8,IF(F9=M1,7,IF(G9=M1,6,IF(H9=M1,5,IF(I9=M1,4,IF(J9=M1,3,0)))))))) -> 0 | N9: =IF(C9=N1,11,IF(D9=N1,9,IF(E9=N1,8,IF(F9=N1,7,IF(G9=N1,6,IF(H9=N1,5,IF(I9=N1,4,IF(J9=N1,3,0)))))))) -> 0 | O9: 5 | P9: 6 | Q9: =IF(C9=Q1,11,IF(D9=Q1,9,IF(E9=Q1,8,IF(F9=Q1,7,IF(G9=Q1,6,IF(H9=Q1,5,IF(I9=Q1,4,IF(J9=Q1,3,0)))))))) -> 0 | R9: 8
A10: 1.7 | B10: Perf. | C10: 30.33 | D10: 32.04 | E10: 33.25 | F10: 34.2
A11: 200m | B11: Name | C11: Isabella Henry | D11: Elise Beacom | E11: Mackenzie Findlay | F11: Lauren Thompson
A12: B | B12: Club | C12: RC | D12: IH | E12: MRR | F12: CAAC | K12: =IF(C12=K1,9,IF(D12=K1,7,IF(E12=K1,6,IF(F12=K1,5,IF(G12=K1,4,IF(H12=K1,3,IF(I12=K1,2,IF(J12=K1,1,0)))))))) -> 5 | L12: =IF(C12=L1,9,IF(D12=L1,7,IF(E12=L1,6,IF(F12=L1,5,IF(G12=L1,4,IF(H12=L1,3,IF(I12=L1,2,IF(J12=L1,1,0)))))))) -> 0 | M12: =IF(C12=M1,9,IF(D12=M1,7,IF(E12=M1,6,IF(F12=M1,5,IF(G12=M1,4,IF(H12=M1,3,IF(I12=M1,2,IF(J12=M1,1,0)))))))) -> 0 | N12: =IF(C12=N1,9,IF(D12=N1,7,IF(E12=N1,6,IF(F12=N1,5,IF(G12=N1,4,IF(H12=N1,3,IF(I12=N1,2,IF(J12=N1,1,0)))))))) -> 0 | O12: =IF(C12=O1,9,IF(D12=O1,7,IF(E12=O1,6,IF(F12=O1,5,IF(G12=O1,4,IF(H12=O1,3,IF(I12=O1,2,IF(J12=O1,1,0)))))))) -> 7 | P12: =IF(C12=P1,9,IF(D12=P1,7,IF(E12=P1,6,IF(F12=P1,5,IF(G12=P1,4,IF(H12=P1,3,IF(I12=P1,2,IF(J12=P1,1,0)))))))) -> 6 | Q12: =IF(C12=Q1,9,IF(D12=Q1,7,IF(E12=Q1,6,IF(F12=Q1,5,IF(G12=Q1,4,IF(H12=Q1,3,IF(I12=Q1,2,IF(J12=Q1,1,0)))))))) -> 0 | R12: 8
A13: 2.6 | B13: Perf. | C13: 30.76 | D13: 32.46 | E13: 33.84 | F13: 39.59
A14: 1500m | B14: Name | C14: Beth Urquhart | D14: Kirsten Burnett | E14: Rosie Milligan | F14: Morag Lynch
A15: A | B15: Club | C15: MRR | D15: IH | E15: ES | F15: RC | K15: =IF(C15=K1,11,IF(D15=K1,9,IF(E15=K1,8,IF(F15=K1,7,IF(G15=K1,6,IF(H15=K1,5,IF(I15=K1,4,IF(J15=K1,3,0)))))))) -> 0 | L15: =IF(C15=L1,11,IF(D15=L1,9,IF(E15=L1,8,IF(F15=L1,7,IF(G15=L1,6,IF(H15=L1,5,IF(I15=L1,4,IF(J15=L1,3,0)))))))) -> 0 | M15: 6 | N15: =IF(C15=N1,11,IF(D15=N1,9,IF(E15=N1,8,IF(F15=N1,7,IF(G15=N1,6,IF(H15=N1,5,IF(I15=N1,4,IF(J15=N1,3,0)))))))) -> 0 | O15: 7 | P15: 8 | Q15: =IF(C15=Q1,11,IF(D15=Q1,9,IF(E15=Q1,8,IF(F15=Q1,7,IF(G15=Q1,6,IF(H15=Q1,5,IF(I15=Q1,4,IF(J15=Q1,3,0)))))))) -> 0 | R15: 5
B16: Perf. | C16: 5.28.25 | D16: 5.31.40 | E16: 5.39.70 | F16: 6.11.49
A17: 1500m | B17: Name | C17: Isobel Garvie | D17: Mackenzie Findlay | E17: Emily Bell
A18: B | B18: Club | C18: IH | D18: MRR | E18: RC | K18: =IF(C18=K1,9,IF(D18=K1,7,IF(E18=K1,6,IF(F18=K1,5,IF(G18=K1,4,IF(H18=K1,3,IF(I18=K1,2,IF(J18=K1,1,0)))))))) -> 0 | L18: =IF(C18=L1,9,IF(D18=L1,7,IF(E18=L1,6,IF(F18=L1,5,IF(G18=L1,4,IF(H18=L1,3,IF(I18=L1,2,IF(J18=L1,1,0)))))))) -> 0 | M18: =IF(C18=M1,9,IF(D18=M1,7,IF(E18=M1,6,IF(F18=M1,5,IF(G18=M1,4,IF(H18=M1,3,IF(I18=M1,2,IF(J18=M1,1,0)))))))) -> 0 | N18: =IF(C18=N1,9,IF(D18=N1,7,IF(E18=N1,6,IF(F18=N1,5,IF(G18=N1,4,IF(H18=N1,3,IF(I18=N1,2,IF(J18=N1,1,0)))))))) -> 0 | O18: 8 | P18: =IF(C18=P1,9,IF(D18=P1,7,IF(E18=P1,6,IF(F18=P1,5,IF(G18=P1,4,IF(H18=P1,3,IF(I18=P1,2,IF(J18=P1,1,0)))))))) -> 7 | Q18: =IF(C18=Q1,9,IF(D18=Q1,7,IF(E18=Q1,6,IF(F18=Q1,5,IF(G18=Q1,4,IF(H18=Q1,3,IF(I18=Q1,2,IF(J18=Q1,1,0)))))))) -> 0 | R18: =IF(C18=R1,9,IF(D18=R1,7,IF(E18=R1,6,IF(F18=R1,5,IF(G18=R1,4,IF(H18=R1,3,IF(I18=R1,2,IF(J18=R1,1,0)))))))) -> 6
B19: Perf. | C19: 5.39.57 | D19: 6.01.81 | E19: 6.15.28
A20: H Jump | B20: Name | C20: Stroma Fraser | D20: Rosie Milligan | E20: Femke Waite | F20: Katie Murray
A21: A | B21: Club | C21: IH | D21: ES | E21: RC | F21: CAAC | K21: 6 | L21: =IF(C21=L1,11,IF(D21=L1,9,IF(E21=L1,8,IF(F21=L1,7,IF(G21=L1,6,IF(H21=L1,5,IF(I21=L1,4,IF(J21=L1,3,0)))))))) -> 0 | M21: 7 | N21: =IF(C21=N1,11,IF(D21=N1,9,IF(E21=N1,8,IF(F21=N1,7,IF(G21=N1,6,IF(H21=N1,5,IF(I21=N1,4,IF(J21=N1,3,0)))))))) -> 0 | O21: 8 | P21: =IF(C21=P1,11,IF(D21=P1,9,IF(E21=P1,8,IF(F21=P1,7,IF(G21=P1,6,IF(H21=P1,5,IF(I21=P1,4,IF(J21=P1,3,0)))))))) -> 0 | Q21: =IF(C21=Q1,11,IF(D21=Q1,9,IF(E21=Q1,8,IF(F21=Q1,7,IF(G21=Q1,6,IF(H21=Q1,5,IF(I21=Q1,4,IF(J21=Q1,3,0)))))))) -> 0 | R21: 6
B22: Perf. | C22: 1.42 | D22: 1.28 | E22: 3= 1.10 | F22: 3= 1.10
A23: H Jump | B23: Name | C23: Grace MacDonald | D23: Ruby Wittka Jezewski
A24: B | B24: Club | C24: IH | D24: RC | K24: =IF(C24=K1,9,IF(D24=K1,7,IF(E24=K1,6,IF(F24=K1,5,IF(G24=K1,4,IF(H24=K1,3,IF(I24=K1,2,IF(J24=K1,1,0)))))))) -> 0 | L24: =IF(C24=L1,9,IF(D24=L1,7,IF(E24=L1,6,IF(F24=L1,5,IF(G24=L1,4,IF(H24=L1,3,IF(I24=L1,2,IF(J24=L1,1,0)))))))) -> 0 | M24: =IF(C24=M1,9,IF(D24=M1,7,IF(E24=M1,6,IF(F24=M1,5,IF(G24=M1,4,IF(H24=M1,3,IF(I24=M1,2,IF(J24=M1,1,0)))))))) -> 0 | N24: =IF(C24=N1,9,IF(D24=N1,7,IF(E24=N1,6,IF(F24=N1,5,IF(G24=N1,4,IF(H24=N1,3,IF(I24=N1,2,IF(J24=N1,1,0)))))))) -> 0 | O24: 8 | P24: =IF(C24=P1,9,IF(D24=P1,7,IF(E24=P1,6,IF(F24=P1,5,IF(G24=P1,4,IF(H24=P1,3,IF(I24=P1,2,IF(J24=P1,1,0)))))))) -> 0 | Q24: =IF(C24=Q1,9,IF(D24=Q1,7,IF(E24=Q1,6,IF(F24=Q1,5,IF(G24=Q1,4,IF(H24=Q1,3,IF(I24=Q1,2,IF(J24=Q1,1,0)))))))) -> 0 | R24: =IF(C24=R1,9,IF(D24=R1,7,IF(E24=R1,6,IF(F24=R1,5,IF(G24=R1,4,IF(H24=R1,3,IF(I24=R1,2,IF(J24=R1,1,0)))))))) -> 7
B25: Perf. | C25: 1.25 | D25: 1.10
A26: S Putt | B26: Name | C26: Stroma Fraser | D26: Femke Waite | E26: Erin Sutherland | F26: Mackenzie Findlay
A27: A | B27: Club | C27: IH | D27: RC | E27: CAAC | F27: MRR | K27: 6 | L27: =IF(C27=L1,11,IF(D27=L1,9,IF(E27=L1,8,IF(F27=L1,7,IF(G27=L1,6,IF(H27=L1,5,IF(I27=L1,4,IF(J27=L1,3,0)))))))) -> 0 | M27: =IF(C27=M1,11,IF(D27=M1,9,IF(E27=M1,8,IF(F27=M1,7,IF(G27=M1,6,IF(H27=M1,5,IF(I27=M1,4,IF(J27=M1,3,0)))))))) -> 0 | N27: =IF(C27=N1,11,IF(D27=N1,9,IF(E27=N1,8,IF(F27=N1,7,IF(G27=N1,6,IF(H27=N1,5,IF(I27=N1,4,IF(J27=N1,3,0)))))))) -> 0 | O27: 8 | P27: 5 | Q27: =IF(C27=Q1,11,IF(D27=Q1,9,IF(E27=Q1,8,IF(F27=Q1,7,IF(G27=Q1,6,IF(H27=Q1,5,IF(I27=Q1,4,IF(J27=Q1,3,0)))))))) -> 0 | R27: 7
B28: Perf. | C28: 8.03 | D28: 6.74 | E28: 5.38 | F28: 3.70
A29: S Putt | B29: Name | C29: Caitlyn Heggie | D29: Isla Marwick
A30: B | B30: Club | C30: RC | D30: IH | K30: =IF(C30=K1,9,IF(D30=K1,7,IF(E30=K1,6,IF(F30=K1,5,IF(G30=K1,4,IF(H30=K1,3,IF(I30=K1,2,IF(J30=K1,1,0)))))))) -> 0 | L30: =IF(C30=L1,9,IF(D30=L1,7,IF(E30=L1,6,IF(F30=L1,5,IF(G30=L1,4,IF(H30=L1,3,IF(I30=L1,2,IF(J30=L1,1,0)))))))) -> 0 | M30: =IF(C30=M1,9,IF(D30=M1,7,IF(E30=M1,6,IF(F30=M1,5,IF(G30=M1,4,IF(H30=M1,3,IF(I30=M1,2,IF(J30=M1,1,0)))))))) -> 0 | N30: =IF(C30=N1,9,IF(D30=N1,7,IF(E30=N1,6,IF(F30=N1,5,IF(G30=N1,4,IF(H30=N1,3,IF(I30=N1,2,IF(J30=N1,1,0)))))))) -> 0 | O30: =IF(C30=O1,9,IF(D30=O1,7,IF(E30=O1,6,IF(F30=O1,5,IF(G30=O1,4,IF(H30=O1,3,IF(I30=O1,2,IF(J30=O1,1,0)))))))) -> 7 | P30: =IF(C30=P1,9,IF(D30=P1,7,IF(E30=P1,6,IF(F30=P1,5,IF(G30=P1,4,IF(H30=P1,3,IF(I30=P1,2,IF(J30=P1,1,0)))))))) -> 0 | Q30: =IF(C30=Q1,9,IF(D30=Q1,7,IF(E30=Q1,6,IF(F30=Q1,5,IF(G30=Q1,4,IF(H30=Q1,3,IF(I30=Q1,2,IF(J30=Q1,1,0)))))))) -> 0 | R30: 8
B31: Perf. | C31: 6.27 | D31: 5.15
B32: Name
A33: A | B33: Club | K33: =IF(C33=K1,11,IF(D33=K1,9,IF(E33=K1,8,IF(F33=K1,7,IF(G33=K1,6,IF(H33=K1,5,IF(I33=K1,4,IF(J33=K1,3,0)))))))) -> 0 | L33: =IF(C33=L1,11,IF(D33=L1,9,IF(E33=L1,8,IF(F33=L1,7,IF(G33=L1,6,IF(H33=L1,5,IF(I33=L1,4,IF(J33=L1,3,0)))))))) -> 0 | M33: =IF(C33=M1,11,IF(D33=M1,9,IF(E33=M1,8,IF(F33=M1,7,IF(G33=M1,6,IF(H33=M1,5,IF(I33=M1,4,IF(J33=M1,3,0)))))))) -> 0 | N33: =IF(C33=N1,11,IF(D33=N1,9,IF(E33=N1,8,IF(F33=N1,7,IF(G33=N1,6,IF(H33=N1,5,IF(I33=N1,4,IF(J33=N1,3,0)))))))) -> 0 | O33: =IF(C33=O1,11,IF(D33=O1,9,IF(E33=O1,8,IF(F33=O1,7,IF(G33=O1,6,IF(H33=O1,5,IF(I33=O1,4,IF(J33=O1,3,0)))))))) -> 0 | P33: =IF(C33=P1,11,IF(D33=P1,9,IF(E33=P1,8,IF(F33=P1,7,IF(G33=P1,6,IF(H33=P1,5,IF(I33=P1,4,IF(J33=P1,3,0)))))))) -> 0 | Q33: =IF(C33=Q1,11,IF(D33=Q1,9,IF(E33=Q1,8,IF(F33=Q1,7,IF(G33=Q1,6,IF(H33=Q1,5,IF(I33=Q1,4,IF(J33=Q1,3,0)))))))) -> 0 | R33: =IF(C33=R1,11,IF(D33=R1,9,IF(E33=R1,8,IF(F33=R1,7,IF(G33=R1,6,IF(H33=R1,5,IF(I33=R1,4,IF(J33=R1,3,0)))))))) -> 0
B34: Perf.
B35: Name
A36: B | B36: Club | K36: =IF(C36=K1,9,IF(D36=K1,7,IF(E36=K1,6,IF(F36=K1,5,IF(G36=K1,4,IF(H36=K1,3,IF(I36=K1,2,IF(J36=K1,1,0)))))))) -> 0 | L36: =IF(C36=L1,9,IF(D36=L1,7,IF(E36=L1,6,IF(F36=L1,5,IF(G36=L1,4,IF(H36=L1,3,IF(I36=L1,2,IF(J36=L1,1,0)))))))) -> 0 | M36: =IF(C36=M1,9,IF(D36=M1,7,IF(E36=M1,6,IF(F36=M1,5,IF(G36=M1,4,IF(H36=M1,3,IF(I36=M1,2,IF(J36=M1,1,0)))))))) -> 0 | N36: =IF(C36=N1,9,IF(D36=N1,7,IF(E36=N1,6,IF(F36=N1,5,IF(G36=N1,4,IF(H36=N1,3,IF(I36=N1,2,IF(J36=N1,1,0)))))))) -> 0 | O36: =IF(C36=O1,9,IF(D36=O1,7,IF(E36=O1,6,IF(F36=O1,5,IF(G36=O1,4,IF(H36=O1,3,IF(I36=O1,2,IF(J36=O1,1,0)))))))) -> 0 | P36: =IF(C36=P1,9,IF(D36=P1,7,IF(E36=P1,6,IF(F36=P1,5,IF(G36=P1,4,IF(H36=P1,3,IF(I36=P1,2,IF(J36=P1,1,0)))))))) -> 0 | Q36: =IF(C36=Q1,9,IF(D36=Q1,7,IF(E36=Q1,6,IF(F36=Q1,5,IF(G36=Q1,4,IF(H36=Q1,3,IF(I36=Q1,2,IF(J36=Q1,1,0)))))))) -> 0 | R36: =IF(C36=R1,9,IF(D36=R1,7,IF(E36=R1,6,IF(F36=R1,5,IF(G36=R1,4,IF(H36=R1,3,IF(I36=R1,2,IF(J36=R1,1,0)))))))) -> 0
B37: Perf.
B38: Name
A39: A | B39: Club | K39: =IF(C39=K1,11,IF(D39=K1,9,IF(E39=K1,8,IF(F39=K1,7,IF(G39=K1,6,IF(H39=K1,5,IF(I39=K1,4,IF(J39=K1,3,0)))))))) -> 0 | L39: =IF(C39=L1,11,IF(D39=L1,9,IF(E39=L1,8,IF(F39=L1,7,IF(G39=L1,6,IF(H39=L1,5,IF(I39=L1,4,IF(J39=L1,3,0)))))))) -> 0 | M39: =IF(C39=M1,11,IF(D39=M1,9,IF(E39=M1,8,IF(F39=M1,7,IF(G39=M1,6,IF(H39=M1,5,IF(I39=M1,4,IF(J39=M1,3,0)))))))) -> 0 | N39: =IF(C39=N1,11,IF(D39=N1,9,IF(E39=N1,8,IF(F39=N1,7,IF(G39=N1,6,IF(H39=N1,5,IF(I39=N1,4,IF(J39=N1,3,0)))))))) -> 0 | O39: =IF(C39=O1,11,IF(D39=O1,9,IF(E39=O1,8,IF(F39=O1,7,IF(G39=O1,6,IF(H39=O1,5,IF(I39=O1,4,IF(J39=O1,3,0)))))))) -> 0 | P39: =IF(C39=P1,11,IF(D39=P1,9,IF(E39=P1,8,IF(F39=P1,7,IF(G39=P1,6,IF(H39=P1,5,IF(I39=P1,4,IF(J39=P1,3,0)))))))) -> 0 | Q39: =IF(C39=Q1,11,IF(D39=Q1,9,IF(E39=Q1,8,IF(F39=Q1,7,IF(G39=Q1,6,IF(H39=Q1,5,IF(I39=Q1,4,IF(J39=Q1,3,0)))))))) -> 0 | R39: =IF(C39=R1,11,IF(D39=R1,9,IF(E39=R1,8,IF(F39=R1,7,IF(G39=R1,6,IF(H39=R1,5,IF(I39=R1,4,IF(J39=R1,3,0)))))))) -> 0
B40: Perf.
B41: Name
A42: B | B42: Club | K42: =IF(C42=K1,9,IF(D42=K1,7,IF(E42=K1,6,IF(F42=K1,5,IF(G42=K1,4,IF(H42=K1,3,IF(I42=K1,2,IF(J42=K1,1,0)))))))) -> 0 | L42: =IF(C42=L1,9,IF(D42=L1,7,IF(E42=L1,6,IF(F42=L1,5,IF(G42=L1,4,IF(H42=L1,3,IF(I42=L1,2,IF(J42=L1,1,0)))))))) -> 0 | M42: =IF(C42=M1,9,IF(D42=M1,7,IF(E42=M1,6,IF(F42=M1,5,IF(G42=M1,4,IF(H42=M1,3,IF(I42=M1,2,IF(J42=M1,1,0)))))))) -> 0 | N42: =IF(C42=N1,9,IF(D42=N1,7,IF(E42=N1,6,IF(F42=N1,5,IF(G42=N1,4,IF(H42=N1,3,IF(I42=N1,2,IF(J42=N1,1,0)))))))) -> 0 | O42: =IF(C42=O1,9,IF(D42=O1,7,IF(E42=O1,6,IF(F42=O1,5,IF(G42=O1,4,IF(H42=O1,3,IF(I42=O1,2,IF(J42=O1,1,0)))))))) -> 0 | P42: =IF(C42=P1,9,IF(D42=P1,7,IF(E42=P1,6,IF(F42=P1,5,IF(G42=P1,4,IF(H42=P1,3,IF(I42=P1,2,IF(J42=P1,1,0)))))))) -> 0 | Q42: =IF(C42=Q1,9,IF(D42=Q1,7,IF(E42=Q1,6,IF(F42=Q1,5,IF(G42=Q1,4,IF(H42=Q1,3,IF(I42=Q1,2,IF(J42=Q1,1,0)))))))) -> 0 | R42: =IF(C42=R1,9,IF(D42=R1,7,IF(E42=R1,6,IF(F42=R1,5,IF(G42=R1,4,IF(H42=R1,3,IF(I42=R1,2,IF(J42=R1,1,0)))))))) -> 0
B43: Perf.
A44: RELAY | B44: Club | C44: IH | D44: RC | K44: =IF(C44=K1,11,IF(D44=K1,9,IF(E44=K1,8,IF(F44=K1,7,IF(G44=K1,6,IF(H44=K1,5,IF(I44=K1,4,IF(J44=K1,3,0)))))))) -> 0 | L44: =IF(C44=L1,11,IF(D44=L1,9,IF(E44=L1,8,IF(F44=L1,7,IF(G44=L1,6,IF(H44=L1,5,IF(I44=L1,4,IF(J44=L1,3,0)))))))) -> 0 | M44: =IF(C44=M1,11,IF(D44=M1,9,IF(E44=M1,8,IF(F44=M1,7,IF(G44=M1,6,IF(H44=M1,5,IF(I44=M1,4,IF(J44=M1,3,0)))))))) -> 0 | N44: =IF(C44=N1,11,IF(D44=N1,9,IF(E44=N1,8,IF(F44=N1,7,IF(G44=N1,6,IF(H44=N1,5,IF(I44=N1,4,IF(J44=N1,3,0)))))))) -> 0 | O44: 8 | P44: =IF(C44=P1,11,IF(D44=P1,9,IF(E44=P1,8,IF(F44=P1,7,IF(G44=P1,6,IF(H44=P1,5,IF(I44=P1,4,IF(J44=P1,3,0)))))))) -> 0 | Q44: =IF(C44=Q1,11,IF(D44=Q1,9,IF(E44=Q1,8,IF(F44=Q1,7,IF(G44=Q1,6,IF(H44=Q1,5,IF(I44=Q1,4,IF(J44=Q1,3,0)))))))) -> 0 | R44: 7
A45: 4 x 100m | B45: Perf. | C45: 59.55 | D45: 1.01.29
J46: Totals | K46: =SUM(K44+K42+K39+K36+K33+K30+K27+K24+K21+K18+K15+K12+K9+K6+K3) -> 36 | L46: =SUM(L44+L42+L39+L36+L33+L30+L27+L24+L21+L18+L15+L12+L9+L6+L3) -> 0 | M46: =SUM(M44+M42+M39+M36+M33+M30+M27+M24+M21+M18+M15+M12+M9+M6+M3) -> 20 | N46: =SUM(N44+N42+N39+N36+N33+N30+N27+N24+N21+N18+N15+N12+N9+N6+N3) -> 0 | O46: =SUM(O44+O42+O39+O36+O33+O30+O27+O24+O21+O18+O15+O12+O9+O6+O3) -> 76 | P46: =SUM(P44+P42+P39+P36+P33+P30+P27+P24+P21+P18+P15+P12+P9+P6+P3) -> 43 | Q46: =SUM(Q44+Q42+Q39+Q36+Q33+Q30+Q27+Q24+Q21+Q18+Q15+Q12+Q9+Q6+Q3) -> 0 | R46: =SUM(R44+R42+R39+R36+R33+R30+R27+R24+R21+R18+R15+R12+R9+R6+R3) -> 78
J47: Position | K47: 4 | M47: 5 | O47: 2 | P47: 3 | R47: 1
K48: =K1 -> CAAC | L48: =L1 -> Elgin | M48: =M1 -> ES | N48: =N1 -> FH | O48: =O1 -> IH | P48: =P1 -> MRR | Q48: =Q1 -> NAAC | R48: =R1 -> RC

Sheet U15G
A1: Event | B1: U15G | C1: 1st = 8A/B | D1: 2nd = 7A/B | E1: 3rd = 6A/B | F1: 4th = 5A/B | G1: 5th = 4A/B | H1: 6th = 3A/B | I1: 7th = 2A/B | J1: 8th = 1A/B | K1: CAAC | L1: Elgin | M1: ES | N1: FH | O1: IH | P1: MRR | Q1: NAAC | R1: RC
A2: 100m | B2: Name | C2: Tamsin Fowlie | D2: Molly Jamieson | E2: Ellie Mackintosh | F2: Megan McKay | G2: Annabel Gillanders | H2: Amy Llyod
A3: A | B3: Club | C3: Elgin | D3: IH | E3: RC | F3: MRR | G3: NAAC | H3: CAAC | K3: 3 | L3: 8 | M3: =IF(C3=M1,11,IF(D3=M1,9,IF(E3=M1,8,IF(F3=M1,7,IF(G3=M1,6,IF(H3=M1,5,IF(I3=M1,4,IF(J3=M1,3,0)))))))) -> 0 | N3: =IF(C3=N1,11,IF(D3=N1,9,IF(E3=N1,8,IF(F3=N1,7,IF(G3=N1,6,IF(H3=N1,5,IF(I3=N1,4,IF(J3=N1,3,0)))))))) -> 0 | O3: 7 | P3: 5 | Q3: 4 | R3: 6
A4: 3.3 | B4: Perf. | C4: 12.7 | D4: 13.75 | E4: 14.33 | F4: 14.85 | G4: 15.18 | H4: 15.31
A5: 100m | B5: Name | C5: Kirsten Bowie | D5: Abbie Harrison | E5: Morven Mackenzie | F5: Niamh Grant | G5: Elle Stewart | H5: Chloe McEwan
A6: B | B6: Club | C6: Elgin | D6: IH | E6: CAAC | F6: MRR | G6: RC | H6: NAAC | K6: =IF(C6=K1,9,IF(D6=K1,7,IF(E6=K1,6,IF(F6=K1,5,IF(G6=K1,4,IF(H6=K1,3,IF(I6=K1,2,IF(J6=K1,1,0)))))))) -> 6 | L6: 8 | M6: =IF(C6=M1,9,IF(D6=M1,7,IF(E6=M1,6,IF(F6=M1,5,IF(G6=M1,4,IF(H6=M1,3,IF(I6=M1,2,IF(J6=M1,1,0)))))))) -> 0 | N6: =IF(C6=N1,9,IF(D6=N1,7,IF(E6=N1,6,IF(F6=N1,5,IF(G6=N1,4,IF(H6=N1,3,IF(I6=N1,2,IF(J6=N1,1,0)))))))) -> 0 | O6: =IF(C6=O1,9,IF(D6=O1,7,IF(E6=O1,6,IF(F6=O1,5,IF(G6=O1,4,IF(H6=O1,3,IF(I6=O1,2,IF(J6=O1,1,0)))))))) -> 7 | P6: =IF(C6=P1,9,IF(D6=P1,7,IF(E6=P1,6,IF(F6=P1,5,IF(G6=P1,4,IF(H6=P1,3,IF(I6=P1,2,IF(J6=P1,1,0)))))))) -> 5 | Q6: =IF(C6=Q1,9,IF(D6=Q1,7,IF(E6=Q1,6,IF(F6=Q1,5,IF(G6=Q1,4,IF(H6=Q1,3,IF(I6=Q1,2,IF(J6=Q1,1,0)))))))) -> 3 | R6: =IF(C6=R1,9,IF(D6=R1,7,IF(E6=R1,6,IF(F6=R1,5,IF(G6=R1,4,IF(H6=R1,3,IF(I6=R1,2,IF(J6=R1,1,0)))))))) -> 4
A7: 3.3 | B7: Perf. | C7: 13.24 | D7: 14.03 | E7: 14.72 | F7: 14.83 | G7: 15.09 | H7: 15.95
A8: 300m | B8: Name | C8: Tamsin Fowlie | D8: Kirsty Arnaud | E8: Sophie Bath | F8: Morven Mackenzie | G8: Megan McKay | H8: Morag Hickey | I8: Sophie McEwan
A9: A | B9: Club | C9: Elgin | D9: IH | E9: ES | F9: CAAC | G9: MRR | H9: RC | I9: NAAC | K9: 5 | L9: 8 | M9: 6 | N9: =IF(C9=N1,11,IF(D9=N1,9,IF(E9=N1,8,IF(F9=N1,7,IF(G9=N1,6,IF(H9=N1,5,IF(I9=N1,4,IF(J9=N1,3,0)))))))) -> 0 | O9: 7 | P9: 4 | Q9: 2 | R9: 3
B10: Perf. | C10: 42.16 | D10: 44.93 | E10: 47.36 | F10: 51.23 | G10: 52.14 | H10: 52.8 | I10: 54.81
A11: 300m | B11: Name | C11: Kirsten Bowie | D11: Evie MacLeod | E11: Annabel Gillanders | F11: Amy Llyod | G11: Harriet Whelan
A12: B | B12: Club | C12: Elgin | D12: IH | E12: NAAC | F12: CAAC | G12: MRR | K12: =IF(C12=K1,9,IF(D12=K1,7,IF(E12=K1,6,IF(F12=K1,5,IF(G12=K1,4,IF(H12=K1,3,IF(I12=K1,2,IF(J12=K1,1,0)))))))) -> 5 | L12: 8 | M12: =IF(C12=M1,9,IF(D12=M1,7,IF(E12=M1,6,IF(F12=M1,5,IF(G12=M1,4,IF(H12=M1,3,IF(I12=M1,2,IF(J12=M1,1,0)))))))) -> 0 | N12: =IF(C12=N1,9,IF(D12=N1,7,IF(E12=N1,6,IF(F12=N1,5,IF(G12=N1,4,IF(H12=N1,3,IF(I12=N1,2,IF(J12=N1,1,0)))))))) -> 0 | O12: =IF(C12=O1,9,IF(D12=O1,7,IF(E12=O1,6,IF(F12=O1,5,IF(G12=O1,4,IF(H12=O1,3,IF(I12=O1,2,IF(J12=O1,1,0)))))))) -> 7 | P12: =IF(C12=P1,9,IF(D12=P1,7,IF(E12=P1,6,IF(F12=P1,5,IF(G12=P1,4,IF(H12=P1,3,IF(I12=P1,2,IF(J12=P1,1,0)))))))) -> 4 | Q12: =IF(C12=Q1,9,IF(D12=Q1,7,IF(E12=Q1,6,IF(F12=Q1,5,IF(G12=Q1,4,IF(H12=Q1,3,IF(I12=Q1,2,IF(J12=Q1,1,0)))))))) -> 6 | R12: =IF(C12=R1,9,IF(D12=R1,7,IF(E12=R1,6,IF(F12=R1,5,IF(G12=R1,4,IF(H12=R1,3,IF(I12=R1,2,IF(J12=R1,1,0)))))))) -> 0
B13: Perf. | C13: 45.61 | D13: 49.1 | E13: 51.65 | F13: 54.59 | G13: 55.73
A14: 1500m | B14: Name | C14: Kirsty Arnaud | D14: Alyth Gollan | E14: Morag Hickey | F14: Harriet Whelan | G14: Kaylee Main
A15: A | B15: Club | C15: IH | D15: ES | E15: RC | F15: MRR | G15: NAAC | K15: =IF(C15=K1,11,IF(D15=K1,9,IF(E15=K1,8,IF(F15=K1,7,IF(G15=K1,6,IF(H15=K1,5,IF(I15=K1,4,IF(J15=K1,3,0)))))))) -> 0 | L15: =IF(C15=L1,11,IF(D15=L1,9,IF(E15=L1,8,IF(F15=L1,7,IF(G15=L1,6,IF(H15=L1,5,IF(I15=L1,4,IF(J15=L1,3,0)))))))) -> 0 | M15: 7 | N15: =IF(C15=N1,11,IF(D15=N1,9,IF(E15=N1,8,IF(F15=N1,7,IF(G15=N1,6,IF(H15=N1,5,IF(I15=N1,4,IF(J15=N1,3,0)))))))) -> 0 | O15: 8 | P15: 5 | Q15: 4 | R15: 6
B16: Perf. | C16: 5.09.13 | D16: 5.11.01 | E16: 5.53.23 | F16: 5.57.05 | G16: 6.30.41
A17: 1500m | B17: Name | C17: Ava Walsh | D17: Sophie McEwan
A18: B | B18: Club | C18: IH | D18: NAAC | K18: =IF(C18=K1,9,IF(D18=K1,7,IF(E18=K1,6,IF(F18=K1,5,IF(G18=K1,4,IF(H18=K1,3,IF(I18=K1,2,IF(J18=K1,1,0)))))))) -> 0 | L18: =IF(C18=L1,9,IF(D18=L1,7,IF(E18=L1,6,IF(F18=L1,5,IF(G18=L1,4,IF(H18=L1,3,IF(I18=L1,2,IF(J18=L1,1,0)))))))) -> 0 | M18: =IF(C18=M1,9,IF(D18=M1,7,IF(E18=M1,6,IF(F18=M1,5,IF(G18=M1,4,IF(H18=M1,3,IF(I18=M1,2,IF(J18=M1,1,0)))))))) -> 0 | N18: =IF(C18=N1,9,IF(D18=N1,7,IF(E18=N1,6,IF(F18=N1,5,IF(G18=N1,4,IF(H18=N1,3,IF(I18=N1,2,IF(J18=N1,1,0)))))))) -> 0 | O18: 8 | P18: =IF(C18=P1,9,IF(D18=P1,7,IF(E18=P1,6,IF(F18=P1,5,IF(G18=P1,4,IF(H18=P1,3,IF(I18=P1,2,IF(J18=P1,1,0)))))))) -> 0 | Q18: =IF(C18=Q1,9,IF(D18=Q1,7,IF(E18=Q1,6,IF(F18=Q1,5,IF(G18=Q1,4,IF(H18=Q1,3,IF(I18=Q1,2,IF(J18=Q1,1,0)))))))) -> 7 | R18: =IF(C18=R1,9,IF(D18=R1,7,IF(E18=R1,6,IF(F18=R1,5,IF(G18=R1,4,IF(H18=R1,3,IF(I18=R1,2,IF(J18=R1,1,0)))))))) -> 0
B19: Perf. | C19: 5.29.23 | D19: 6.42.84
A20: L Jump | B20: Name | C20: Tamsin Fowlie | D20: Ellie Mackintosh | E20: Niamh Grant | F20: Amy Llyod | G20: Ruth Wilson | H20: Annabel Gillanders
A21: A | B21: Club | C21: Elgin | D21: RC | E21: MRR | F21: CAAC | G21: IH | H21: NAAC | K21: 5 | L21: 8 | M21: =IF(C21=M1,11,IF(D21=M1,9,IF(E21=M1,8,IF(F21=M1,7,IF(G21=M1,6,IF(H21=M1,5,IF(I21=M1,4,IF(J21=M1,3,0)))))))) -> 0 | N21: =IF(C21=N1,11,IF(D21=N1,9,IF(E21=N1,8,IF(F21=N1,7,IF(G21=N1,6,IF(H21=N1,5,IF(I21=N1,4,IF(J21=N1,3,0)))))))) -> 0 | O21: 4 | P21: 6 | Q21: 3 | R21: 7
B22: Perf. | C22: 4.39 | D22: 4.20 | E22: 4.04 | F22: 3.59 | G22: 3.39 | H22: 3.09
A23: L Jump | B23: Name | C23: Kirsten Bowie | D23: Megan McKay | E23: Elle Stewart | F23: Erin Macintosh | G23: Kaylee Main
A24: B | B24: Club | C24: Elgin | D24: MRR | E24: RC | F24: CAAC | G24: NAAC | K24: =IF(C24=K1,9,IF(D24=K1,7,IF(E24=K1,6,IF(F24=K1,5,IF(G24=K1,4,IF(H24=K1,3,IF(I24=K1,2,IF(J24=K1,1,0)))))))) -> 5 | L24: 8 | M24: =IF(C24=M1,9,IF(D24=M1,7,IF(E24=M1,6,IF(F24=M1,5,IF(G24=M1,4,IF(H24=M1,3,IF(I24=M1,2,IF(J24=M1,1,0)))))))) -> 0 | N24: =IF(C24=N1,9,IF(D24=N1,7,IF(E24=N1,6,IF(F24=N1,5,IF(G24=N1,4,IF(H24=N1,3,IF(I24=N1,2,IF(J24=N1,1,0)))))))) -> 0 | O24: =IF(C24=O1,9,IF(D24=O1,7,IF(E24=O1,6,IF(F24=O1,5,IF(G24=O1,4,IF(H24=O1,3,IF(I24=O1,2,IF(J24=O1,1,0)))))))) -> 0 | P24: =IF(C24=P1,9,IF(D24=P1,7,IF(E24=P1,6,IF(F24=P1,5,IF(G24=P1,4,IF(H24=P1,3,IF(I24=P1,2,IF(J24=P1,1,0)))))))) -> 7 | Q24: =IF(C24=Q1,9,IF(D24=Q1,7,IF(E24=Q1,6,IF(F24=Q1,5,IF(G24=Q1,4,IF(H24=Q1,3,IF(I24=Q1,2,IF(J24=Q1,1,0)))))))) -> 4 | R24: =IF(C24=R1,9,IF(D24=R1,7,IF(E24=R1,6,IF(F24=R1,5,IF(G24=R1,4,IF(H24=R1,3,IF(I24=R1,2,IF(J24=R1,1,0)))))))) -> 6
B25: Perf. | C25: 4.29 | D25: 3.84 | E25: 3.59 | F25: 3.28 | G25: 3.07
A26: Javelin | B26: Name | C26: Melissa Mack | D26: Kirsten Leeper | E26: Niamh Grant | F26: Erin Macintosh | G26: Kaylee Main
A27: A | B27: Club | C27: IH | D27: RC | E27: MRR | F27: CAAC | G27: NAAC | K27: 5 | L27: =IF(C27=L1,11,IF(D27=L1,9,IF(E27=L1,8,IF(F27=L1,7,IF(G27=L1,6,IF(H27=L1,5,IF(I27=L1,4,IF(J27=L1,3,0)))))))) -> 0 | M27: =IF(C27=M1,11,IF(D27=M1,9,IF(E27=M1,8,IF(F27=M1,7,IF(G27=M1,6,IF(H27=M1,5,IF(I27=M1,4,IF(J27=M1,3,0)))))))) -> 0 | N27: =IF(C27=N1,11,IF(D27=N1,9,IF(E27=N1,8,IF(F27=N1,7,IF(G27=N1,6,IF(H27=N1,5,IF(I27=N1,4,IF(J27=N1,3,0)))))))) -> 0 | O27: 8 | P27: 6 | Q27: 4 | R27: 7
B28: Perf. | C28: 18.50 | D28: 17.02 | E28: 15.41 | F28: 11.93 | G28: 11.55
A29: Javelin | B29: Name | C29: Harriet Whelan | D29: Ava Walsh | E29: Morven Mackenzie | F29: Sophie McEwan
A30: B | B30: Club | C30: MRR | D30: IH | E30: CAAC | F30: NAAC | K30: =IF(C30=K1,9,IF(D30=K1,7,IF(E30=K1,6,IF(F30=K1,5,IF(G30=K1,4,IF(H30=K1,3,IF(I30=K1,2,IF(J30=K1,1,0)))))))) -> 6 | L30: =IF(C30=L1,9,IF(D30=L1,7,IF(E30=L1,6,IF(F30=L1,5,IF(G30=L1,4,IF(H30=L1,3,IF(I30=L1,2,IF(J30=L1,1,0)))))))) -> 0 | M30: =IF(C30=M1,9,IF(D30=M1,7,IF(E30=M1,6,IF(F30=M1,5,IF(G30=M1,4,IF(H30=M1,3,IF(I30=M1,2,IF(J30=M1,1,0)))))))) -> 0 | N30: =IF(C30=N1,9,IF(D30=N1,7,IF(E30=N1,6,IF(F30=N1,5,IF(G30=N1,4,IF(H30=N1,3,IF(I30=N1,2,IF(J30=N1,1,0)))))))) -> 0 | O30: =IF(C30=O1,9,IF(D30=O1,7,IF(E30=O1,6,IF(F30=O1,5,IF(G30=O1,4,IF(H30=O1,3,IF(I30=O1,2,IF(J30=O1,1,0)))))))) -> 7 | P30: 8 | Q30: =IF(C30=Q1,9,IF(D30=Q1,7,IF(E30=Q1,6,IF(F30=Q1,5,IF(G30=Q1,4,IF(H30=Q1,3,IF(I30=Q1,2,IF(J30=Q1,1,0)))))))) -> 5 | R30: =IF(C30=R1,9,IF(D30=R1,7,IF(E30=R1,6,IF(F30=R1,5,IF(G30=R1,4,IF(H30=R1,3,IF(I30=R1,2,IF(J30=R1,1,0)))))))) -> 0
B31: Perf. | C31: 11.37 | D31: 11.32 | E31: 9.27 | F31: 8.05
B32: Name
A33: A | B33: Club | K33: =IF(C33=K1,11,IF(D33=K1,9,IF(E33=K1,8,IF(F33=K1,7,IF(G33=K1,6,IF(H33=K1,5,IF(I33=K1,4,IF(J33=K1,3,0)))))))) -> 0 | L33: =IF(C33=L1,11,IF(D33=L1,9,IF(E33=L1,8,IF(F33=L1,7,IF(G33=L1,6,IF(H33=L1,5,IF(I33=L1,4,IF(J33=L1,3,0)))))))) -> 0 | M33: =IF(C33=M1,11,IF(D33=M1,9,IF(E33=M1,8,IF(F33=M1,7,IF(G33=M1,6,IF(H33=M1,5,IF(I33=M1,4,IF(J33=M1,3,0)))))))) -> 0 | N33: =IF(C33=N1,11,IF(D33=N1,9,IF(E33=N1,8,IF(F33=N1,7,IF(G33=N1,6,IF(H33=N1,5,IF(I33=N1,4,IF(J33=N1,3,0)))))))) -> 0 | O33: =IF(C33=O1,11,IF(D33=O1,9,IF(E33=O1,8,IF(F33=O1,7,IF(G33=O1,6,IF(H33=O1,5,IF(I33=O1,4,IF(J33=O1,3,0)))))))) -> 0 | P33: =IF(C33=P1,11,IF(D33=P1,9,IF(E33=P1,8,IF(F33=P1,7,IF(G33=P1,6,IF(H33=P1,5,IF(I33=P1,4,IF(J33=P1,3,0)))))))) -> 0 | Q33: =IF(C33=Q1,11,IF(D33=Q1,9,IF(E33=Q1,8,IF(F33=Q1,7,IF(G33=Q1,6,IF(H33=Q1,5,IF(I33=Q1,4,IF(J33=Q1,3,0)))))))) -> 0 | R33: =IF(C33=R1,11,IF(D33=R1,9,IF(E33=R1,8,IF(F33=R1,7,IF(G33=R1,6,IF(H33=R1,5,IF(I33=R1,4,IF(J33=R1,3,0)))))))) -> 0
B34: Perf.
B35: Name
A36: B | B36: Club | K36: =IF(C36=K1,9,IF(D36=K1,7,IF(E36=K1,6,IF(F36=K1,5,IF(G36=K1,4,IF(H36=K1,3,IF(I36=K1,2,IF(J36=K1,1,0)))))))) -> 0 | L36: =IF(C36=L1,9,IF(D36=L1,7,IF(E36=L1,6,IF(F36=L1,5,IF(G36=L1,4,IF(H36=L1,3,IF(I36=L1,2,IF(J36=L1,1,0)))))))) -> 0 | M36: =IF(C36=M1,9,IF(D36=M1,7,IF(E36=M1,6,IF(F36=M1,5,IF(G36=M1,4,IF(H36=M1,3,IF(I36=M1,2,IF(J36=M1,1,0)))))))) -> 0 | N36: =IF(C36=N1,9,IF(D36=N1,7,IF(E36=N1,6,IF(F36=N1,5,IF(G36=N1,4,IF(H36=N1,3,IF(I36=N1,2,IF(J36=N1,1,0)))))))) -> 0 | O36: =IF(C36=O1,9,IF(D36=O1,7,IF(E36=O1,6,IF(F36=O1,5,IF(G36=O1,4,IF(H36=O1,3,IF(I36=O1,2,IF(J36=O1,1,0)))))))) -> 0 | P36: =IF(C36=P1,9,IF(D36=P1,7,IF(E36=P1,6,IF(F36=P1,5,IF(G36=P1,4,IF(H36=P1,3,IF(I36=P1,2,IF(J36=P1,1,0)))))))) -> 0 | Q36: =IF(C36=Q1,9,IF(D36=Q1,7,IF(E36=Q1,6,IF(F36=Q1,5,IF(G36=Q1,4,IF(H36=Q1,3,IF(I36=Q1,2,IF(J36=Q1,1,0)))))))) -> 0 | R36: =IF(C36=R1,9,IF(D36=R1,7,IF(E36=R1,6,IF(F36=R1,5,IF(G36=R1,4,IF(H36=R1,3,IF(I36=R1,2,IF(J36=R1,1,0)))))))) -> 0
B37: Perf.
B38: Name
A39: A | B39: Club | K39: =IF(C39=K1,11,IF(D39=K1,9,IF(E39=K1,8,IF(F39=K1,7,IF(G39=K1,6,IF(H39=K1,5,IF(I39=K1,4,IF(J39=K1,3,0)))))))) -> 0 | L39: =IF(C39=L1,11,IF(D39=L1,9,IF(E39=L1,8,IF(F39=L1,7,IF(G39=L1,6,IF(H39=L1,5,IF(I39=L1,4,IF(J39=L1,3,0)))))))) -> 0 | M39: =IF(C39=M1,11,IF(D39=M1,9,IF(E39=M1,8,IF(F39=M1,7,IF(G39=M1,6,IF(H39=M1,5,IF(I39=M1,4,IF(J39=M1,3,0)))))))) -> 0 | N39: =IF(C39=N1,11,IF(D39=N1,9,IF(E39=N1,8,IF(F39=N1,7,IF(G39=N1,6,IF(H39=N1,5,IF(I39=N1,4,IF(J39=N1,3,0)))))))) -> 0 | O39: =IF(C39=O1,11,IF(D39=O1,9,IF(E39=O1,8,IF(F39=O1,7,IF(G39=O1,6,IF(H39=O1,5,IF(I39=O1,4,IF(J39=O1,3,0)))))))) -> 0 | P39: =IF(C39=P1,11,IF(D39=P1,9,IF(E39=P1,8,IF(F39=P1,7,IF(G39=P1,6,IF(H39=P1,5,IF(I39=P1,4,IF(J39=P1,3,0)))))))) -> 0 | Q39: =IF(C39=Q1,11,IF(D39=Q1,9,IF(E39=Q1,8,IF(F39=Q1,7,IF(G39=Q1,6,IF(H39=Q1,5,IF(I39=Q1,4,IF(J39=Q1,3,0)))))))) -> 0 | R39: =IF(C39=R1,11,IF(D39=R1,9,IF(E39=R1,8,IF(F39=R1,7,IF(G39=R1,6,IF(H39=R1,5,IF(I39=R1,4,IF(J39=R1,3,0)))))))) -> 0
B40: Perf.
B41: Name
A42: B | B42: Club | K42: =IF(C42=K1,9,IF(D42=K1,7,IF(E42=K1,6,IF(F42=K1,5,IF(G42=K1,4,IF(H42=K1,3,IF(I42=K1,2,IF(J42=K1,1,0)))))))) -> 0 | L42: =IF(C42=L1,9,IF(D42=L1,7,IF(E42=L1,6,IF(F42=L1,5,IF(G42=L1,4,IF(H42=L1,3,IF(I42=L1,2,IF(J42=L1,1,0)))))))) -> 0 | M42: =IF(C42=M1,9,IF(D42=M1,7,IF(E42=M1,6,IF(F42=M1,5,IF(G42=M1,4,IF(H42=M1,3,IF(I42=M1,2,IF(J42=M1,1,0)))))))) -> 0 | N42: =IF(C42=N1,9,IF(D42=N1,7,IF(E42=N1,6,IF(F42=N1,5,IF(G42=N1,4,IF(H42=N1,3,IF(I42=N1,2,IF(J42=N1,1,0)))))))) -> 0 | O42: =IF(C42=O1,9,IF(D42=O1,7,IF(E42=O1,6,IF(F42=O1,5,IF(G42=O1,4,IF(H42=O1,3,IF(I42=O1,2,IF(J42=O1,1,0)))))))) -> 0 | P42: =IF(C42=P1,9,IF(D42=P1,7,IF(E42=P1,6,IF(F42=P1,5,IF(G42=P1,4,IF(H42=P1,3,IF(I42=P1,2,IF(J42=P1,1,0)))))))) -> 0 | Q42: =IF(C42=Q1,9,IF(D42=Q1,7,IF(E42=Q1,6,IF(F42=Q1,5,IF(G42=Q1,4,IF(H42=Q1,3,IF(I42=Q1,2,IF(J42=Q1,1,0)))))))) -> 0 | R42: =IF(C42=R1,9,IF(D42=R1,7,IF(E42=R1,6,IF(F42=R1,5,IF(G42=R1,4,IF(H42=R1,3,IF(I42=R1,2,IF(J42=R1,1,0)))))))) -> 0
B43: Perf.
A44: RELAY | B44: Club | C44: IH | D44: RC | E44: MRR | F44: CAAC | G44: NAAC | K44: 5 | L44: =IF(C44=L1,11,IF(D44=L1,9,IF(E44=L1,8,IF(F44=L1,7,IF(G44=L1,6,IF(H44=L1,5,IF(I44=L1,4,IF(J44=L1,3,0)))))))) -> 0 | M44: =IF(C44=M1,11,IF(D44=M1,9,IF(E44=M1,8,IF(F44=M1,7,IF(G44=M1,6,IF(H44=M1,5,IF(I44=M1,4,IF(J44=M1,3,0)))))))) -> 0 | N44: =IF(C44=N1,11,IF(D44=N1,9,IF(E44=N1,8,IF(F44=N1,7,IF(G44=N1,6,IF(H44=N1,5,IF(I44=N1,4,IF(J44=N1,3,0)))))))) -> 0 | O44: 8 | P44: 6 | Q44: 4 | R44: 7
A45: 4 x 100m | B45: Perf. | C45: 57.66 | D45: 1.01.03 | E45: 1.01.80 | F45: 1.02.81 | G45: 1.04.48
J46: Totals | K46: =SUM(K44+K42+K39+K36+K33+K30+K27+K24+K21+K18+K15+K12+K9+K6+K3) -> 45 | L46: =SUM(L44+L42+L39+L36+L33+L30+L27+L24+L21+L18+L15+L12+L9+L6+L3) -> 48 | M46: =SUM(M44+M42+M39+M36+M33+M30+M27+M24+M21+M18+M15+M12+M9+M6+M3) -> 13 | N46: =SUM(N44+N42+N39+N36+N33+N30+N27+N24+N21+N18+N15+N12+N9+N6+N3) -> 0 | O46: =SUM(O44+O42+O39+O36+O33+O30+O27+O24+O21+O18+O15+O12+O9+O6+O3) -> 71 | P46: =SUM(P44+P42+P39+P36+P33+P30+P27+P24+P21+P18+P15+P12+P9+P6+P3) -> 56 | Q46: =SUM(Q44+Q42+Q39+Q36+Q33+Q30+Q27+Q24+Q21+Q18+Q15+Q12+Q9+Q6+Q3) -> 46 | R46: =SUM(R44+R42+R39+R36+R33+R30+R27+R24+R21+R18+R15+R12+R9+R6+R3) -> 46
J47: Position | K47: 6 | L47: 3 | M47: 7 | O47: 1 | P47: 2 | Q47: 4= | R47: 4=
K48: =K1 -> CAAC | L48: =L1 -> Elgin | M48: =M1 -> ES | N48: =N1 -> FH | O48: =O1 -> IH | P48: =P1 -> MRR | Q48: =Q1 -> NAAC | R48: =R1 -> RC

Sheet U17W
A1: Event | B1: U17W | C1: 1st = 8A/B | D1: 2nd = 7A/B | E1: 3rd = 6A/B | F1: 4th = 5A/B | G1: 5th = 4A/B | H1: 6th = 3A/B | I1: 7th = 2A/B | J1: 8th = 1A/B | K1: CAAC | L1: Elgin | M1: ES | N1: FH | O1: IH | P1: MRR | Q1: NAAC | R1: RC
A2: 100m | B2: Name | C2: Rachel Johnstone | D2: Emma Barclay | E2: Beth Grant
A3: A | B3: Club | C3: IH | D3: Elgin | E3: MRR | K3: =IF(C3=K1,11,IF(D3=K1,9,IF(E3=K1,8,IF(F3=K1,7,IF(G3=K1,6,IF(H3=K1,5,IF(I3=K1,4,IF(J3=K1,3,0)))))))) -> 0 | L3: 7 | M3: =IF(C3=M1,11,IF(D3=M1,9,IF(E3=M1,8,IF(F3=M1,7,IF(G3=M1,6,IF(H3=M1,5,IF(I3=M1,4,IF(J3=M1,3,0)))))))) -> 0 | N3: =IF(C3=N1,11,IF(D3=N1,9,IF(E3=N1,8,IF(F3=N1,7,IF(G3=N1,6,IF(H3=N1,5,IF(I3=N1,4,IF(J3=N1,3,0)))))))) -> 0 | O3: 8 | P3: 6 | Q3: =IF(C3=Q1,11,IF(D3=Q1,9,IF(E3=Q1,8,IF(F3=Q1,7,IF(G3=Q1,6,IF(H3=Q1,5,IF(I3=Q1,4,IF(J3=Q1,3,0)))))))) -> 0 | R3: =IF(C3=R1,11,IF(D3=R1,9,IF(E3=R1,8,IF(F3=R1,7,IF(G3=R1,6,IF(H3=R1,5,IF(I3=R1,4,IF(J3=R1,3,0)))))))) -> 0
A4: 1.6 | B4: Perf. | C4: 13.51 | D4: 13.57 | E4: 13.96
A5: 100m | B5: Name | C5: Beth Mackay | D5: Eve Gardiner
A6: B | B6: Club | C6: Elgin | D6: IH | K6: =IF(C6=K1,9,IF(D6=K1,7,IF(E6=K1,6,IF(F6=K1,5,IF(G6=K1,4,IF(H6=K1,3,IF(I6=K1,2,IF(J6=K1,1,0)))))))) -> 0 | L6: 8 | M6: =IF(C6=M1,9,IF(D6=M1,7,IF(E6=M1,6,IF(F6=M1,5,IF(G6=M1,4,IF(H6=M1,3,IF(I6=M1,2,IF(J6=M1,1,0)))))))) -> 0 | N6: =IF(C6=N1,9,IF(D6=N1,7,IF(E6=N1,6,IF(F6=N1,5,IF(G6=N1,4,IF(H6=N1,3,IF(I6=N1,2,IF(J6=N1,1,0)))))))) -> 0 | O6: 7 | P6: =IF(C6=P1,9,IF(D6=P1,7,IF(E6=P1,6,IF(F6=P1,5,IF(G6=P1,4,IF(H6=P1,3,IF(I6=P1,2,IF(J6=P1,1,0)))))))) -> 0 | Q6: =IF(C6=Q1,9,IF(D6=Q1,7,IF(E6=Q1,6,IF(F6=Q1,5,IF(G6=Q1,4,IF(H6=Q1,3,IF(I6=Q1,2,IF(J6=Q1,1,0)))))))) -> 0 | R6: =IF(C6=R1,9,IF(D6=R1,7,IF(E6=R1,6,IF(F6=R1,5,IF(G6=R1,4,IF(H6=R1,3,IF(I6=R1,2,IF(J6=R1,1,0)))))))) -> 0
A7: 1.6 | B7: Perf. | C7: 14.2 | D7: 14.44
A8: 300m | B8: Name | C8: Emma Barclay | D8: Chloe Cheyne | E8: Beth Grant
A9: A | B9: Club | C9: Elgin | D9: IH | E9: MRR | K9: =IF(C9=K1,11,IF(D9=K1,9,IF(E9=K1,8,IF(F9=K1,7,IF(G9=K1,6,IF(H9=K1,5,IF(I9=K1,4,IF(J9=K1,3,0)))))))) -> 0 | L9: 8 | M9: =IF(C9=M1,11,IF(D9=M1,9,IF(E9=M1,8,IF(F9=M1,7,IF(G9=M1,6,IF(H9=M1,5,IF(I9=M1,4,IF(J9=M1,3,0)))))))) -> 0 | N9: =IF(C9=N1,11,IF(D9=N1,9,IF(E9=N1,8,IF(F9=N1,7,IF(G9=N1,6,IF(H9=N1,5,IF(I9=N1,4,IF(J9=N1,3,0)))))))) -> 0 | O9: 7 | P9: 6 | Q9: =IF(C9=Q1,11,IF(D9=Q1,9,IF(E9=Q1,8,IF(F9=Q1,7,IF(G9=Q1,6,IF(H9=Q1,5,IF(I9=Q1,4,IF(J9=Q1,3,0)))))))) -> 0 | R9: =IF(C9=R1,11,IF(D9=R1,9,IF(E9=R1,8,IF(F9=R1,7,IF(G9=R1,6,IF(H9=R1,5,IF(I9=R1,4,IF(J9=R1,3,0)))))))) -> 0
B10: Perf. | C10: 44.07 | D10: 44.7 | E10: 50.58
A11: 300m | B11: Name | C11: Ruby Soldan | D11: Eve Tulloch | E11: Niamh Whelan
A12: B | B12: Club | C12: IH | D12: Elgin | E12: MRR | K12: =IF(C12=K1,9,IF(D12=K1,7,IF(E12=K1,6,IF(F12=K1,5,IF(G12=K1,4,IF(H12=K1,3,IF(I12=K1,2,IF(J12=K1,1,0)))))))) -> 0 | L12: =IF(C12=L1,9,IF(D12=L1,7,IF(E12=L1,6,IF(F12=L1,5,IF(G12=L1,4,IF(H12=L1,3,IF(I12=L1,2,IF(J12=L1,1,0)))))))) -> 7 | M12: =IF(C12=M1,9,IF(D12=M1,7,IF(E12=M1,6,IF(F12=M1,5,IF(G12=M1,4,IF(H12=M1,3,IF(I12=M1,2,IF(J12=M1,1,0)))))))) -> 0 | N12: =IF(C12=N1,9,IF(D12=N1,7,IF(E12=N1,6,IF(F12=N1,5,IF(G12=N1,4,IF(H12=N1,3,IF(I12=N1,2,IF(J12=N1,1,0)))))))) -> 0 | O12: 8 | P12: =IF(C12=P1,9,IF(D12=P1,7,IF(E12=P1,6,IF(F12=P1,5,IF(G12=P1,4,IF(H12=P1,3,IF(I12=P1,2,IF(J12=P1,1,0)))))))) -> 6 | Q12: =IF(C12=Q1,9,IF(D12=Q1,7,IF(E12=Q1,6,IF(F12=Q1,5,IF(G12=Q1,4,IF(H12=Q1,3,IF(I12=Q1,2,IF(J12=Q1,1,0)))))))) -> 0 | R12: =IF(C12=R1,9,IF(D12=R1,7,IF(E12=R1,6,IF(F12=R1,5,IF(G12=R1,4,IF(H12=R1,3,IF(I12=R1,2,IF(J12=R1,1,0)))))))) -> 0
B13: Perf. | C13: 45.76 | D13: 46.11 | E13: 55.92
A14: 1500m | B14: Name | C14: Ruby Soldan | D14: Shauna Perry | E14: Niamh Whelan
A15: A | B15: Club | C15: IH | D15: Elgin | E15: MRR | K15: =IF(C15=K1,11,IF(D15=K1,9,IF(E15=K1,8,IF(F15=K1,7,IF(G15=K1,6,IF(H15=K1,5,IF(I15=K1,4,IF(J15=K1,3,0)))))))) -> 0 | L15: 7 | M15: =IF(C15=M1,11,IF(D15=M1,9,IF(E15=M1,8,IF(F15=M1,7,IF(G15=M1,6,IF(H15=M1,5,IF(I15=M1,4,IF(J15=M1,3,0)))))))) -> 0 | N15: =IF(C15=N1,11,IF(D15=N1,9,IF(E15=N1,8,IF(F15=N1,7,IF(G15=N1,6,IF(H15=N1,5,IF(I15=N1,4,IF(J15=N1,3,0)))))))) -> 0 | O15: 8 | P15: 6 | Q15: =IF(C15=Q1,11,IF(D15=Q1,9,IF(E15=Q1,8,IF(F15=Q1,7,IF(G15=Q1,6,IF(H15=Q1,5,IF(I15=Q1,4,IF(J15=Q1,3,0)))))))) -> 0 | R15: =IF(C15=R1,11,IF(D15=R1,9,IF(E15=R1,8,IF(F15=R1,7,IF(G15=R1,6,IF(H15=R1,5,IF(I15=R1,4,IF(J15=R1,3,0)))))))) -> 0
B16: Perf. | C16: 5.22.37 | D16: 5.30.16 | E16: 6.11.09
A17: 1500m | B17: Name | C17: Emma Seed
A18: B | B18: Club | C18: IH | K18: =IF(C18=K1,9,IF(D18=K1,7,IF(E18=K1,6,IF(F18=K1,5,IF(G18=K1,4,IF(H18=K1,3,IF(I18=K1,2,IF(J18=K1,1,0)))))))) -> 0 | L18: =IF(C18=L1,9,IF(D18=L1,7,IF(E18=L1,6,IF(F18=L1,5,IF(G18=L1,4,IF(H18=L1,3,IF(I18=L1,2,IF(J18=L1,1,0)))))))) -> 0 | M18: =IF(C18=M1,9,IF(D18=M1,7,IF(E18=M1,6,IF(F18=M1,5,IF(G18=M1,4,IF(H18=M1,3,IF(I18=M1,2,IF(J18=M1,1,0)))))))) -> 0 | N18: =IF(C18=N1,9,IF(D18=N1,7,IF(E18=N1,6,IF(F18=N1,5,IF(G18=N1,4,IF(H18=N1,3,IF(I18=N1,2,IF(J18=N1,1,0)))))))) -> 0 | O18: 8 | P18: =IF(C18=P1,9,IF(D18=P1,7,IF(E18=P1,6,IF(F18=P1,5,IF(G18=P1,4,IF(H18=P1,3,IF(I18=P1,2,IF(J18=P1,1,0)))))))) -> 0 | Q18: =IF(C18=Q1,9,IF(D18=Q1,7,IF(E18=Q1,6,IF(F18=Q1,5,IF(G18=Q1,4,IF(H18=Q1,3,IF(I18=Q1,2,IF(J18=Q1,1,0)))))))) -> 0 | R18: =IF(C18=R1,9,IF(D18=R1,7,IF(E18=R1,6,IF(F18=R1,5,IF(G18=R1,4,IF(H18=R1,3,IF(I18=R1,2,IF(J18=R1,1,0)))))))) -> 0
B19: Perf. | C19: 5.38.55
A20: S Putt | B20: Name | C20: Beth Grant | D20: Rachel Maclennan | E20: Ruby Dunkley | F20: Beth Mackay
A21: A | B21: Club | C21: MRR | D21: IH | E21: NAAC | F21: Elgin | K21: =IF(C21=K1,11,IF(D21=K1,9,IF(E21=K1,8,IF(F21=K1,7,IF(G21=K1,6,IF(H21=K1,5,IF(I21=K1,4,IF(J21=K1,3,0)))))))) -> 0 | L21: 5 | M21: =IF(C21=M1,11,IF(D21=M1,9,IF(E21=M1,8,IF(F21=M1,7,IF(G21=M1,6,IF(H21=M1,5,IF(I21=M1,4,IF(J21=M1,3,0)))))))) -> 0 | N21: =IF(C21=N1,11,IF(D21=N1,9,IF(E21=N1,8,IF(F21=N1,7,IF(G21=N1,6,IF(H21=N1,5,IF(I21=N1,4,IF(J21=N1,3,0)))))))) -> 0 | O21: 7 | P21: 8 | Q21: 6 | R21: =IF(C21=R1,11,IF(D21=R1,9,IF(E21=R1,8,IF(F21=R1,7,IF(G21=R1,6,IF(H21=R1,5,IF(I21=R1,4,IF(J21=R1,3,0)))))))) -> 0
B22: Perf. | C22: 8.99 | D22: 8.62 | E22: 7.93 | F22: 6.02
A23: S Putt | B23: Name | C23: Amy Collier | D23: Shauna Perry
A24: B | B24: Club | C24: IH | D24: Elgin | K24: =IF(C24=K1,9,IF(D24=K1,7,IF(E24=K1,6,IF(F24=K1,5,IF(G24=K1,4,IF(H24=K1,3,IF(I24=K1,2,IF(J24=K1,1,0)))))))) -> 0 | L24: =IF(C24=L1,9,IF(D24=L1,7,IF(E24=L1,6,IF(F24=L1,5,IF(G24=L1,4,IF(H24=L1,3,IF(I24=L1,2,IF(J24=L1,1,0)))))))) -> 7 | M24: =IF(C24=M1,9,IF(D24=M1,7,IF(E24=M1,6,IF(F24=M1,5,IF(G24=M1,4,IF(H24=M1,3,IF(I24=M1,2,IF(J24=M1,1,0)))))))) -> 0 | N24: =IF(C24=N1,9,IF(D24=N1,7,IF(E24=N1,6,IF(F24=N1,5,IF(G24=N1,4,IF(H24=N1,3,IF(I24=N1,2,IF(J24=N1,1,0)))))))) -> 0 | O24: 8 | P24: =IF(C24=P1,9,IF(D24=P1,7,IF(E24=P1,6,IF(F24=P1,5,IF(G24=P1,4,IF(H24=P1,3,IF(I24=P1,2,IF(J24=P1,1,0)))))))) -> 0 | Q24: =IF(C24=Q1,9,IF(D24=Q1,7,IF(E24=Q1,6,IF(F24=Q1,5,IF(G24=Q1,4,IF(H24=Q1,3,IF(I24=Q1,2,IF(J24=Q1,1,0)))))))) -> 0 | R24: =IF(C24=R1,9,IF(D24=R1,7,IF(E24=R1,6,IF(F24=R1,5,IF(G24=R1,4,IF(H24=R1,3,IF(I24=R1,2,IF(J24=R1,1,0)))))))) -> 0
B25: Perf. | C25: 6.92 | D25: 4.18
A26: T Jump | B26: Name | C26: Eve Tulloch | D26: Rachel Johnstone | E26: Ruby Dunkley
A27: A | B27: Club | C27: Elgin | D27: IH | E27: NAAC | K27: =IF(C27=K1,11,IF(D27=K1,9,IF(E27=K1,8,IF(F27=K1,7,IF(G27=K1,6,IF(H27=K1,5,IF(I27=K1,4,IF(J27=K1,3,0)))))))) -> 0 | L27: 8 | M27: =IF(C27=M1,11,IF(D27=M1,9,IF(E27=M1,8,IF(F27=M1,7,IF(G27=M1,6,IF(H27=M1,5,IF(I27=M1,4,IF(J27=M1,3,0)))))))) -> 0 | N27: =IF(C27=N1,11,IF(D27=N1,9,IF(E27=N1,8,IF(F27=N1,7,IF(G27=N1,6,IF(H27=N1,5,IF(I27=N1,4,IF(J27=N1,3,0)))))))) -> 0 | O27: 7 | P27: =IF(C27=P1,11,IF(D27=P1,9,IF(E27=P1,8,IF(F27=P1,7,IF(G27=P1,6,IF(H27=P1,5,IF(I27=P1,4,IF(J27=P1,3,0)))))))) -> 0 | Q27: 6 | R27: =IF(C27=R1,11,IF(D27=R1,9,IF(E27=R1,8,IF(F27=R1,7,IF(G27=R1,6,IF(H27=R1,5,IF(I27=R1,4,IF(J27=R1,3,0)))))))) -> 0
B28: Perf. | C28: 9.17 | D28: 8.96 | E28: 7.96
A29: T Jump | B29: Name | C29: Emma Barclay | D29: Rachel Gillies
A30: B | B30: Club | C30: Elgin | D30: IH | K30: =IF(C30=K1,9,IF(D30=K1,7,IF(E30=K1,6,IF(F30=K1,5,IF(G30=K1,4,IF(H30=K1,3,IF(I30=K1,2,IF(J30=K1,1,0)))))))) -> 0 | L30: 8 | M30: =IF(C30=M1,9,IF(D30=M1,7,IF(E30=M1,6,IF(F30=M1,5,IF(G30=M1,4,IF(H30=M1,3,IF(I30=M1,2,IF(J30=M1,1,0)))))))) -> 0 | N30: =IF(C30=N1,9,IF(D30=N1,7,IF(E30=N1,6,IF(F30=N1,5,IF(G30=N1,4,IF(H30=N1,3,IF(I30=N1,2,IF(J30=N1,1,0)))))))) -> 0 | O30: =IF(C30=O1,9,IF(D30=O1,7,IF(E30=O1,6,IF(F30=O1,5,IF(G30=O1,4,IF(H30=O1,3,IF(I30=O1,2,IF(J30=O1,1,0)))))))) -> 7 | P30: =IF(C30=P1,9,IF(D30=P1,7,IF(E30=P1,6,IF(F30=P1,5,IF(G30=P1,4,IF(H30=P1,3,IF(I30=P1,2,IF(J30=P1,1,0)))))))) -> 0 | Q30: =IF(C30=Q1,9,IF(D30=Q1,7,IF(E30=Q1,6,IF(F30=Q1,5,IF(G30=Q1,4,IF(H30=Q1,3,IF(I30=Q1,2,IF(J30=Q1,1,0)))))))) -> 0 | R30: =IF(C30=R1,9,IF(D30=R1,7,IF(E30=R1,6,IF(F30=R1,5,IF(G30=R1,4,IF(H30=R1,3,IF(I30=R1,2,IF(J30=R1,1,0)))))))) -> 0
B31: Perf. | C31: 9.13 | D31: 8.61
B32: Name
A33: A | B33: Club | K33: =IF(C33=K1,11,IF(D33=K1,9,IF(E33=K1,8,IF(F33=K1,7,IF(G33=K1,6,IF(H33=K1,5,IF(I33=K1,4,IF(J33=K1,3,0)))))))) -> 0 | L33: =IF(C33=L1,11,IF(D33=L1,9,IF(E33=L1,8,IF(F33=L1,7,IF(G33=L1,6,IF(H33=L1,5,IF(I33=L1,4,IF(J33=L1,3,0)))))))) -> 0 | M33: =IF(C33=M1,11,IF(D33=M1,9,IF(E33=M1,8,IF(F33=M1,7,IF(G33=M1,6,IF(H33=M1,5,IF(I33=M1,4,IF(J33=M1,3,0)))))))) -> 0 | N33: =IF(C33=N1,11,IF(D33=N1,9,IF(E33=N1,8,IF(F33=N1,7,IF(G33=N1,6,IF(H33=N1,5,IF(I33=N1,4,IF(J33=N1,3,0)))))))) -> 0 | O33: =IF(C33=O1,11,IF(D33=O1,9,IF(E33=O1,8,IF(F33=O1,7,IF(G33=O1,6,IF(H33=O1,5,IF(I33=O1,4,IF(J33=O1,3,0)))))))) -> 0 | P33: =IF(C33=P1,11,IF(D33=P1,9,IF(E33=P1,8,IF(F33=P1,7,IF(G33=P1,6,IF(H33=P1,5,IF(I33=P1,4,IF(J33=P1,3,0)))))))) -> 0 | Q33: =IF(C33=Q1,11,IF(D33=Q1,9,IF(E33=Q1,8,IF(F33=Q1,7,IF(G33=Q1,6,IF(H33=Q1,5,IF(I33=Q1,4,IF(J33=Q1,3,0)))))))) -> 0 | R33: =IF(C33=R1,11,IF(D33=R1,9,IF(E33=R1,8,IF(F33=R1,7,IF(G33=R1,6,IF(H33=R1,5,IF(I33=R1,4,IF(J33=R1,3,0)))))))) -> 0
B34: Perf.
B35: Name
A36: B | B36: Club | K36: =IF(C36=K1,9,IF(D36=K1,7,IF(E36=K1,6,IF(F36=K1,5,IF(G36=K1,4,IF(H36=K1,3,IF(I36=K1,2,IF(J36=K1,1,0)))))))) -> 0 | L36: =IF(C36=L1,9,IF(D36=L1,7,IF(E36=L1,6,IF(F36=L1,5,IF(G36=L1,4,IF(H36=L1,3,IF(I36=L1,2,IF(J36=L1,1,0)))))))) -> 0 | M36: =IF(C36=M1,9,IF(D36=M1,7,IF(E36=M1,6,IF(F36=M1,5,IF(G36=M1,4,IF(H36=M1,3,IF(I36=M1,2,IF(J36=M1,1,0)))))))) -> 0 | N36: =IF(C36=N1,9,IF(D36=N1,7,IF(E36=N1,6,IF(F36=N1,5,IF(G36=N1,4,IF(H36=N1,3,IF(I36=N1,2,IF(J36=N1,1,0)))))))) -> 0 | O36: =IF(C36=O1,9,IF(D36=O1,7,IF(E36=O1,6,IF(F36=O1,5,IF(G36=O1,4,IF(H36=O1,3,IF(I36=O1,2,IF(J36=O1,1,0)))))))) -> 0 | P36: =IF(C36=P1,9,IF(D36=P1,7,IF(E36=P1,6,IF(F36=P1,5,IF(G36=P1,4,IF(H36=P1,3,IF(I36=P1,2,IF(J36=P1,1,0)))))))) -> 0 | Q36: =IF(C36=Q1,9,IF(D36=Q1,7,IF(E36=Q1,6,IF(F36=Q1,5,IF(G36=Q1,4,IF(H36=Q1,3,IF(I36=Q1,2,IF(J36=Q1,1,0)))))))) -> 0 | R36: =IF(C36=R1,9,IF(D36=R1,7,IF(E36=R1,6,IF(F36=R1,5,IF(G36=R1,4,IF(H36=R1,3,IF(I36=R1,2,IF(J36=R1,1,0)))))))) -> 0
B37: Perf.
B38: Name
A39: A | B39: Club | K39: =IF(C39=K1,11,IF(D39=K1,9,IF(E39=K1,8,IF(F39=K1,7,IF(G39=K1,6,IF(H39=K1,5,IF(I39=K1,4,IF(J39=K1,3,0)))))))) -> 0 | L39: =IF(C39=L1,11,IF(D39=L1,9,IF(E39=L1,8,IF(F39=L1,7,IF(G39=L1,6,IF(H39=L1,5,IF(I39=L1,4,IF(J39=L1,3,0)))))))) -> 0 | M39: =IF(C39=M1,11,IF(D39=M1,9,IF(E39=M1,8,IF(F39=M1,7,IF(G39=M1,6,IF(H39=M1,5,IF(I39=M1,4,IF(J39=M1,3,0)))))))) -> 0 | N39: =IF(C39=N1,11,IF(D39=N1,9,IF(E39=N1,8,IF(F39=N1,7,IF(G39=N1,6,IF(H39=N1,5,IF(I39=N1,4,IF(J39=N1,3,0)))))))) -> 0 | O39: =IF(C39=O1,11,IF(D39=O1,9,IF(E39=O1,8,IF(F39=O1,7,IF(G39=O1,6,IF(H39=O1,5,IF(I39=O1,4,IF(J39=O1,3,0)))))))) -> 0 | P39: =IF(C39=P1,11,IF(D39=P1,9,IF(E39=P1,8,IF(F39=P1,7,IF(G39=P1,6,IF(H39=P1,5,IF(I39=P1,4,IF(J39=P1,3,0)))))))) -> 0 | Q39: =IF(C39=Q1,11,IF(D39=Q1,9,IF(E39=Q1,8,IF(F39=Q1,7,IF(G39=Q1,6,IF(H39=Q1,5,IF(I39=Q1,4,IF(J39=Q1,3,0)))))))) -> 0 | R39: =IF(C39=R1,11,IF(D39=R1,9,IF(E39=R1,8,IF(F39=R1,7,IF(G39=R1,6,IF(H39=R1,5,IF(I39=R1,4,IF(J39=R1,3,0)))))))) -> 0
B40: Perf.
B41: Name
A42: B | B42: Club | K42: =IF(C42=K1,9,IF(D42=K1,7,IF(E42=K1,6,IF(F42=K1,5,IF(G42=K1,4,IF(H42=K1,3,IF(I42=K1,2,IF(J42=K1,1,0)))))))) -> 0 | L42: =IF(C42=L1,9,IF(D42=L1,7,IF(E42=L1,6,IF(F42=L1,5,IF(G42=L1,4,IF(H42=L1,3,IF(I42=L1,2,IF(J42=L1,1,0)))))))) -> 0 | M42: =IF(C42=M1,9,IF(D42=M1,7,IF(E42=M1,6,IF(F42=M1,5,IF(G42=M1,4,IF(H42=M1,3,IF(I42=M1,2,IF(J42=M1,1,0)))))))) -> 0 | N42: =IF(C42=N1,9,IF(D42=N1,7,IF(E42=N1,6,IF(F42=N1,5,IF(G42=N1,4,IF(H42=N1,3,IF(I42=N1,2,IF(J42=N1,1,0)))))))) -> 0 | O42: =IF(C42=O1,9,IF(D42=O1,7,IF(E42=O1,6,IF(F42=O1,5,IF(G42=O1,4,IF(H42=O1,3,IF(I42=O1,2,IF(J42=O1,1,0)))))))) -> 0 | P42: =IF(C42=P1,9,IF(D42=P1,7,IF(E42=P1,6,IF(F42=P1,5,IF(G42=P1,4,IF(H42=P1,3,IF(I42=P1,2,IF(J42=P1,1,0)))))))) -> 0 | Q42: =IF(C42=Q1,9,IF(D42=Q1,7,IF(E42=Q1,6,IF(F42=Q1,5,IF(G42=Q1,4,IF(H42=Q1,3,IF(I42=Q1,2,IF(J42=Q1,1,0)))))))) -> 0 | R42: =IF(C42=R1,9,IF(D42=R1,7,IF(E42=R1,6,IF(F42=R1,5,IF(G42=R1,4,IF(H42=R1,3,IF(I42=R1,2,IF(J42=R1,1,0)))))))) -> 0
B43: Perf.
A44: RELAY | B44: Club | C44: IH | D44: Elgin | K44: =IF(C44=K1,11,IF(D44=K1,9,IF(E44=K1,8,IF(F44=K1,7,IF(G44=K1,6,IF(H44=K1,5,IF(I44=K1,4,IF(J44=K1,3,0)))))))) -> 0 | L44: 7 | M44: =IF(C44=M1,11,IF(D44=M1,9,IF(E44=M1,8,IF(F44=M1,7,IF(G44=M1,6,IF(H44=M1,5,IF(I44=M1,4,IF(J44=M1,3,0)))))))) -> 0 | N44: =IF(C44=N1,11,IF(D44=N1,9,IF(E44=N1,8,IF(F44=N1,7,IF(G44=N1,6,IF(H44=N1,5,IF(I44=N1,4,IF(J44=N1,3,0)))))))) -> 0 | O44: 8 | P44: =IF(C44=P1,11,IF(D44=P1,9,IF(E44=P1,8,IF(F44=P1,7,IF(G44=P1,6,IF(H44=P1,5,IF(I44=P1,4,IF(J44=P1,3,0)))))))) -> 0 | Q44: =IF(C44=Q1,11,IF(D44=Q1,9,IF(E44=Q1,8,IF(F44=Q1,7,IF(G44=Q1,6,IF(H44=Q1,5,IF(I44=Q1,4,IF(J44=Q1,3,0)))))))) -> 0 | R44: =IF(C44=R1,11,IF(D44=R1,9,IF(E44=R1,8,IF(F44=R1,7,IF(G44=R1,6,IF(H44=R1,5,IF(I44=R1,4,IF(J44=R1,3,0)))))))) -> 0
A45: 4 x 100m | B45: Perf. | C45: 56.03 | D45: 56.04
J46: Totals | K46: =SUM(K44+K42+K39+K36+K33+K30+K27+K24+K21+K18+K15+K12+K9+K6+K3) -> 0 | L46: =SUM(L44+L42+L39+L36+L33+L30+L27+L24+L21+L18+L15+L12+L9+L6+L3) -> 72 | M46: =SUM(M44+M42+M39+M36+M33+M30+M27+M24+M21+M18+M15+M12+M9+M6+M3) -> 0 | N46: =SUM(N44+N42+N39+N36+N33+N30+N27+N24+N21+N18+N15+N12+N9+N6+N3) -> 0 | O46: =SUM(O44+O42+O39+O36+O33+O30+O27+O24+O21+O18+O15+O12+O9+O6+O3) -> 83 | P46: =SUM(P44+P42+P39+P36+P33+P30+P27+P24+P21+P18+P15+P12+P9+P6+P3) -> 32 | Q46: =SUM(Q44+Q42+Q39+Q36+Q33+Q30+Q27+Q24+Q21+Q18+Q15+Q12+Q9+Q6+Q3) -> 12 | R46: =SUM(R44+R42+R39+R36+R33+R30+R27+R24+R21+R18+R15+R12+R9+R6+R3) -> 0
J47: Position | L47: 2 | O47: 1 | P47: 3 | Q47: 4
K48: =K1 -> CAAC | L48: =L1 -> Elgin | M48: =M1 -> ES | N48: =N1 -> FH | O48: =O1 -> IH | P48: =P1 -> MRR | Q48: =Q1 -> NAAC | R48: =R1 -> RC

Sheet SW
A1: Event | B1: SW | C1: 1st = 8A/B | D1: 2nd = 7A/B | E1: 3rd = 6A/B | F1: 4th = 5A/B | G1: 5th = 4A/B | H1: 6th = 3A/B | I1: 7th = 2A/B | J1: 8th = 1A/B | K1: CAAC | L1: Elgin | M1: ES | N1: FH | O1: IH | P1: MRR | Q1: NAAC | R1: RC
A2: 100m | B2: Name | C2: Emma Pedrana | D2: Heather Welsh | E2: Chantall Fowlie | F2: Alison Heggie | G2: Yvonne Cantlie
A3: A | B3: Club | C3: IH | D3: NAAC | E3: Elgin | F3: RC | G3: MRR | K3: =IF(C3=K1,11,IF(D3=K1,9,IF(E3=K1,8,IF(F3=K1,7,IF(G3=K1,6,IF(H3=K1,5,IF(I3=K1,4,IF(J3=K1,3,0)))))))) -> 0 | L3: 6 | M3: =IF(C3=M1,11,IF(D3=M1,9,IF(E3=M1,8,IF(F3=M1,7,IF(G3=M1,6,IF(H3=M1,5,IF(I3=M1,4,IF(J3=M1,3,0)))))))) -> 0 | N3: =IF(C3=N1,11,IF(D3=N1,9,IF(E3=N1,8,IF(F3=N1,7,IF(G3=N1,6,IF(H3=N1,5,IF(I3=N1,4,IF(J3=N1,3,0)))))))) -> 0 | O3: 8 | P3: 4 | Q3: 7 | R3: 5
A4: 3.9 | B4: Perf. | C4: 12.57 | D4: 14.3 | E4: 15.23 | F4: 15.38 | G4: 16.15
A5: 100m | B5: Name | C5: Heather Bruce
A6: B | B6: Club | C6: IH | K6: =IF(C6=K1,9,IF(D6=K1,7,IF(E6=K1,6,IF(F6=K1,5,IF(G6=K1,4,IF(H6=K1,3,IF(I6=K1,2,IF(J6=K1,1,0)))))))) -> 0 | L6: =IF(C6=L1,9,IF(D6=L1,7,IF(E6=L1,6,IF(F6=L1,5,IF(G6=L1,4,IF(H6=L1,3,IF(I6=L1,2,IF(J6=L1,1,0)))))))) -> 0 | M6: =IF(C6=M1,9,IF(D6=M1,7,IF(E6=M1,6,IF(F6=M1,5,IF(G6=M1,4,IF(H6=M1,3,IF(I6=M1,2,IF(J6=M1,1,0)))))))) -> 0 | N6: =IF(C6=N1,9,IF(D6=N1,7,IF(E6=N1,6,IF(F6=N1,5,IF(G6=N1,4,IF(H6=N1,3,IF(I6=N1,2,IF(J6=N1,1,0)))))))) -> 0 | O6: 8 | P6: =IF(C6=P1,9,IF(D6=P1,7,IF(E6=P1,6,IF(F6=P1,5,IF(G6=P1,4,IF(H6=P1,3,IF(I6=P1,2,IF(J6=P1,1,0)))))))) -> 0 | Q6: =IF(C6=Q1,9,IF(D6=Q1,7,IF(E6=Q1,6,IF(F6=Q1,5,IF(G6=Q1,4,IF(H6=Q1,3,IF(I6=Q1,2,IF(J6=Q1,1,0)))))))) -> 0 | R6: =IF(C6=R1,9,IF(D6=R1,7,IF(E6=R1,6,IF(F6=R1,5,IF(G6=R1,4,IF(H6=R1,3,IF(I6=R1,2,IF(J6=R1,1,0)))))))) -> 0
A7: 3.9 | B7: Perf. | C7: 13.06
A8: 400m | B8: Name | C8: Gillian Gordon | D8: Yvonne Cantlie
A9: A | B9: Club | C9: IH | D9: MRR | K9: =IF(C9=K1,11,IF(D9=K1,9,IF(E9=K1,8,IF(F9=K1,7,IF(G9=K1,6,IF(H9=K1,5,IF(I9=K1,4,IF(J9=K1,3,0)))))))) -> 0 | L9: =IF(C9=L1,11,IF(D9=L1,9,IF(E9=L1,8,IF(F9=L1,7,IF(G9=L1,6,IF(H9=L1,5,IF(I9=L1,4,IF(J9=L1,3,0)))))))) -> 0 | M9: =IF(C9=M1,11,IF(D9=M1,9,IF(E9=M1,8,IF(F9=M1,7,IF(G9=M1,6,IF(H9=M1,5,IF(I9=M1,4,IF(J9=M1,3,0)))))))) -> 0 | N9: =IF(C9=N1,11,IF(D9=N1,9,IF(E9=N1,8,IF(F9=N1,7,IF(G9=N1,6,IF(H9=N1,5,IF(I9=N1,4,IF(J9=N1,3,0)))))))) -> 0 | O9: 8 | P9: 7 | Q9: =IF(C9=Q1,11,IF(D9=Q1,9,IF(E9=Q1,8,IF(F9=Q1,7,IF(G9=Q1,6,IF(H9=Q1,5,IF(I9=Q1,4,IF(J9=Q1,3,0)))))))) -> 0 | R9: =IF(C9=R1,11,IF(D9=R1,9,IF(E9=R1,8,IF(F9=R1,7,IF(G9=R1,6,IF(H9=R1,5,IF(I9=R1,4,IF(J9=R1,3,0)))))))) -> 0
B10: Perf. | C10: 1.00.59 | D10: 1.21.12
A11: 400m | B11: Name | C11: Julie Wilson | D11: Kirsty Weir
A12: B | B12: Club | C12: IH | D12: MRR | K12: =IF(C12=K1,9,IF(D12=K1,7,IF(E12=K1,6,IF(F12=K1,5,IF(G12=K1,4,IF(H12=K1,3,IF(I12=K1,2,IF(J12=K1,1,0)))))))) -> 0 | L12: =IF(C12=L1,9,IF(D12=L1,7,IF(E12=L1,6,IF(F12=L1,5,IF(G12=L1,4,IF(H12=L1,3,IF(I12=L1,2,IF(J12=L1,1,0)))))))) -> 0 | M12: =IF(C12=M1,9,IF(D12=M1,7,IF(E12=M1,6,IF(F12=M1,5,IF(G12=M1,4,IF(H12=M1,3,IF(I12=M1,2,IF(J12=M1,1,0)))))))) -> 0 | N12: =IF(C12=N1,9,IF(D12=N1,7,IF(E12=N1,6,IF(F12=N1,5,IF(G12=N1,4,IF(H12=N1,3,IF(I12=N1,2,IF(J12=N1,1,0)))))))) -> 0 | O12: 8 | P12: =IF(C12=P1,9,IF(D12=P1,7,IF(E12=P1,6,IF(F12=P1,5,IF(G12=P1,4,IF(H12=P1,3,IF(I12=P1,2,IF(J12=P1,1,0)))))))) -> 7 | Q12: =IF(C12=Q1,9,IF(D12=Q1,7,IF(E12=Q1,6,IF(F12=Q1,5,IF(G12=Q1,4,IF(H12=Q1,3,IF(I12=Q1,2,IF(J12=Q1,1,0)))))))) -> 0 | R12: =IF(C12=R1,9,IF(D12=R1,7,IF(E12=R1,6,IF(F12=R1,5,IF(G12=R1,4,IF(H12=R1,3,IF(I12=R1,2,IF(J12=R1,1,0)))))))) -> 0
B13: Perf. | C13: 1.11.99 | D13: 1.30.61
A14: 1500m | B14: Name | C14: Grace Whelan
A15: A | B15: Club | C15: MRR | K15: =IF(C15=K1,11,IF(D15=K1,9,IF(E15=K1,8,IF(F15=K1,7,IF(G15=K1,6,IF(H15=K1,5,IF(I15=K1,4,IF(J15=K1,3,0)))))))) -> 0 | L15: =IF(C15=L1,11,IF(D15=L1,9,IF(E15=L1,8,IF(F15=L1,7,IF(G15=L1,6,IF(H15=L1,5,IF(I15=L1,4,IF(J15=L1,3,0)))))))) -> 0 | M15: =IF(C15=M1,11,IF(D15=M1,9,IF(E15=M1,8,IF(F15=M1,7,IF(G15=M1,6,IF(H15=M1,5,IF(I15=M1,4,IF(J15=M1,3,0)))))))) -> 0 | N15: =IF(C15=N1,11,IF(D15=N1,9,IF(E15=N1,8,IF(F15=N1,7,IF(G15=N1,6,IF(H15=N1,5,IF(I15=N1,4,IF(J15=N1,3,0)))))))) -> 0 | O15: =IF(C15=O1,11,IF(D15=O1,9,IF(E15=O1,8,IF(F15=O1,7,IF(G15=O1,6,IF(H15=O1,5,IF(I15=O1,4,IF(J15=O1,3,0)))))))) -> 0 | P15: 8 | Q15: =IF(C15=Q1,11,IF(D15=Q1,9,IF(E15=Q1,8,IF(F15=Q1,7,IF(G15=Q1,6,IF(H15=Q1,5,IF(I15=Q1,4,IF(J15=Q1,3,0)))))))) -> 0 | R15: =IF(C15=R1,11,IF(D15=R1,9,IF(E15=R1,8,IF(F15=R1,7,IF(G15=R1,6,IF(H15=R1,5,IF(I15=R1,4,IF(J15=R1,3,0)))))))) -> 0
B16: Perf. | C16: 5.02.41
A17: 1500m | B17: Name | C17: Michelle Slater
A18: B | B18: Club | C18: MRR | K18: =IF(C18=K1,9,IF(D18=K1,7,IF(E18=K1,6,IF(F18=K1,5,IF(G18=K1,4,IF(H18=K1,3,IF(I18=K1,2,IF(J18=K1,1,0)))))))) -> 0 | L18: =IF(C18=L1,9,IF(D18=L1,7,IF(E18=L1,6,IF(F18=L1,5,IF(G18=L1,4,IF(H18=L1,3,IF(I18=L1,2,IF(J18=L1,1,0)))))))) -> 0 | M18: =IF(C18=M1,9,IF(D18=M1,7,IF(E18=M1,6,IF(F18=M1,5,IF(G18=M1,4,IF(H18=M1,3,IF(I18=M1,2,IF(J18=M1,1,0)))))))) -> 0 | N18: =IF(C18=N1,9,IF(D18=N1,7,IF(E18=N1,6,IF(F18=N1,5,IF(G18=N1,4,IF(H18=N1,3,IF(I18=N1,2,IF(J18=N1,1,0)))))))) -> 0 | O18: =IF(C18=O1,9,IF(D18=O1,7,IF(E18=O1,6,IF(F18=O1,5,IF(G18=O1,4,IF(H18=O1,3,IF(I18=O1,2,IF(J18=O1,1,0)))))))) -> 0 | P18: 8 | Q18: =IF(C18=Q1,9,IF(D18=Q1,7,IF(E18=Q1,6,IF(F18=Q1,5,IF(G18=Q1,4,IF(H18=Q1,3,IF(I18=Q1,2,IF(J18=Q1,1,0)))))))) -> 0 | R18: =IF(C18=R1,9,IF(D18=R1,7,IF(E18=R1,6,IF(F18=R1,5,IF(G18=R1,4,IF(H18=R1,3,IF(I18=R1,2,IF(J18=R1,1,0)))))))) -> 0
B19: Perf. | C19: 5.41.86
A20: Javelin | B20: Name | C20: Heather Welsh | D20: Megan Munro | E20: Alice Mongellio | F20: Chantall Fowlie
A21: A | B21: Club | C21: NAAC | D21: IH | E21: RC | F21: Elgin | K21: =IF(C21=K1,11,IF(D21=K1,9,IF(E21=K1,8,IF(F21=K1,7,IF(G21=K1,6,IF(H21=K1,5,IF(I21=K1,4,IF(J21=K1,3,0)))))))) -> 0 | L21: 5 | M21: =IF(C21=M1,11,IF(D21=M1,9,IF(E21=M1,8,IF(F21=M1,7,IF(G21=M1,6,IF(H21=M1,5,IF(I21=M1,4,IF(J21=M1,3,0)))))))) -> 0 | N21: =IF(C21=N1,11,IF(D21=N1,9,IF(E21=N1,8,IF(F21=N1,7,IF(G21=N1,6,IF(H21=N1,5,IF(I21=N1,4,IF(J21=N1,3,0)))))))) -> 0 | O21: 7 | P21: =IF(C21=P1,11,IF(D21=P1,9,IF(E21=P1,8,IF(F21=P1,7,IF(G21=P1,6,IF(H21=P1,5,IF(I21=P1,4,IF(J21=P1,3,0)))))))) -> 0 | Q21: 8 | R21: 6
B22: Perf. | C22: 23.30 | D22: 22.74 | E22: 16.57 | F22: 13.19
A23: Javelin | B23: Name | C23: Alison Heggie
A24: B | B24: Club | C24: RC | K24: =IF(C24=K1,9,IF(D24=K1,7,IF(E24=K1,6,IF(F24=K1,5,IF(G24=K1,4,IF(H24=K1,3,IF(I24=K1,2,IF(J24=K1,1,0)))))))) -> 0 | L24: =IF(C24=L1,9,IF(D24=L1,7,IF(E24=L1,6,IF(F24=L1,5,IF(G24=L1,4,IF(H24=L1,3,IF(I24=L1,2,IF(J24=L1,1,0)))))))) -> 0 | M24: =IF(C24=M1,9,IF(D24=M1,7,IF(E24=M1,6,IF(F24=M1,5,IF(G24=M1,4,IF(H24=M1,3,IF(I24=M1,2,IF(J24=M1,1,0)))))))) -> 0 | N24: =IF(C24=N1,9,IF(D24=N1,7,IF(E24=N1,6,IF(F24=N1,5,IF(G24=N1,4,IF(H24=N1,3,IF(I24=N1,2,IF(J24=N1,1,0)))))))) -> 0 | O24: =IF(C24=O1,9,IF(D24=O1,7,IF(E24=O1,6,IF(F24=O1,5,IF(G24=O1,4,IF(H24=O1,3,IF(I24=O1,2,IF(J24=O1,1,0)))))))) -> 0 | P24: =IF(C24=P1,9,IF(D24=P1,7,IF(E24=P1,6,IF(F24=P1,5,IF(G24=P1,4,IF(H24=P1,3,IF(I24=P1,2,IF(J24=P1,1,0)))))))) -> 0 | Q24: =IF(C24=Q1,9,IF(D24=Q1,7,IF(E24=Q1,6,IF(F24=Q1,5,IF(G24=Q1,4,IF(H24=Q1,3,IF(I24=Q1,2,IF(J24=Q1,1,0)))))))) -> 0 | R24: 8
B25: Perf. | C25: 12.66
A26: L Jump | B26: Name | C26: Heather Welsh
A27: A | B27: Club | C27: NAAC | K27: =IF(C27=K1,11,IF(D27=K1,9,IF(E27=K1,8,IF(F27=K1,7,IF(G27=K1,6,IF(H27=K1,5,IF(I27=K1,4,IF(J27=K1,3,0)))))))) -> 0 | L27: =IF(C27=L1,11,IF(D27=L1,9,IF(E27=L1,8,IF(F27=L1,7,IF(G27=L1,6,IF(H27=L1,5,IF(I27=L1,4,IF(J27=L1,3,0)))))))) -> 0 | M27: =IF(C27=M1,11,IF(D27=M1,9,IF(E27=M1,8,IF(F27=M1,7,IF(G27=M1,6,IF(H27=M1,5,IF(I27=M1,4,IF(J27=M1,3,0)))))))) -> 0 | N27: =IF(C27=N1,11,IF(D27=N1,9,IF(E27=N1,8,IF(F27=N1,7,IF(G27=N1,6,IF(H27=N1,5,IF(I27=N1,4,IF(J27=N1,3,0)))))))) -> 0 | O27: =IF(C27=O1,11,IF(D27=O1,9,IF(E27=O1,8,IF(F27=O1,7,IF(G27=O1,6,IF(H27=O1,5,IF(I27=O1,4,IF(J27=O1,3,0)))))))) -> 0 | P27: =IF(C27=P1,11,IF(D27=P1,9,IF(E27=P1,8,IF(F27=P1,7,IF(G27=P1,6,IF(H27=P1,5,IF(I27=P1,4,IF(J27=P1,3,0)))))))) -> 0 | Q27: 8 | R27: =IF(C27=R1,11,IF(D27=R1,9,IF(E27=R1,8,IF(F27=R1,7,IF(G27=R1,6,IF(H27=R1,5,IF(I27=R1,4,IF(J27=R1,3,0)))))))) -> 0
B28: Perf. | C28: 3.49
A29: L Jump | B29: Name
A30: B | B30: Club | K30: =IF(C30=K1,9,IF(D30=K1,7,IF(E30=K1,6,IF(F30=K1,5,IF(G30=K1,4,IF(H30=K1,3,IF(I30=K1,2,IF(J30=K1,1,0)))))))) -> 0 | L30: =IF(C30=L1,9,IF(D30=L1,7,IF(E30=L1,6,IF(F30=L1,5,IF(G30=L1,4,IF(H30=L1,3,IF(I30=L1,2,IF(J30=L1,1,0)))))))) -> 0 | M30: =IF(C30=M1,9,IF(D30=M1,7,IF(E30=M1,6,IF(F30=M1,5,IF(G30=M1,4,IF(H30=M1,3,IF(I30=M1,2,IF(J30=M1,1,0)))))))) -> 0 | N30: =IF(C30=N1,9,IF(D30=N1,7,IF(E30=N1,6,IF(F30=N1,5,IF(G30=N1,4,IF(H30=N1,3,IF(I30=N1,2,IF(J30=N1,1,0)))))))) -> 0 | O30: =IF(C30=O1,9,IF(D30=O1,7,IF(E30=O1,6,IF(F30=O1,5,IF(G30=O1,4,IF(H30=O1,3,IF(I30=O1,2,IF(J30=O1,1,0)))))))) -> 0 | P30: =IF(C30=P1,9,IF(D30=P1,7,IF(E30=P1,6,IF(F30=P1,5,IF(G30=P1,4,IF(H30=P1,3,IF(I30=P1,2,IF(J30=P1,1,0)))))))) -> 0 | Q30: =IF(C30=Q1,9,IF(D30=Q1,7,IF(E30=Q1,6,IF(F30=Q1,5,IF(G30=Q1,4,IF(H30=Q1,3,IF(I30=Q1,2,IF(J30=Q1,1,0)))))))) -> 0 | R30: =IF(C30=R1,9,IF(D30=R1,7,IF(E30=R1,6,IF(F30=R1,5,IF(G30=R1,4,IF(H30=R1,3,IF(I30=R1,2,IF(J30=R1,1,0)))))))) -> 0
B31: Perf.
B32: Name
A33: A | B33: Club | K33: =IF(C33=K1,11,IF(D33=K1,9,IF(E33=K1,8,IF(F33=K1,7,IF(G33=K1,6,IF(H33=K1,5,IF(I33=K1,4,IF(J33=K1,3,0)))))))) -> 0 | L33: =IF(C33=L1,11,IF(D33=L1,9,IF(E33=L1,8,IF(F33=L1,7,IF(G33=L1,6,IF(H33=L1,5,IF(I33=L1,4,IF(J33=L1,3,0)))))))) -> 0 | M33: =IF(C33=M1,11,IF(D33=M1,9,IF(E33=M1,8,IF(F33=M1,7,IF(G33=M1,6,IF(H33=M1,5,IF(I33=M1,4,IF(J33=M1,3,0)))))))) -> 0 | N33: =IF(C33=N1,11,IF(D33=N1,9,IF(E33=N1,8,IF(F33=N1,7,IF(G33=N1,6,IF(H33=N1,5,IF(I33=N1,4,IF(J33=N1,3,0)))))))) -> 0 | O33: =IF(C33=O1,11,IF(D33=O1,9,IF(E33=O1,8,IF(F33=O1,7,IF(G33=O1,6,IF(H33=O1,5,IF(I33=O1,4,IF(J33=O1,3,0)))))))) -> 0 | P33: =IF(C33=P1,11,IF(D33=P1,9,IF(E33=P1,8,IF(F33=P1,7,IF(G33=P1,6,IF(H33=P1,5,IF(I33=P1,4,IF(J33=P1,3,0)))))))) -> 0 | Q33: =IF(C33=Q1,11,IF(D33=Q1,9,IF(E33=Q1,8,IF(F33=Q1,7,IF(G33=Q1,6,IF(H33=Q1,5,IF(I33=Q1,4,IF(J33=Q1,3,0)))))))) -> 0 | R33: =IF(C33=R1,11,IF(D33=R1,9,IF(E33=R1,8,IF(F33=R1,7,IF(G33=R1,6,IF(H33=R1,5,IF(I33=R1,4,IF(J33=R1,3,0)))))))) -> 0
B34: Perf.
B35: Name
A36: B | B36: Club | K36: =IF(C36=K1,9,IF(D36=K1,7,IF(E36=K1,6,IF(F36=K1,5,IF(G36=K1,4,IF(H36=K1,3,IF(I36=K1,2,IF(J36=K1,1,0)))))))) -> 0 | L36: =IF(C36=L1,9,IF(D36=L1,7,IF(E36=L1,6,IF(F36=L1,5,IF(G36=L1,4,IF(H36=L1,3,IF(I36=L1,2,IF(J36=L1,1,0)))))))) -> 0 | M36: =IF(C36=M1,9,IF(D36=M1,7,IF(E36=M1,6,IF(F36=M1,5,IF(G36=M1,4,IF(H36=M1,3,IF(I36=M1,2,IF(J36=M1,1,0)))))))) -> 0 | N36: =IF(C36=N1,9,IF(D36=N1,7,IF(E36=N1,6,IF(F36=N1,5,IF(G36=N1,4,IF(H36=N1,3,IF(I36=N1,2,IF(J36=N1,1,0)))))))) -> 0 | O36: =IF(C36=O1,9,IF(D36=O1,7,IF(E36=O1,6,IF(F36=O1,5,IF(G36=O1,4,IF(H36=O1,3,IF(I36=O1,2,IF(J36=O1,1,0)))))))) -> 0 | P36: =IF(C36=P1,9,IF(D36=P1,7,IF(E36=P1,6,IF(F36=P1,5,IF(G36=P1,4,IF(H36=P1,3,IF(I36=P1,2,IF(J36=P1,1,0)))))))) -> 0 | Q36: =IF(C36=Q1,9,IF(D36=Q1,7,IF(E36=Q1,6,IF(F36=Q1,5,IF(G36=Q1,4,IF(H36=Q1,3,IF(I36=Q1,2,IF(J36=Q1,1,0)))))))) -> 0 | R36: =IF(C36=R1,9,IF(D36=R1,7,IF(E36=R1,6,IF(F36=R1,5,IF(G36=R1,4,IF(H36=R1,3,IF(I36=R1,2,IF(J36=R1,1,0)))))))) -> 0
B37: Perf.
B38: Name
A39: A | B39: Club | K39: =IF(C39=K1,11,IF(D39=K1,9,IF(E39=K1,8,IF(F39=K1,7,IF(G39=K1,6,IF(H39=K1,5,IF(I39=K1,4,IF(J39=K1,3,0)))))))) -> 0 | L39: =IF(C39=L1,11,IF(D39=L1,9,IF(E39=L1,8,IF(F39=L1,7,IF(G39=L1,6,IF(H39=L1,5,IF(I39=L1,4,IF(J39=L1,3,0)))))))) -> 0 | M39: =IF(C39=M1,11,IF(D39=M1,9,IF(E39=M1,8,IF(F39=M1,7,IF(G39=M1,6,IF(H39=M1,5,IF(I39=M1,4,IF(J39=M1,3,0)))))))) -> 0 | N39: =IF(C39=N1,11,IF(D39=N1,9,IF(E39=N1,8,IF(F39=N1,7,IF(G39=N1,6,IF(H39=N1,5,IF(I39=N1,4,IF(J39=N1,3,0)))))))) -> 0 | O39: =IF(C39=O1,11,IF(D39=O1,9,IF(E39=O1,8,IF(F39=O1,7,IF(G39=O1,6,IF(H39=O1,5,IF(I39=O1,4,IF(J39=O1,3,0)))))))) -> 0 | P39: =IF(C39=P1,11,IF(D39=P1,9,IF(E39=P1,8,IF(F39=P1,7,IF(G39=P1,6,IF(H39=P1,5,IF(I39=P1,4,IF(J39=P1,3,0)))))))) -> 0 | Q39: =IF(C39=Q1,11,IF(D39=Q1,9,IF(E39=Q1,8,IF(F39=Q1,7,IF(G39=Q1,6,IF(H39=Q1,5,IF(I39=Q1,4,IF(J39=Q1,3,0)))))))) -> 0 | R39: =IF(C39=R1,11,IF(D39=R1,9,IF(E39=R1,8,IF(F39=R1,7,IF(G39=R1,6,IF(H39=R1,5,IF(I39=R1,4,IF(J39=R1,3,0)))))))) -> 0
B40: Perf.
B41: Name
A42: B | B42: Club | K42: =IF(C42=K1,9,IF(D42=K1,7,IF(E42=K1,6,IF(F42=K1,5,IF(G42=K1,4,IF(H42=K1,3,IF(I42=K1,2,IF(J42=K1,1,0)))))))) -> 0 | L42: =IF(C42=L1,9,IF(D42=L1,7,IF(E42=L1,6,IF(F42=L1,5,IF(G42=L1,4,IF(H42=L1,3,IF(I42=L1,2,IF(J42=L1,1,0)))))))) -> 0 | M42: =IF(C42=M1,9,IF(D42=M1,7,IF(E42=M1,6,IF(F42=M1,5,IF(G42=M1,4,IF(H42=M1,3,IF(I42=M1,2,IF(J42=M1,1,0)))))))) -> 0 | N42: =IF(C42=N1,9,IF(D42=N1,7,IF(E42=N1,6,IF(F42=N1,5,IF(G42=N1,4,IF(H42=N1,3,IF(I42=N1,2,IF(J42=N1,1,0)))))))) -> 0 | O42: =IF(C42=O1,9,IF(D42=O1,7,IF(E42=O1,6,IF(F42=O1,5,IF(G42=O1,4,IF(H42=O1,3,IF(I42=O1,2,IF(J42=O1,1,0)))))))) -> 0 | P42: =IF(C42=P1,9,IF(D42=P1,7,IF(E42=P1,6,IF(F42=P1,5,IF(G42=P1,4,IF(H42=P1,3,IF(I42=P1,2,IF(J42=P1,1,0)))))))) -> 0 | Q42: =IF(C42=Q1,9,IF(D42=Q1,7,IF(E42=Q1,6,IF(F42=Q1,5,IF(G42=Q1,4,IF(H42=Q1,3,IF(I42=Q1,2,IF(J42=Q1,1,0)))))))) -> 0 | R42: =IF(C42=R1,9,IF(D42=R1,7,IF(E42=R1,6,IF(F42=R1,5,IF(G42=R1,4,IF(H42=R1,3,IF(I42=R1,2,IF(J42=R1,1,0)))))))) -> 0
B43: Perf.
A44: RELAY | B44: Club | C44: MRR | D44: RC | K44: =IF(C44=K1,11,IF(D44=K1,9,IF(E44=K1,8,IF(F44=K1,7,IF(G44=K1,6,IF(H44=K1,5,IF(I44=K1,4,IF(J44=K1,3,0)))))))) -> 0 | L44: =IF(C44=L1,11,IF(D44=L1,9,IF(E44=L1,8,IF(F44=L1,7,IF(G44=L1,6,IF(H44=L1,5,IF(I44=L1,4,IF(J44=L1,3,0)))))))) -> 0 | M44: =IF(C44=M1,11,IF(D44=M1,9,IF(E44=M1,8,IF(F44=M1,7,IF(G44=M1,6,IF(H44=M1,5,IF(I44=M1,4,IF(J44=M1,3,0)))))))) -> 0 | N44: =IF(C44=N1,11,IF(D44=N1,9,IF(E44=N1,8,IF(F44=N1,7,IF(G44=N1,6,IF(H44=N1,5,IF(I44=N1,4,IF(J44=N1,3,0)))))))) -> 0 | O44: =IF(C44=O1,11,IF(D44=O1,9,IF(E44=O1,8,IF(F44=O1,7,IF(G44=O1,6,IF(H44=O1,5,IF(I44=O1,4,IF(J44=O1,3,0)))))))) -> 0 | P44: 8 | Q44: =IF(C44=Q1,11,IF(D44=Q1,9,IF(E44=Q1,8,IF(F44=Q1,7,IF(G44=Q1,6,IF(H44=Q1,5,IF(I44=Q1,4,IF(J44=Q1,3,0)))))))) -> 0 | R44: 7
A45: 4 x 100m | B45: Perf. | C45: 1.05.04 | D45: 1.07.56
J46: Totals | K46: =SUM(K44+K42+K39+K36+K33+K30+K27+K24+K21+K18+K15+K12+K9+K6+K3) -> 0 | L46: =SUM(L44+L42+L39+L36+L33+L30+L27+L24+L21+L18+L15+L12+L9+L6+L3) -> 11 | M46: =SUM(M44+M42+M39+M36+M33+M30+M27+M24+M21+M18+M15+M12+M9+M6+M3) -> 0 | N46: =SUM(N44+N42+N39+N36+N33+N30+N27+N24+N21+N18+N15+N12+N9+N6+N3) -> 0 | O46: =SUM(O44+O42+O39+O36+O33+O30+O27+O24+O21+O18+O15+O12+O9+O6+O3) -> 39 | P46: =SUM(P44+P42+P39+P36+P33+P30+P27+P24+P21+P18+P15+P12+P9+P6+P3) -> 42 | Q46: =SUM(Q44+Q42+Q39+Q36+Q33+Q30+Q27+Q24+Q21+Q18+Q15+Q12+Q9+Q6+Q3) -> 23 | R46: =SUM(R44+R42+R39+R36+R33+R30+R27+R24+R21+R18+R15+R12+R9+R6+R3) -> 26
J47: Position | L47: 5 | O47: 2 | P47: 1 | Q47: 4 | R47: 3
K48: =K1 -> CAAC | L48: =L1 -> Elgin | M48: =M1 -> ES | N48: =N1 -> FH | O48: =O1 -> IH | P48: =P1 -> MRR | Q48: =Q1 -> NAAC | R48: =R1 -> RC

Sheet U11B
A1: Event | B1: U11B | C1: 1st = 8A/B | D1: 2nd = 7A/B | E1: 3rd = 6A/B | F1: 4th = 5A/B | G1: 5th = 4A/B | H1: 6th = 3A/B | I1: 7th = 2A/B | J1: 8th = 1A/B | K1: CAAC | L1: Elgin | M1: ES | N1: FH | O1: IH | P1: MRR | Q1: NAAC | R1: RC
A2: 100m | B2: Name | C2: Liam Mackenzie | D2: Archie Smith | E2: Jack Urquhart | F2: Harry Long | G2: John Scott | H2: Logan Anderson | I2: Adam Smith
A3: A | B3: Club | C3: CAAC | D3: NAAC | E3: IH | F3: MRR | G3: FH | H3: RC | I3: Elgin | K3: 8 | L3: 2 | M3: =IF(C3=M1,11,IF(D3=M1,9,IF(E3=M1,8,IF(F3=M1,7,IF(G3=M1,6,IF(H3=M1,5,IF(I3=M1,4,IF(J3=M1,3,0)))))))) -> 0 | N3: 4 | O3: 6 | P3: 5 | Q3: 7 | R3: 4
A4: 1.3 | B4: Perf. | C4: 15.28 | D4: 15.36 | E4: 16.35 | F4: 16.35 | G4: 16.55 | H4: 17.07 | I4: 17.56
A5: 100m | B5: Name | C5: Tyler Gordon | D5: Seumas Henderson | E5: Aaron Craigie | F5: Zack Gill | G5: Daniel Beacom
A6: B | B6: Club | C6: CAAC | D6: RC | E6: NAAC | F6: MRR | G6: IH | K6: 8 | L6: =IF(C6=L1,9,IF(D6=L1,7,IF(E6=L1,6,IF(F6=L1,5,IF(G6=L1,4,IF(H6=L1,3,IF(I6=L1,2,IF(J6=L1,1,0)))))))) -> 0 | M6: =IF(C6=M1,9,IF(D6=M1,7,IF(E6=M1,6,IF(F6=M1,5,IF(G6=M1,4,IF(H6=M1,3,IF(I6=M1,2,IF(J6=M1,1,0)))))))) -> 0 | N6: =IF(C6=N1,9,IF(D6=N1,7,IF(E6=N1,6,IF(F6=N1,5,IF(G6=N1,4,IF(H6=N1,3,IF(I6=N1,2,IF(J6=N1,1,0)))))))) -> 0 | O6: =IF(C6=O1,9,IF(D6=O1,7,IF(E6=O1,6,IF(F6=O1,5,IF(G6=O1,4,IF(H6=O1,3,IF(I6=O1,2,IF(J6=O1,1,0)))))))) -> 4 | P6: =IF(C6=P1,9,IF(D6=P1,7,IF(E6=P1,6,IF(F6=P1,5,IF(G6=P1,4,IF(H6=P1,3,IF(I6=P1,2,IF(J6=P1,1,0)))))))) -> 5 | Q6: =IF(C6=Q1,9,IF(D6=Q1,7,IF(E6=Q1,6,IF(F6=Q1,5,IF(G6=Q1,4,IF(H6=Q1,3,IF(I6=Q1,2,IF(J6=Q1,1,0)))))))) -> 6 | R6: =IF(C6=R1,9,IF(D6=R1,7,IF(E6=R1,6,IF(F6=R1,5,IF(G6=R1,4,IF(H6=R1,3,IF(I6=R1,2,IF(J6=R1,1,0)))))))) -> 7
A7: 3.4 | B7: Perf. | C7: 15.67 | D7: 16.03 | E7: 16.37 | F7: 17.01 | G7: 17.19
A8: 800m | B8: Name | C8: Struan Ellen | D8: Archie Smith | E8: Finlay Weir | F8: John Scott | G8: Daniel Finnegan | H8: Gregor Mill | I8: Adam Smith
A9: A | B9: Club | C9: RC | D9: NAAC | E9: MRR | F9: FH | G9: IH | H9: CAAC | I9: Elgin | K9: 3 | L9: 2 | M9: =IF(C9=M1,11,IF(D9=M1,9,IF(E9=M1,8,IF(F9=M1,7,IF(G9=M1,6,IF(H9=M1,5,IF(I9=M1,4,IF(J9=M1,3,0)))))))) -> 0 | N9: 5 | O9: 4 | P9: 6 | Q9: 7 | R9: 8
B10: Perf. | C10: 2.51.65 | D10: 2.57.00 | E10: 3.04.72 | F10: 3.10.50 | G10: 3.11.58 | H10: 3.20.34 | I10: 3.23.58
A11: 800m | B11: Name | C11: Conner Cameron | D11: Jack James | E11: Drew MacBean | F11: Aiden Williamson
A12: B | B12: Club | C12: MRR | D12: RC | E12: NAAC | F12: CAAC | K12: =IF(C12=K1,9,IF(D12=K1,7,IF(E12=K1,6,IF(F12=K1,5,IF(G12=K1,4,IF(H12=K1,3,IF(I12=K1,2,IF(J12=K1,1,0)))))))) -> 5 | L12: =IF(C12=L1,9,IF(D12=L1,7,IF(E12=L1,6,IF(F12=L1,5,IF(G12=L1,4,IF(H12=L1,3,IF(I12=L1,2,IF(J12=L1,1,0)))))))) -> 0 | M12: =IF(C12=M1,9,IF(D12=M1,7,IF(E12=M1,6,IF(F12=M1,5,IF(G12=M1,4,IF(H12=M1,3,IF(I12=M1,2,IF(J12=M1,1,0)))))))) -> 0 | N12: =IF(C12=N1,9,IF(D12=N1,7,IF(E12=N1,6,IF(F12=N1,5,IF(G12=N1,4,IF(H12=N1,3,IF(I12=N1,2,IF(J12=N1,1,0)))))))) -> 0 | O12: =IF(C12=O1,9,IF(D12=O1,7,IF(E12=O1,6,IF(F12=O1,5,IF(G12=O1,4,IF(H12=O1,3,IF(I12=O1,2,IF(J12=O1,1,0)))))))) -> 0 | P12: 8 | Q12: =IF(C12=Q1,9,IF(D12=Q1,7,IF(E12=Q1,6,IF(F12=Q1,5,IF(G12=Q1,4,IF(H12=Q1,3,IF(I12=Q1,2,IF(J12=Q1,1,0)))))))) -> 6 | R12: =IF(C12=R1,9,IF(D12=R1,7,IF(E12=R1,6,IF(F12=R1,5,IF(G12=R1,4,IF(H12=R1,3,IF(I12=R1,2,IF(J12=R1,1,0)))))))) -> 7
B13: Perf. | C13: 3.00.41 | D13: 3.08.94 | E13: 3.16.53 | F13: 3.47.65
A14: S Putt | B14: Name | C14: Liam Mackenzie | D14: John Scott | E14: Drew Smith | F14: Daniel Finnegan | G14: Struan Ellen | H14: Adam Smith
A15: A | B15: Club | C15: CAAC | D15: FH | E15: NAAC | F15: IH | G15: RC | H15: Elgin | K15: 8 | L15: 3 | M15: =IF(C15=M1,11,IF(D15=M1,9,IF(E15=M1,8,IF(F15=M1,7,IF(G15=M1,6,IF(H15=M1,5,IF(I15=M1,4,IF(J15=M1,3,0)))))))) -> 0 | N15: 7 | O15: 5 | P15: =IF(C15=P1,11,IF(D15=P1,9,IF(E15=P1,8,IF(F15=P1,7,IF(G15=P1,6,IF(H15=P1,5,IF(I15=P1,4,IF(J15=P1,3,0)))))))) -> 0 | Q15: 6 | R15: 4
B16: Perf. | C16: 4.82 | D16: 4.75 | E16: 4.34 | F16: 4.17 | G16: 4.02 | H16: 2.7
A17: S Putt | B17: Name | C17: Aaron Cheyne | D17: Angus Porter | E17: Drew MacBean | F17: Josh Manson
A18: B | B18: Club | C18: IH | D18: RC | E18: NAAC | F18: CAAC | K18: =IF(C18=K1,9,IF(D18=K1,7,IF(E18=K1,6,IF(F18=K1,5,IF(G18=K1,4,IF(H18=K1,3,IF(I18=K1,2,IF(J18=K1,1,0)))))))) -> 5 | L18: =IF(C18=L1,9,IF(D18=L1,7,IF(E18=L1,6,IF(F18=L1,5,IF(G18=L1,4,IF(H18=L1,3,IF(I18=L1,2,IF(J18=L1,1,0)))))))) -> 0 | M18: =IF(C18=M1,9,IF(D18=M1,7,IF(E18=M1,6,IF(F18=M1,5,IF(G18=M1,4,IF(H18=M1,3,IF(I18=M1,2,IF(J18=M1,1,0)))))))) -> 0 | N18: =IF(C18=N1,9,IF(D18=N1,7,IF(E18=N1,6,IF(F18=N1,5,IF(G18=N1,4,IF(H18=N1,3,IF(I18=N1,2,IF(J18=N1,1,0)))))))) -> 0 | O18: 8 | P18: =IF(C18=P1,9,IF(D18=P1,7,IF(E18=P1,6,IF(F18=P1,5,IF(G18=P1,4,IF(H18=P1,3,IF(I18=P1,2,IF(J18=P1,1,0)))))))) -> 0 | Q18: =IF(C18=Q1,9,IF(D18=Q1,7,IF(E18=Q1,6,IF(F18=Q1,5,IF(G18=Q1,4,IF(H18=Q1,3,IF(I18=Q1,2,IF(J18=Q1,1,0)))))))) -> 6 | R18: =IF(C18=R1,9,IF(D18=R1,7,IF(E18=R1,6,IF(F18=R1,5,IF(G18=R1,4,IF(H18=R1,3,IF(I18=R1,2,IF(J18=R1,1,0)))))))) -> 7
B19: Perf. | C19: 3.91 | D19: 3.26 | E19: 3.22 | F19: 2.48
A20: H Jump | B20: Name | C20: Struan Ellen | D20: Archie Smith | E20: Gregor Mill | F20: Daniel Beacom
A21: A | B21: Club | C21: RC | D21: NAAC | E21: CAAC | F21: IH | K21: 6 | L21: =IF(C21=L1,11,IF(D21=L1,9,IF(E21=L1,8,IF(F21=L1,7,IF(G21=L1,6,IF(H21=L1,5,IF(I21=L1,4,IF(J21=L1,3,0)))))))) -> 0 | M21: =IF(C21=M1,11,IF(D21=M1,9,IF(E21=M1,8,IF(F21=M1,7,IF(G21=M1,6,IF(H21=M1,5,IF(I21=M1,4,IF(J21=M1,3,0)))))))) -> 0 | N21: =IF(C21=N1,11,IF(D21=N1,9,IF(E21=N1,8,IF(F21=N1,7,IF(G21=N1,6,IF(H21=N1,5,IF(I21=N1,4,IF(J21=N1,3,0)))))))) -> 0 | O21: 5 | P21: =IF(C21=P1,11,IF(D21=P1,9,IF(E21=P1,8,IF(F21=P1,7,IF(G21=P1,6,IF(H21=P1,5,IF(I21=P1,4,IF(J21=P1,3,0)))))))) -> 0 | Q21: 7 | R21: 8
B22: Perf. | C22: 1.00 | D22: 0.95 | E22: 0.95 | F22: 0.90
A23: H Jump | B23: Name | C23: Jack James | D23: Drew Smith
A24: B | B24: Club | C24: RC | D24: NAAC | K24: =IF(C24=K1,9,IF(D24=K1,7,IF(E24=K1,6,IF(F24=K1,5,IF(G24=K1,4,IF(H24=K1,3,IF(I24=K1,2,IF(J24=K1,1,0)))))))) -> 0 | L24: =IF(C24=L1,9,IF(D24=L1,7,IF(E24=L1,6,IF(F24=L1,5,IF(G24=L1,4,IF(H24=L1,3,IF(I24=L1,2,IF(J24=L1,1,0)))))))) -> 0 | M24: =IF(C24=M1,9,IF(D24=M1,7,IF(E24=M1,6,IF(F24=M1,5,IF(G24=M1,4,IF(H24=M1,3,IF(I24=M1,2,IF(J24=M1,1,0)))))))) -> 0 | N24: =IF(C24=N1,9,IF(D24=N1,7,IF(E24=N1,6,IF(F24=N1,5,IF(G24=N1,4,IF(H24=N1,3,IF(I24=N1,2,IF(J24=N1,1,0)))))))) -> 0 | O24: =IF(C24=O1,9,IF(D24=O1,7,IF(E24=O1,6,IF(F24=O1,5,IF(G24=O1,4,IF(H24=O1,3,IF(I24=O1,2,IF(J24=O1,1,0)))))))) -> 0 | P24: =IF(C24=P1,9,IF(D24=P1,7,IF(E24=P1,6,IF(F24=P1,5,IF(G24=P1,4,IF(H24=P1,3,IF(I24=P1,2,IF(J24=P1,1,0)))))))) -> 0 | Q24: =IF(C24=Q1,9,IF(D24=Q1,7,IF(E24=Q1,6,IF(F24=Q1,5,IF(G24=Q1,4,IF(H24=Q1,3,IF(I24=Q1,2,IF(J24=Q1,1,0)))))))) -> 7 | R24: 8
B25: Perf. | C25: 0.95 | D25: 0.90
B26: Name
A27: A | B27: Club | K27: =IF(C27=K1,11,IF(D27=K1,9,IF(E27=K1,8,IF(F27=K1,7,IF(G27=K1,6,IF(H27=K1,5,IF(I27=K1,4,IF(J27=K1,3,0)))))))) -> 0 | L27: =IF(C27=L1,11,IF(D27=L1,9,IF(E27=L1,8,IF(F27=L1,7,IF(G27=L1,6,IF(H27=L1,5,IF(I27=L1,4,IF(J27=L1,3,0)))))))) -> 0 | M27: =IF(C27=M1,11,IF(D27=M1,9,IF(E27=M1,8,IF(F27=M1,7,IF(G27=M1,6,IF(H27=M1,5,IF(I27=M1,4,IF(J27=M1,3,0)))))))) -> 0 | N27: =IF(C27=N1,11,IF(D27=N1,9,IF(E27=N1,8,IF(F27=N1,7,IF(G27=N1,6,IF(H27=N1,5,IF(I27=N1,4,IF(J27=N1,3,0)))))))) -> 0 | O27: =IF(C27=O1,11,IF(D27=O1,9,IF(E27=O1,8,IF(F27=O1,7,IF(G27=O1,6,IF(H27=O1,5,IF(I27=O1,4,IF(J27=O1,3,0)))))))) -> 0 | P27: =IF(C27=P1,11,IF(D27=P1,9,IF(E27=P1,8,IF(F27=P1,7,IF(G27=P1,6,IF(H27=P1,5,IF(I27=P1,4,IF(J27=P1,3,0)))))))) -> 0 | Q27: =IF(C27=Q1,11,IF(D27=Q1,9,IF(E27=Q1,8,IF(F27=Q1,7,IF(G27=Q1,6,IF(H27=Q1,5,IF(I27=Q1,4,IF(J27=Q1,3,0)))))))) -> 0 | R27: =IF(C27=R1,11,IF(D27=R1,9,IF(E27=R1,8,IF(F27=R1,7,IF(G27=R1,6,IF(H27=R1,5,IF(I27=R1,4,IF(J27=R1,3,0)))))))) -> 0
B28: Perf.
B29: Name
A30: B | B30: Club | K30: =IF(C30=K1,9,IF(D30=K1,7,IF(E30=K1,6,IF(F30=K1,5,IF(G30=K1,4,IF(H30=K1,3,IF(I30=K1,2,IF(J30=K1,1,0)))))))) -> 0 | L30: =IF(C30=L1,9,IF(D30=L1,7,IF(E30=L1,6,IF(F30=L1,5,IF(G30=L1,4,IF(H30=L1,3,IF(I30=L1,2,IF(J30=L1,1,0)))))))) -> 0 | M30: =IF(C30=M1,9,IF(D30=M1,7,IF(E30=M1,6,IF(F30=M1,5,IF(G30=M1,4,IF(H30=M1,3,IF(I30=M1,2,IF(J30=M1,1,0)))))))) -> 0 | N30: =IF(C30=N1,9,IF(D30=N1,7,IF(E30=N1,6,IF(F30=N1,5,IF(G30=N1,4,IF(H30=N1,3,IF(I30=N1,2,IF(J30=N1,1,0)))))))) -> 0 | O30: =IF(C30=O1,9,IF(D30=O1,7,IF(E30=O1,6,IF(F30=O1,5,IF(G30=O1,4,IF(H30=O1,3,IF(I30=O1,2,IF(J30=O1,1,0)))))))) -> 0 | P30: =IF(C30=P1,9,IF(D30=P1,7,IF(E30=P1,6,IF(F30=P1,5,IF(G30=P1,4,IF(H30=P1,3,IF(I30=P1,2,IF(J30=P1,1,0)))))))) -> 0 | Q30: =IF(C30=Q1,9,IF(D30=Q1,7,IF(E30=Q1,6,IF(F30=Q1,5,IF(G30=Q1,4,IF(H30=Q1,3,IF(I30=Q1,2,IF(J30=Q1,1,0)))))))) -> 0 | R30: =IF(C30=R1,9,IF(D30=R1,7,IF(E30=R1,6,IF(F30=R1,5,IF(G30=R1,4,IF(H30=R1,3,IF(I30=R1,2,IF(J30=R1,1,0)))))))) -> 0
B31: Perf.
B32: Name
A33: A | B33: Club | K33: =IF(C33=K1,11,IF(D33=K1,9,IF(E33=K1,8,IF(F33=K1,7,IF(G33=K1,6,IF(H33=K1,5,IF(I33=K1,4,IF(J33=K1,3,0)))))))) -> 0 | L33: =IF(C33=L1,11,IF(D33=L1,9,IF(E33=L1,8,IF(F33=L1,7,IF(G33=L1,6,IF(H33=L1,5,IF(I33=L1,4,IF(J33=L1,3,0)))))))) -> 0 | M33: =IF(C33=M1,11,IF(D33=M1,9,IF(E33=M1,8,IF(F33=M1,7,IF(G33=M1,6,IF(H33=M1,5,IF(I33=M1,4,IF(J33=M1,3,0)))))))) -> 0 | N33: =IF(C33=N1,11,IF(D33=N1,9,IF(E33=N1,8,IF(F33=N1,7,IF(G33=N1,6,IF(H33=N1,5,IF(I33=N1,4,IF(J33=N1,3,0)))))))) -> 0 | O33: =IF(C33=O1,11,IF(D33=O1,9,IF(E33=O1,8,IF(F33=O1,7,IF(G33=O1,6,IF(H33=O1,5,IF(I33=O1,4,IF(J33=O1,3,0)))))))) -> 0 | P33: =IF(C33=P1,11,IF(D33=P1,9,IF(E33=P1,8,IF(F33=P1,7,IF(G33=P1,6,IF(H33=P1,5,IF(I33=P1,4,IF(J33=P1,3,0)))))))) -> 0 | Q33: =IF(C33=Q1,11,IF(D33=Q1,9,IF(E33=Q1,8,IF(F33=Q1,7,IF(G33=Q1,6,IF(H33=Q1,5,IF(I33=Q1,4,IF(J33=Q1,3,0)))))))) -> 0 | R33: =IF(C33=R1,11,IF(D33=R1,9,IF(E33=R1,8,IF(F33=R1,7,IF(G33=R1,6,IF(H33=R1,5,IF(I33=R1,4,IF(J33=R1,3,0)))))))) -> 0
B34: Perf.
B35: Name
A36: B | B36: Club | K36: =IF(C36=K1,9,IF(D36=K1,7,IF(E36=K1,6,IF(F36=K1,5,IF(G36=K1,4,IF(H36=K1,3,IF(I36=K1,2,IF(J36=K1,1,0)))))))) -> 0 | L36: =IF(C36=L1,9,IF(D36=L1,7,IF(E36=L1,6,IF(F36=L1,5,IF(G36=L1,4,IF(H36=L1,3,IF(I36=L1,2,IF(J36=L1,1,0)))))))) -> 0 | M36: =IF(C36=M1,9,IF(D36=M1,7,IF(E36=M1,6,IF(F36=M1,5,IF(G36=M1,4,IF(H36=M1,3,IF(I36=M1,2,IF(J36=M1,1,0)))))))) -> 0 | N36: =IF(C36=N1,9,IF(D36=N1,7,IF(E36=N1,6,IF(F36=N1,5,IF(G36=N1,4,IF(H36=N1,3,IF(I36=N1,2,IF(J36=N1,1,0)))))))) -> 0 | O36: =IF(C36=O1,9,IF(D36=O1,7,IF(E36=O1,6,IF(F36=O1,5,IF(G36=O1,4,IF(H36=O1,3,IF(I36=O1,2,IF(J36=O1,1,0)))))))) -> 0 | P36: =IF(C36=P1,9,IF(D36=P1,7,IF(E36=P1,6,IF(F36=P1,5,IF(G36=P1,4,IF(H36=P1,3,IF(I36=P1,2,IF(J36=P1,1,0)))))))) -> 0 | Q36: =IF(C36=Q1,9,IF(D36=Q1,7,IF(E36=Q1,6,IF(F36=Q1,5,IF(G36=Q1,4,IF(H36=Q1,3,IF(I36=Q1,2,IF(J36=Q1,1,0)))))))) -> 0 | R36: =IF(C36=R1,9,IF(D36=R1,7,IF(E36=R1,6,IF(F36=R1,5,IF(G36=R1,4,IF(H36=R1,3,IF(I36=R1,2,IF(J36=R1,1,0)))))))) -> 0
B37: Perf.
B38: Name
A39: A | B39: Club | K39: =IF(C39=K1,11,IF(D39=K1,9,IF(E39=K1,8,IF(F39=K1,7,IF(G39=K1,6,IF(H39=K1,5,IF(I39=K1,4,IF(J39=K1,3,0)))))))) -> 0 | L39: =IF(C39=L1,11,IF(D39=L1,9,IF(E39=L1,8,IF(F39=L1,7,IF(G39=L1,6,IF(H39=L1,5,IF(I39=L1,4,IF(J39=L1,3,0)))))))) -> 0 | M39: =IF(C39=M1,11,IF(D39=M1,9,IF(E39=M1,8,IF(F39=M1,7,IF(G39=M1,6,IF(H39=M1,5,IF(I39=M1,4,IF(J39=M1,3,0)))))))) -> 0 | N39: =IF(C39=N1,11,IF(D39=N1,9,IF(E39=N1,8,IF(F39=N1,7,IF(G39=N1,6,IF(H39=N1,5,IF(I39=N1,4,IF(J39=N1,3,0)))))))) -> 0 | O39: =IF(C39=O1,11,IF(D39=O1,9,IF(E39=O1,8,IF(F39=O1,7,IF(G39=O1,6,IF(H39=O1,5,IF(I39=O1,4,IF(J39=O1,3,0)))))))) -> 0 | P39: =IF(C39=P1,11,IF(D39=P1,9,IF(E39=P1,8,IF(F39=P1,7,IF(G39=P1,6,IF(H39=P1,5,IF(I39=P1,4,IF(J39=P1,3,0)))))))) -> 0 | Q39: =IF(C39=Q1,11,IF(D39=Q1,9,IF(E39=Q1,8,IF(F39=Q1,7,IF(G39=Q1,6,IF(H39=Q1,5,IF(I39=Q1,4,IF(J39=Q1,3,0)))))))) -> 0 | R39: =IF(C39=R1,11,IF(D39=R1,9,IF(E39=R1,8,IF(F39=R1,7,IF(G39=R1,6,IF(H39=R1,5,IF(I39=R1,4,IF(J39=R1,3,0)))))))) -> 0
B40: Perf.
B41: Name
A42: B | B42: Club | K42: =IF(C42=K1,9,IF(D42=K1,7,IF(E42=K1,6,IF(F42=K1,5,IF(G42=K1,4,IF(H42=K1,3,IF(I42=K1,2,IF(J42=K1,1,0)))))))) -> 0 | L42: =IF(C42=L1,9,IF(D42=L1,7,IF(E42=L1,6,IF(F42=L1,5,IF(G42=L1,4,IF(H42=L1,3,IF(I42=L1,2,IF(J42=L1,1,0)))))))) -> 0 | M42: =IF(C42=M1,9,IF(D42=M1,7,IF(E42=M1,6,IF(F42=M1,5,IF(G42=M1,4,IF(H42=M1,3,IF(I42=M1,2,IF(J42=M1,1,0)))))))) -> 0 | N42: =IF(C42=N1,9,IF(D42=N1,7,IF(E42=N1,6,IF(F42=N1,5,IF(G42=N1,4,IF(H42=N1,3,IF(I42=N1,2,IF(J42=N1,1,0)))))))) -> 0 | O42: =IF(C42=O1,9,IF(D42=O1,7,IF(E42=O1,6,IF(F42=O1,5,IF(G42=O1,4,IF(H42=O1,3,IF(I42=O1,2,IF(J42=O1,1,0)))))))) -> 0 | P42: =IF(C42=P1,9,IF(D42=P1,7,IF(E42=P1,6,IF(F42=P1,5,IF(G42=P1,4,IF(H42=P1,3,IF(I42=P1,2,IF(J42=P1,1,0)))))))) -> 0 | Q42: =IF(C42=Q1,9,IF(D42=Q1,7,IF(E42=Q1,6,IF(F42=Q1,5,IF(G42=Q1,4,IF(H42=Q1,3,IF(I42=Q1,2,IF(J42=Q1,1,0)))))))) -> 0 | R42: =IF(C42=R1,9,IF(D42=R1,7,IF(E42=R1,6,IF(F42=R1,5,IF(G42=R1,4,IF(H42=R1,3,IF(I42=R1,2,IF(J42=R1,1,0)))))))) -> 0
B43: Perf.
A44: RELAY | B44: Club | C44: NAAC | D44: IH | E44: MRR | F44: RC | G44: CAAC | K44: 4 | L44: =IF(C44=L1,11,IF(D44=L1,9,IF(E44=L1,8,IF(F44=L1,7,IF(G44=L1,6,IF(H44=L1,5,IF(I44=L1,4,IF(J44=L1,3,0)))))))) -> 0 | M44: =IF(C44=M1,11,IF(D44=M1,9,IF(E44=M1,8,IF(F44=M1,7,IF(G44=M1,6,IF(H44=M1,5,IF(I44=M1,4,IF(J44=M1,3,0)))))))) -> 0 | N44: =IF(C44=N1,11,IF(D44=N1,9,IF(E44=N1,8,IF(F44=N1,7,IF(G44=N1,6,IF(H44=N1,5,IF(I44=N1,4,IF(J44=N1,3,0)))))))) -> 0 | O44: 7 | P44: 6 | Q44: 8 | R44: 5
A45: 4 x 100m | B45: Perf. | C45: 1.05.21 | D45: 1.09.43 | E45: 1.09.55 | F45: 1.10.42 | G45: 1.10.78
J46: Totals | K46: =SUM(K44+K42+K39+K36+K33+K30+K27+K24+K21+K18+K15+K12+K9+K6+K3) -> 47 | L46: =SUM(L44+L42+L39+L36+L33+L30+L27+L24+L21+L18+L15+L12+L9+L6+L3) -> 7 | M46: =SUM(M44+M42+M39+M36+M33+M30+M27+M24+M21+M18+M15+M12+M9+M6+M3) -> 0 | N46: =SUM(N44+N42+N39+N36+N33+N30+N27+N24+N21+N18+N15+N12+N9+N6+N3) -> 16 | O46: =SUM(O44+O42+O39+O36+O33+O30+O27+O24+O21+O18+O15+O12+O9+O6+O3) -> 39 | P46: =SUM(P44+P42+P39+P36+P33+P30+P27+P24+P21+P18+P15+P12+P9+P6+P3) -> 30 | Q46: =SUM(Q44+Q42+Q39+Q36+Q33+Q30+Q27+Q24+Q21+Q18+Q15+Q12+Q9+Q6+Q3) -> 60 | R46: =SUM(R44+R42+R39+R36+R33+R30+R27+R24+R21+R18+R15+R12+R9+R6+R3) -> 58
J47: Position | K47: 3 | L47: 7 | N47: 6 | O47: 4 | P47: 5 | Q47: 1 | R47: 2
K48: =K1 -> CAAC | L48: =L1 -> Elgin | M48: =M1 -> ES | N48: =N1 -> FH | O48: =O1 -> IH | P48: =P1 -> MRR | Q48: =Q1 -> NAAC | R48: =R1 -> RC

Sheet U13B
A1: Event | B1: U13B | C1: 1st = 8A/B | D1: 2nd = 7A/B | E1: 3rd = 6A/B | F1: 4th = 5A/B | G1: 5th = 4A/B | H1: 6th = 3A/B | I1: 7th = 2A/B | J1: 8th = 1A/B | K1: CAAC | L1: Elgin | M1: ES | N1: FH | O1: IH | P1: MRR | Q1: NAAC | R1: RC
A2: 100m | B2: Name | C2: Zak Fearn | D2: Finlay Beange | E2: Sean Radabaugh | F2: Mitchell Smith | G2: Thomas Reynolds | H2: Calum Prideaux
A3: A | B3: Club | C3: RC | D3: Elgin | E3: IH | F3: NAAC | G3: MRR | H3: CAAC | K3: 3 | L3: 7 | M3: =IF(C3=M1,11,IF(D3=M1,9,IF(E3=M1,8,IF(F3=M1,7,IF(G3=M1,6,IF(H3=M1,5,IF(I3=M1,4,IF(J3=M1,3,0)))))))) -> 0 | N3: =IF(C3=N1,11,IF(D3=N1,9,IF(E3=N1,8,IF(F3=N1,7,IF(G3=N1,6,IF(H3=N1,5,IF(I3=N1,4,IF(J3=N1,3,0)))))))) -> 0 | O3: 6 | P3: 4 | Q3: 5 | R3: 8
A4: 1.6 | B4: Perf. | C4: 13.37 | D4: 14.63 | E4: 14.69 | F4: 14.81 | G4: 14.85 | H4: 15.31
A5: 100m | B5: Name | C5: Zak Stewart | D5: Scott Gray | E5: Sam Coull | F5: Roy Taylor | G5: Ben Durrand | H5: Ryan Curran
A6: B | B6: Club | C6: NAAC | D6: IH | E6: RC | F6: MRR | G6: CAAC | H6: Elgin | K6: =IF(C6=K1,9,IF(D6=K1,7,IF(E6=K1,6,IF(F6=K1,5,IF(G6=K1,4,IF(H6=K1,3,IF(I6=K1,2,IF(J6=K1,1,0)))))))) -> 4 | L6: =IF(C6=L1,9,IF(D6=L1,7,IF(E6=L1,6,IF(F6=L1,5,IF(G6=L1,4,IF(H6=L1,3,IF(I6=L1,2,IF(J6=L1,1,0)))))))) -> 3 | M6: =IF(C6=M1,9,IF(D6=M1,7,IF(E6=M1,6,IF(F6=M1,5,IF(G6=M1,4,IF(H6=M1,3,IF(I6=M1,2,IF(J6=M1,1,0)))))))) -> 0 | N6: =IF(C6=N1,9,IF(D6=N1,7,IF(E6=N1,6,IF(F6=N1,5,IF(G6=N1,4,IF(H6=N1,3,IF(I6=N1,2,IF(J6=N1,1,0)))))))) -> 0 | O6: =IF(C6=O1,9,IF(D6=O1,7,IF(E6=O1,6,IF(F6=O1,5,IF(G6=O1,4,IF(H6=O1,3,IF(I6=O1,2,IF(J6=O1,1,0)))))))) -> 7 | P6: =IF(C6=P1,9,IF(D6=P1,7,IF(E6=P1,6,IF(F6=P1,5,IF(G6=P1,4,IF(H6=P1,3,IF(I6=P1,2,IF(J6=P1,1,0)))))))) -> 5 | Q6: 8 | R6: =IF(C6=R1,9,IF(D6=R1,7,IF(E6=R1,6,IF(F6=R1,5,IF(G6=R1,4,IF(H6=R1,3,IF(I6=R1,2,IF(J6=R1,1,0)))))))) -> 6
A7: nw | B7: Perf. | C7: 14.2 | D7: 14.6 | E7: 14.7 | F7: 15.2 | G7: 15.5 | H7: 15.9
A8: 200m | B8: Name | C8: Zak Fearn | D8: Zak Stewart | E8: Sean Radabaugh | F8: Ryan Curran | G8: Ross Sutherland | H8: Lewis Paterson
A9: A | B9: Club | C9: RC | D9: NAAC | E9: IH | F9: Elgin | G9: CAAC | H9: MRR | K9: 4 | L9: 5 | M9: =IF(C9=M1,11,IF(D9=M1,9,IF(E9=M1,8,IF(F9=M1,7,IF(G9=M1,6,IF(H9=M1,5,IF(I9=M1,4,IF(J9=M1,3,0)))))))) -> 0 | N9: =IF(C9=N1,11,IF(D9=N1,9,IF(E9=N1,8,IF(F9=N1,7,IF(G9=N1,6,IF(H9=N1,5,IF(I9=N1,4,IF(J9=N1,3,0)))))))) -> 0 | O9: 6 | P9: 3 | Q9: 7 | R9: 8
A10: 2.8 | B10: Perf. | C10: 27.24 | D10: 29.84 | E10: 30.44 | F10: 33.54 | G10: 33.72 | H10: 35.79
A11: 200m | B11: Name | C11: Scott Gray | D11: Mitchell Smith | E11: Calum Prideaux | F11: Ryan Sutherland | G11: Tom Palmer | H11: Rhys Cantlie
A12: B | B12: Club | C12: IH | D12: NAAC | E12: CAAC | F12: RC | G12: Elgin | H12: MRR | K12: =IF(C12=K1,9,IF(D12=K1,7,IF(E12=K1,6,IF(F12=K1,5,IF(G12=K1,4,IF(H12=K1,3,IF(I12=K1,2,IF(J12=K1,1,0)))))))) -> 6 | L12: =IF(C12=L1,9,IF(D12=L1,7,IF(E12=L1,6,IF(F12=L1,5,IF(G12=L1,4,IF(H12=L1,3,IF(I12=L1,2,IF(J12=L1,1,0)))))))) -> 4 | M12: =IF(C12=M1,9,IF(D12=M1,7,IF(E12=M1,6,IF(F12=M1,5,IF(G12=M1,4,IF(H12=M1,3,IF(I12=M1,2,IF(J12=M1,1,0)))))))) -> 0 | N12: =IF(C12=N1,9,IF(D12=N1,7,IF(E12=N1,6,IF(F12=N1,5,IF(G12=N1,4,IF(H12=N1,3,IF(I12=N1,2,IF(J12=N1,1,0)))))))) -> 0 | O12: 8 | P12: =IF(C12=P1,9,IF(D12=P1,7,IF(E12=P1,6,IF(F12=P1,5,IF(G12=P1,4,IF(H12=P1,3,IF(I12=P1,2,IF(J12=P1,1,0)))))))) -> 3 | Q12: =IF(C12=Q1,9,IF(D12=Q1,7,IF(E12=Q1,6,IF(F12=Q1,5,IF(G12=Q1,4,IF(H12=Q1,3,IF(I12=Q1,2,IF(J12=Q1,1,0)))))))) -> 7 | R12: =IF(C12=R1,9,IF(D12=R1,7,IF(E12=R1,6,IF(F12=R1,5,IF(G12=R1,4,IF(H12=R1,3,IF(I12=R1,2,IF(J12=R1,1,0)))))))) -> 5
A13: 3.1 | B13: Perf. | C13: 29.06 | D13: 30.2 | E13: 31.36 | F13: 32.11 | G13: 33.32 | H13: 33.48
A14: 1500m | B14: Name | C14: Thomas Reynolds | D14: Sam Coull | E14: Sam Burnett | F14: Tom Palmer | G14: Matthew Saunders | H14: Ben Durrand
A15: A | B15: Club | C15: MRR | D15: RC | E15: IH | F15: Elgin | G15: NAAC | H15: CAAC | K15: 3 | L15: 5 | M15: =IF(C15=M1,11,IF(D15=M1,9,IF(E15=M1,8,IF(F15=M1,7,IF(G15=M1,6,IF(H15=M1,5,IF(I15=M1,4,IF(J15=M1,3,0)))))))) -> 0 | N15: =IF(C15=N1,11,IF(D15=N1,9,IF(E15=N1,8,IF(F15=N1,7,IF(G15=N1,6,IF(H15=N1,5,IF(I15=N1,4,IF(J15=N1,3,0)))))))) -> 0 | O15: 6 | P15: 8 | Q15: 4 | R15: 7
B16: Perf. | C16: 4.51.75 | D16: 4.52.06 | E16: 4.56.10 | F16: 5.33.23 | G16: 6.04.76 | H16: 6.35.86
A17: 1500m | B17: Name | C17: Roy Taylor | D17: Jake Henderson | E17: Ryan Sutherland | F17: Eoghain Sutherland | G17: Andrew Stockan
A18: B | B18: Club | C18: MRR | D18: IH | E18: RC | F18: NAAC | G18: CAAC | K18: =IF(C18=K1,9,IF(D18=K1,7,IF(E18=K1,6,IF(F18=K1,5,IF(G18=K1,4,IF(H18=K1,3,IF(I18=K1,2,IF(J18=K1,1,0)))))))) -> 4 | L18: =IF(C18=L1,9,IF(D18=L1,7,IF(E18=L1,6,IF(F18=L1,5,IF(G18=L1,4,IF(H18=L1,3,IF(I18=L1,2,IF(J18=L1,1,0)))))))) -> 0 | M18: =IF(C18=M1,9,IF(D18=M1,7,IF(E18=M1,6,IF(F18=M1,5,IF(G18=M1,4,IF(H18=M1,3,IF(I18=M1,2,IF(J18=M1,1,0)))))))) -> 0 | N18: =IF(C18=N1,9,IF(D18=N1,7,IF(E18=N1,6,IF(F18=N1,5,IF(G18=N1,4,IF(H18=N1,3,IF(I18=N1,2,IF(J18=N1,1,0)))))))) -> 0 | O18: =IF(C18=O1,9,IF(D18=O1,7,IF(E18=O1,6,IF(F18=O1,5,IF(G18=O1,4,IF(H18=O1,3,IF(I18=O1,2,IF(J18=O1,1,0)))))))) -> 7 | P18: 8 | Q18: =IF(C18=Q1,9,IF(D18=Q1,7,IF(E18=Q1,6,IF(F18=Q1,5,IF(G18=Q1,4,IF(H18=Q1,3,IF(I18=Q1,2,IF(J18=Q1,1,0)))))))) -> 5 | R18: =IF(C18=R1,9,IF(D18=R1,7,IF(E18=R1,6,IF(F18=R1,5,IF(G18=R1,4,IF(H18=R1,3,IF(I18=R1,2,IF(J18=R1,1,0)))))))) -> 6
B19: Perf. | C19: 5.04.09 | D19: 5.19.64 | E19: 5.49.27 | F19: 6.08.07 | G19: 6.40.13
A20: H Jump | B20: Name | C20: Finlay Beange | D20: Joe MacPerson | E20: Adam Watkins | F20: Andrew Stockan | G20: Ryan Sutherland
A21: A | B21: Club | C21: Elgin | D21: NAAC | E21: IH | F21: CAAC | G21: RC | K21: 5 | L21: 8 | M21: =IF(C21=M1,11,IF(D21=M1,9,IF(E21=M1,8,IF(F21=M1,7,IF(G21=M1,6,IF(H21=M1,5,IF(I21=M1,4,IF(J21=M1,3,0)))))))) -> 0 | N21: =IF(C21=N1,11,IF(D21=N1,9,IF(E21=N1,8,IF(F21=N1,7,IF(G21=N1,6,IF(H21=N1,5,IF(I21=N1,4,IF(J21=N1,3,0)))))))) -> 0 | O21: 6 | P21: =IF(C21=P1,11,IF(D21=P1,9,IF(E21=P1,8,IF(F21=P1,7,IF(G21=P1,6,IF(H21=P1,5,IF(I21=P1,4,IF(J21=P1,3,0)))))))) -> 0 | Q21: 7 | R21: 4
B22: Perf. | C22: 1.28 | D22: 1.20 | E22: 1.15 | F22: 1.10 | G22: 1.05
A23: H Jump | B23: Name | C23: Matthew Saunders | D23: Jake Henderson | E23: Noah Carson
A24: B | B24: Club | C24: NAAC | D24: IH | E24: RC | K24: =IF(C24=K1,9,IF(D24=K1,7,IF(E24=K1,6,IF(F24=K1,5,IF(G24=K1,4,IF(H24=K1,3,IF(I24=K1,2,IF(J24=K1,1,0)))))))) -> 0 | L24: =IF(C24=L1,9,IF(D24=L1,7,IF(E24=L1,6,IF(F24=L1,5,IF(G24=L1,4,IF(H24=L1,3,IF(I24=L1,2,IF(J24=L1,1,0)))))))) -> 0 | M24: =IF(C24=M1,9,IF(D24=M1,7,IF(E24=M1,6,IF(F24=M1,5,IF(G24=M1,4,IF(H24=M1,3,IF(I24=M1,2,IF(J24=M1,1,0)))))))) -> 0 | N24: =IF(C24=N1,9,IF(D24=N1,7,IF(E24=N1,6,IF(F24=N1,5,IF(G24=N1,4,IF(H24=N1,3,IF(I24=N1,2,IF(J24=N1,1,0)))))))) -> 0 | O24: =IF(C24=O1,9,IF(D24=O1,7,IF(E24=O1,6,IF(F24=O1,5,IF(G24=O1,4,IF(H24=O1,3,IF(I24=O1,2,IF(J24=O1,1,0)))))))) -> 7 | P24: =IF(C24=P1,9,IF(D24=P1,7,IF(E24=P1,6,IF(F24=P1,5,IF(G24=P1,4,IF(H24=P1,3,IF(I24=P1,2,IF(J24=P1,1,0)))))))) -> 0 | Q24: 8 | R24: =IF(C24=R1,9,IF(D24=R1,7,IF(E24=R1,6,IF(F24=R1,5,IF(G24=R1,4,IF(H24=R1,3,IF(I24=R1,2,IF(J24=R1,1,0)))))))) -> 6
B25: Perf. | C25: 1.10 | D25: 1.10 | E25: 1.00
A26: Javelin | B26: Name | C26: Zak Fearn | D26: Shaun Golden | E26: Zak Stewart | F26: Lewis Paterson | G26: Ross Sutherland | H26: Ryan Curran
A27: A | B27: Club | C27: RC | D27: IH | E27: NAAC | F27: MRR | G27: CAAC | H27: Elgin | K27: 4 | L27: 3 | M27: =IF(C27=M1,11,IF(D27=M1,9,IF(E27=M1,8,IF(F27=M1,7,IF(G27=M1,6,IF(H27=M1,5,IF(I27=M1,4,IF(J27=M1,3,0)))))))) -> 0 | N27: =IF(C27=N1,11,IF(D27=N1,9,IF(E27=N1,8,IF(F27=N1,7,IF(G27=N1,6,IF(H27=N1,5,IF(I27=N1,4,IF(J27=N1,3,0)))))))) -> 0 | O27: 7 | P27: 5 | Q27: 6 | R27: 8
B28: Perf. | C28: 26.20 | D28: 22.42 | E28: 20.76 | F28: 18.41 | G28: 15.37 | H28: 5.38
A29: Javelin | B29: Name | C29: Mitchell Smith | D29: Sam Coull | E29: Finn Hewick
A30: B | B30: Club | C30: NAAC | D30: RC | E30: IH | K30: =IF(C30=K1,9,IF(D30=K1,7,IF(E30=K1,6,IF(F30=K1,5,IF(G30=K1,4,IF(H30=K1,3,IF(I30=K1,2,IF(J30=K1,1,0)))))))) -> 0 | L30: =IF(C30=L1,9,IF(D30=L1,7,IF(E30=L1,6,IF(F30=L1,5,IF(G30=L1,4,IF(H30=L1,3,IF(I30=L1,2,IF(J30=L1,1,0)))))))) -> 0 | M30: =IF(C30=M1,9,IF(D30=M1,7,IF(E30=M1,6,IF(F30=M1,5,IF(G30=M1,4,IF(H30=M1,3,IF(I30=M1,2,IF(J30=M1,1,0)))))))) -> 0 | N30: =IF(C30=N1,9,IF(D30=N1,7,IF(E30=N1,6,IF(F30=N1,5,IF(G30=N1,4,IF(H30=N1,3,IF(I30=N1,2,IF(J30=N1,1,0)))))))) -> 0 | O30: =IF(C30=O1,9,IF(D30=O1,7,IF(E30=O1,6,IF(F30=O1,5,IF(G30=O1,4,IF(H30=O1,3,IF(I30=O1,2,IF(J30=O1,1,0)))))))) -> 6 | P30: =IF(C30=P1,9,IF(D30=P1,7,IF(E30=P1,6,IF(F30=P1,5,IF(G30=P1,4,IF(H30=P1,3,IF(I30=P1,2,IF(J30=P1,1,0)))))))) -> 0 | Q30: 8 | R30: =IF(C30=R1,9,IF(D30=R1,7,IF(E30=R1,6,IF(F30=R1,5,IF(G30=R1,4,IF(H30=R1,3,IF(I30=R1,2,IF(J30=R1,1,0)))))))) -> 7
B31: Perf. | C31: 20.50 | D31: 15.35 | E31: 14.94
B32: Name
A33: A | B33: Club | K33: =IF(C33=K1,11,IF(D33=K1,9,IF(E33=K1,8,IF(F33=K1,7,IF(G33=K1,6,IF(H33=K1,5,IF(I33=K1,4,IF(J33=K1,3,0)))))))) -> 0 | L33: =IF(C33=L1,11,IF(D33=L1,9,IF(E33=L1,8,IF(F33=L1,7,IF(G33=L1,6,IF(H33=L1,5,IF(I33=L1,4,IF(J33=L1,3,0)))))))) -> 0 | M33: =IF(C33=M1,11,IF(D33=M1,9,IF(E33=M1,8,IF(F33=M1,7,IF(G33=M1,6,IF(H33=M1,5,IF(I33=M1,4,IF(J33=M1,3,0)))))))) -> 0 | N33: =IF(C33=N1,11,IF(D33=N1,9,IF(E33=N1,8,IF(F33=N1,7,IF(G33=N1,6,IF(H33=N1,5,IF(I33=N1,4,IF(J33=N1,3,0)))))))) -> 0 | O33: =IF(C33=O1,11,IF(D33=O1,9,IF(E33=O1,8,IF(F33=O1,7,IF(G33=O1,6,IF(H33=O1,5,IF(I33=O1,4,IF(J33=O1,3,0)))))))) -> 0 | P33: =IF(C33=P1,11,IF(D33=P1,9,IF(E33=P1,8,IF(F33=P1,7,IF(G33=P1,6,IF(H33=P1,5,IF(I33=P1,4,IF(J33=P1,3,0)))))))) -> 0 | Q33: =IF(C33=Q1,11,IF(D33=Q1,9,IF(E33=Q1,8,IF(F33=Q1,7,IF(G33=Q1,6,IF(H33=Q1,5,IF(I33=Q1,4,IF(J33=Q1,3,0)))))))) -> 0 | R33: =IF(C33=R1,11,IF(D33=R1,9,IF(E33=R1,8,IF(F33=R1,7,IF(G33=R1,6,IF(H33=R1,5,IF(I33=R1,4,IF(J33=R1,3,0)))))))) -> 0
B34: Perf.
B35: Name
A36: B | B36: Club | K36: =IF(C36=K1,9,IF(D36=K1,7,IF(E36=K1,6,IF(F36=K1,5,IF(G36=K1,4,IF(H36=K1,3,IF(I36=K1,2,IF(J36=K1,1,0)))))))) -> 0 | L36: =IF(C36=L1,9,IF(D36=L1,7,IF(E36=L1,6,IF(F36=L1,5,IF(G36=L1,4,IF(H36=L1,3,IF(I36=L1,2,IF(J36=L1,1,0)))))))) -> 0 | M36: =IF(C36=M1,9,IF(D36=M1,7,IF(E36=M1,6,IF(F36=M1,5,IF(G36=M1,4,IF(H36=M1,3,IF(I36=M1,2,IF(J36=M1,1,0)))))))) -> 0 | N36: =IF(C36=N1,9,IF(D36=N1,7,IF(E36=N1,6,IF(F36=N1,5,IF(G36=N1,4,IF(H36=N1,3,IF(I36=N1,2,IF(J36=N1,1,0)))))))) -> 0 | O36: =IF(C36=O1,9,IF(D36=O1,7,IF(E36=O1,6,IF(F36=O1,5,IF(G36=O1,4,IF(H36=O1,3,IF(I36=O1,2,IF(J36=O1,1,0)))))))) -> 0 | P36: =IF(C36=P1,9,IF(D36=P1,7,IF(E36=P1,6,IF(F36=P1,5,IF(G36=P1,4,IF(H36=P1,3,IF(I36=P1,2,IF(J36=P1,1,0)))))))) -> 0 | Q36: =IF(C36=Q1,9,IF(D36=Q1,7,IF(E36=Q1,6,IF(F36=Q1,5,IF(G36=Q1,4,IF(H36=Q1,3,IF(I36=Q1,2,IF(J36=Q1,1,0)))))))) -> 0 | R36: =IF(C36=R1,9,IF(D36=R1,7,IF(E36=R1,6,IF(F36=R1,5,IF(G36=R1,4,IF(H36=R1,3,IF(I36=R1,2,IF(J36=R1,1,0)))))))) -> 0
B37: Perf.
B38: Name
A39: A | B39: Club | K39: =IF(C39=K1,11,IF(D39=K1,9,IF(E39=K1,8,IF(F39=K1,7,IF(G39=K1,6,IF(H39=K1,5,IF(I39=K1,4,IF(J39=K1,3,0)))))))) -> 0 | L39: =IF(C39=L1,11,IF(D39=L1,9,IF(E39=L1,8,IF(F39=L1,7,IF(G39=L1,6,IF(H39=L1,5,IF(I39=L1,4,IF(J39=L1,3,0)))))))) -> 0 | M39: =IF(C39=M1,11,IF(D39=M1,9,IF(E39=M1,8,IF(F39=M1,7,IF(G39=M1,6,IF(H39=M1,5,IF(I39=M1,4,IF(J39=M1,3,0)))))))) -> 0 | N39: =IF(C39=N1,11,IF(D39=N1,9,IF(E39=N1,8,IF(F39=N1,7,IF(G39=N1,6,IF(H39=N1,5,IF(I39=N1,4,IF(J39=N1,3,0)))))))) -> 0 | O39: =IF(C39=O1,11,IF(D39=O1,9,IF(E39=O1,8,IF(F39=O1,7,IF(G39=O1,6,IF(H39=O1,5,IF(I39=O1,4,IF(J39=O1,3,0)))))))) -> 0 | P39: =IF(C39=P1,11,IF(D39=P1,9,IF(E39=P1,8,IF(F39=P1,7,IF(G39=P1,6,IF(H39=P1,5,IF(I39=P1,4,IF(J39=P1,3,0)))))))) -> 0 | Q39: =IF(C39=Q1,11,IF(D39=Q1,9,IF(E39=Q1,8,IF(F39=Q1,7,IF(G39=Q1,6,IF(H39=Q1,5,IF(I39=Q1,4,IF(J39=Q1,3,0)))))))) -> 0 | R39: =IF(C39=R1,11,IF(D39=R1,9,IF(E39=R1,8,IF(F39=R1,7,IF(G39=R1,6,IF(H39=R1,5,IF(I39=R1,4,IF(J39=R1,3,0)))))))) -> 0
B40: Perf.
B41: Name
A42: B | B42: Club | K42: =IF(C42=K1,9,IF(D42=K1,7,IF(E42=K1,6,IF(F42=K1,5,IF(G42=K1,4,IF(H42=K1,3,IF(I42=K1,2,IF(J42=K1,1,0)))))))) -> 0 | L42: =IF(C42=L1,9,IF(D42=L1,7,IF(E42=L1,6,IF(F42=L1,5,IF(G42=L1,4,IF(H42=L1,3,IF(I42=L1,2,IF(J42=L1,1,0)))))))) -> 0 | M42: =IF(C42=M1,9,IF(D42=M1,7,IF(E42=M1,6,IF(F42=M1,5,IF(G42=M1,4,IF(H42=M1,3,IF(I42=M1,2,IF(J42=M1,1,0)))))))) -> 0 | N42: =IF(C42=N1,9,IF(D42=N1,7,IF(E42=N1,6,IF(F42=N1,5,IF(G42=N1,4,IF(H42=N1,3,IF(I42=N1,2,IF(J42=N1,1,0)))))))) -> 0 | O42: =IF(C42=O1,9,IF(D42=O1,7,IF(E42=O1,6,IF(F42=O1,5,IF(G42=O1,4,IF(H42=O1,3,IF(I42=O1,2,IF(J42=O1,1,0)))))))) -> 0 | P42: =IF(C42=P1,9,IF(D42=P1,7,IF(E42=P1,6,IF(F42=P1,5,IF(G42=P1,4,IF(H42=P1,3,IF(I42=P1,2,IF(J42=P1,1,0)))))))) -> 0 | Q42: =IF(C42=Q1,9,IF(D42=Q1,7,IF(E42=Q1,6,IF(F42=Q1,5,IF(G42=Q1,4,IF(H42=Q1,3,IF(I42=Q1,2,IF(J42=Q1,1,0)))))))) -> 0 | R42: =IF(C42=R1,9,IF(D42=R1,7,IF(E42=R1,6,IF(F42=R1,5,IF(G42=R1,4,IF(H42=R1,3,IF(I42=R1,2,IF(J42=R1,1,0)))))))) -> 0
B43: Perf.
A44: RELAY | B44: Club | C44: RC | D44: IH | E44: NAAC | F44: MRR | G44: CAAC | K44: 4 | L44: =IF(C44=L1,11,IF(D44=L1,9,IF(E44=L1,8,IF(F44=L1,7,IF(G44=L1,6,IF(H44=L1,5,IF(I44=L1,4,IF(J44=L1,3,0)))))))) -> 0 | M44: =IF(C44=M1,11,IF(D44=M1,9,IF(E44=M1,8,IF(F44=M1,7,IF(G44=M1,6,IF(H44=M1,5,IF(I44=M1,4,IF(J44=M1,3,0)))))))) -> 0 | N44: =IF(C44=N1,11,IF(D44=N1,9,IF(E44=N1,8,IF(F44=N1,7,IF(G44=N1,6,IF(H44=N1,5,IF(I44=N1,4,IF(J44=N1,3,0)))))))) -> 0 | O44: 7 | P44: 5 | Q44: 6 | R44: 8
A45: 4 x 100m | B45: Perf. | C45: 58.78 | D45: 59.64 | E45: 1.01.81 | F45: 1.03.18 | G45: 1.05.02
J46: Totals | K46: =SUM(K44+K42+K39+K36+K33+K30+K27+K24+K21+K18+K15+K12+K9+K6+K3) -> 37 | L46: =SUM(L44+L42+L39+L36+L33+L30+L27+L24+L21+L18+L15+L12+L9+L6+L3) -> 35 | M46: =SUM(M44+M42+M39+M36+M33+M30+M27+M24+M21+M18+M15+M12+M9+M6+M3) -> 0 | N46: =SUM(N44+N42+N39+N36+N33+N30+N27+N24+N21+N18+N15+N12+N9+N6+N3) -> 0 | O46: =SUM(O44+O42+O39+O36+O33+O30+O27+O24+O21+O18+O15+O12+O9+O6+O3) -> 73 | P46: =SUM(P44+P42+P39+P36+P33+P30+P27+P24+P21+P18+P15+P12+P9+P6+P3) -> 41 | Q46: =SUM(Q44+Q42+Q39+Q36+Q33+Q30+Q27+Q24+Q21+Q18+Q15+Q12+Q9+Q6+Q3) -> 71 | R46: =SUM(R44+R42+R39+R36+R33+R30+R27+R24+R21+R18+R15+R12+R9+R6+R3) -> 73
J47: Position | K47: 5 | L47: 6 | O47: 1= | P47: 4 | Q47: 3 | R47: 1=
K48: =K1 -> CAAC | L48: =L1 -> Elgin | M48: =M1 -> ES | N48: =N1 -> FH | O48: =O1 -> IH | P48: =P1 -> MRR | Q48: =Q1 -> NAAC | R48: =R1 -> RC

Sheet U15B
A1: Event | B1: U15B | C1: 1st = 8A/B | D1: 2nd = 7A/B | E1: 3rd = 6A/B | F1: 4th = 5A/B | G1: 5th = 4A/B | H1: 6th = 3A/B | I1: 7th = 2A/B | J1: 8th = 1A/B | K1: CAAC | L1: Elgin | M1: ES | N1: FH | O1: IH | P1: MRR | Q1: NAAC | R1: RC
A2: 100m | B2: Name | C2: James Rollo | D2: Callum Lee | E2: Alister Mackay | F2: Liam Paterson
A3: A | B3: Club | C3: IH | D3: NAAC | E3: RC | F3: MRR | K3: =IF(C3=K1,11,IF(D3=K1,9,IF(E3=K1,8,IF(F3=K1,7,IF(G3=K1,6,IF(H3=K1,5,IF(I3=K1,4,IF(J3=K1,3,0)))))))) -> 0 | L3: =IF(C3=L1,11,IF(D3=L1,9,IF(E3=L1,8,IF(F3=L1,7,IF(G3=L1,6,IF(H3=L1,5,IF(I3=L1,4,IF(J3=L1,3,0)))))))) -> 0 | M3: =IF(C3=M1,11,IF(D3=M1,9,IF(E3=M1,8,IF(F3=M1,7,IF(G3=M1,6,IF(H3=M1,5,IF(I3=M1,4,IF(J3=M1,3,0)))))))) -> 0 | N3: =IF(C3=N1,11,IF(D3=N1,9,IF(E3=N1,8,IF(F3=N1,7,IF(G3=N1,6,IF(H3=N1,5,IF(I3=N1,4,IF(J3=N1,3,0)))))))) -> 0 | O3: 8 | P3: 5 | Q3: 7 | R3: 6
A4: 3.4 | B4: Perf. | C4: 12.32 | D4: 12.82 | E4: 13.81 | F4: 15.5
A5: 100m | B5: Name | C5: Liam Daly | D5: Liam Munro
A6: B | B6: Club | C6: IH | D6: MRR | K6: =IF(C6=K1,9,IF(D6=K1,7,IF(E6=K1,6,IF(F6=K1,5,IF(G6=K1,4,IF(H6=K1,3,IF(I6=K1,2,IF(J6=K1,1,0)))))))) -> 0 | L6: =IF(C6=L1,9,IF(D6=L1,7,IF(E6=L1,6,IF(F6=L1,5,IF(G6=L1,4,IF(H6=L1,3,IF(I6=L1,2,IF(J6=L1,1,0)))))))) -> 0 | M6: =IF(C6=M1,9,IF(D6=M1,7,IF(E6=M1,6,IF(F6=M1,5,IF(G6=M1,4,IF(H6=M1,3,IF(I6=M1,2,IF(J6=M1,1,0)))))))) -> 0 | N6: =IF(C6=N1,9,IF(D6=N1,7,IF(E6=N1,6,IF(F6=N1,5,IF(G6=N1,4,IF(H6=N1,3,IF(I6=N1,2,IF(J6=N1,1,0)))))))) -> 0 | O6: 8 | P6: =IF(C6=P1,9,IF(D6=P1,7,IF(E6=P1,6,IF(F6=P1,5,IF(G6=P1,4,IF(H6=P1,3,IF(I6=P1,2,IF(J6=P1,1,0)))))))) -> 7 | Q6: =IF(C6=Q1,9,IF(D6=Q1,7,IF(E6=Q1,6,IF(F6=Q1,5,IF(G6=Q1,4,IF(H6=Q1,3,IF(I6=Q1,2,IF(J6=Q1,1,0)))))))) -> 0 | R6: =IF(C6=R1,9,IF(D6=R1,7,IF(E6=R1,6,IF(F6=R1,5,IF(G6=R1,4,IF(H6=R1,3,IF(I6=R1,2,IF(J6=R1,1,0)))))))) -> 0
A7: 2.4 | B7: Perf. | C7: 13.05 | D7: 15.44
A8: 300m | B8: Name | C8: William Hodi | D8: Liam Daly | E8: Sam Bryan | F8: Ruaridh Ellen | G8: Liam Paterson
A9: A | B9: Club | C9: NAAC | D9: IH | E9: ES | F9: RC | G9: MRR | K9: =IF(C9=K1,11,IF(D9=K1,9,IF(E9=K1,8,IF(F9=K1,7,IF(G9=K1,6,IF(H9=K1,5,IF(I9=K1,4,IF(J9=K1,3,0)))))))) -> 0 | L9: =IF(C9=L1,11,IF(D9=L1,9,IF(E9=L1,8,IF(F9=L1,7,IF(G9=L1,6,IF(H9=L1,5,IF(I9=L1,4,IF(J9=L1,3,0)))))))) -> 0 | M9: 6 | N9: =IF(C9=N1,11,IF(D9=N1,9,IF(E9=N1,8,IF(F9=N1,7,IF(G9=N1,6,IF(H9=N1,5,IF(I9=N1,4,IF(J9=N1,3,0)))))))) -> 0 | O9: 7 | P9: 4 | Q9: 8 | R9: 5
B10: Perf. | C10: 42.93 | D10: 44.98 | E10: 45.99 | F10: 51.76 | G10: 54.14
A11: 300m | B11: Name | C11: Cameron Welsh | D11: Rowan Nillsen | E11: Gregor Nixon | F11: Bruce Newlands
A12: B | B12: Club | C12: ES | D12: RC | E12: IH | F12: MRR | K12: =IF(C12=K1,9,IF(D12=K1,7,IF(E12=K1,6,IF(F12=K1,5,IF(G12=K1,4,IF(H12=K1,3,IF(I12=K1,2,IF(J12=K1,1,0)))))))) -> 0 | L12: =IF(C12=L1,9,IF(D12=L1,7,IF(E12=L1,6,IF(F12=L1,5,IF(G12=L1,4,IF(H12=L1,3,IF(I12=L1,2,IF(J12=L1,1,0)))))))) -> 0 | M12: 8 | N12: =IF(C12=N1,9,IF(D12=N1,7,IF(E12=N1,6,IF(F12=N1,5,IF(G12=N1,4,IF(H12=N1,3,IF(I12=N1,2,IF(J12=N1,1,0)))))))) -> 0 | O12: =IF(C12=O1,9,IF(D12=O1,7,IF(E12=O1,6,IF(F12=O1,5,IF(G12=O1,4,IF(H12=O1,3,IF(I12=O1,2,IF(J12=O1,1,0)))))))) -> 6 | P12: =IF(C12=P1,9,IF(D12=P1,7,IF(E12=P1,6,IF(F12=P1,5,IF(G12=P1,4,IF(H12=P1,3,IF(I12=P1,2,IF(J12=P1,1,0)))))))) -> 5 | Q12: =IF(C12=Q1,9,IF(D12=Q1,7,IF(E12=Q1,6,IF(F12=Q1,5,IF(G12=Q1,4,IF(H12=Q1,3,IF(I12=Q1,2,IF(J12=Q1,1,0)))))))) -> 0 | R12: =IF(C12=R1,9,IF(D12=R1,7,IF(E12=R1,6,IF(F12=R1,5,IF(G12=R1,4,IF(H12=R1,3,IF(I12=R1,2,IF(J12=R1,1,0)))))))) -> 7
B13: Perf. | C13: 45.8 | D13: 46.78 | E13: 47.78 | F13: 55.65
A14: 1500m | B14: Name | C14: Cameron Welsh | D14: Ruaridh Ellen | E14: Gregor Nixon | F14: Bruce Newlands
A15: A | B15: Club | C15: ES | D15: RC | E15: IH | F15: MRR | K15: =IF(C15=K1,11,IF(D15=K1,9,IF(E15=K1,8,IF(F15=K1,7,IF(G15=K1,6,IF(H15=K1,5,IF(I15=K1,4,IF(J15=K1,3,0)))))))) -> 0 | L15: =IF(C15=L1,11,IF(D15=L1,9,IF(E15=L1,8,IF(F15=L1,7,IF(G15=L1,6,IF(H15=L1,5,IF(I15=L1,4,IF(J15=L1,3,0)))))))) -> 0 | M15: 8 | N15: =IF(C15=N1,11,IF(D15=N1,9,IF(E15=N1,8,IF(F15=N1,7,IF(G15=N1,6,IF(H15=N1,5,IF(I15=N1,4,IF(J15=N1,3,0)))))))) -> 0 | O15: 6 | P15: 5 | Q15: =IF(C15=Q1,11,IF(D15=Q1,9,IF(E15=Q1,8,IF(F15=Q1,7,IF(G15=Q1,6,IF(H15=Q1,5,IF(I15=Q1,4,IF(J15=Q1,3,0)))))))) -> 0 | R15: 7
B16: Perf. | C16: 4.49.12 | D16: 5.03.34 | E16: 5.03.85 | F16: 5.33.08
A17: 1500m | B17: Name | C17: Sam Bryan | D17: Alex Jamieson | E17: Rowan Nillsen | F17: Liam Munro
A18: B | B18: Club | C18: ES | D18: IH | E18: RC | F18: MRR | K18: =IF(C18=K1,9,IF(D18=K1,7,IF(E18=K1,6,IF(F18=K1,5,IF(G18=K1,4,IF(H18=K1,3,IF(I18=K1,2,IF(J18=K1,1,0)))))))) -> 0 | L18: =IF(C18=L1,9,IF(D18=L1,7,IF(E18=L1,6,IF(F18=L1,5,IF(G18=L1,4,IF(H18=L1,3,IF(I18=L1,2,IF(J18=L1,1,0)))))))) -> 0 | M18: 8 | N18: =IF(C18=N1,9,IF(D18=N1,7,IF(E18=N1,6,IF(F18=N1,5,IF(G18=N1,4,IF(H18=N1,3,IF(I18=N1,2,IF(J18=N1,1,0)))))))) -> 0 | O18: =IF(C18=O1,9,IF(D18=O1,7,IF(E18=O1,6,IF(F18=O1,5,IF(G18=O1,4,IF(H18=O1,3,IF(I18=O1,2,IF(J18=O1,1,0)))))))) -> 7 | P18: =IF(C18=P1,9,IF(D18=P1,7,IF(E18=P1,6,IF(F18=P1,5,IF(G18=P1,4,IF(H18=P1,3,IF(I18=P1,2,IF(J18=P1,1,0)))))))) -> 5 | Q18: =IF(C18=Q1,9,IF(D18=Q1,7,IF(E18=Q1,6,IF(F18=Q1,5,IF(G18=Q1,4,IF(H18=Q1,3,IF(I18=Q1,2,IF(J18=Q1,1,0)))))))) -> 0 | R18: =IF(C18=R1,9,IF(D18=R1,7,IF(E18=R1,6,IF(F18=R1,5,IF(G18=R1,4,IF(H18=R1,3,IF(I18=R1,2,IF(J18=R1,1,0)))))))) -> 6
B19: Perf. | C19: 5.13.50 | D19: 5.15.10 | E19: 5.19.34 | F19: 5.41.65
A20: L Jump | B20: Name | C20: William Hodi | D20: Alister Mackay | E20: Arron Kerr
A21: A | B21: Club | C21: NAAC | D21: RC | E21: IH | K21: =IF(C21=K1,11,IF(D21=K1,9,IF(E21=K1,8,IF(F21=K1,7,IF(G21=K1,6,IF(H21=K1,5,IF(I21=K1,4,IF(J21=K1,3,0)))))))) -> 0 | L21: =IF(C21=L1,11,IF(D21=L1,9,IF(E21=L1,8,IF(F21=L1,7,IF(G21=L1,6,IF(H21=L1,5,IF(I21=L1,4,IF(J21=L1,3,0)))))))) -> 0 | M21: =IF(C21=M1,11,IF(D21=M1,9,IF(E21=M1,8,IF(F21=M1,7,IF(G21=M1,6,IF(H21=M1,5,IF(I21=M1,4,IF(J21=M1,3,0)))))))) -> 0 | N21: =IF(C21=N1,11,IF(D21=N1,9,IF(E21=N1,8,IF(F21=N1,7,IF(G21=N1,6,IF(H21=N1,5,IF(I21=N1,4,IF(J21=N1,3,0)))))))) -> 0 | O21: 6 | P21: =IF(C21=P1,11,IF(D21=P1,9,IF(E21=P1,8,IF(F21=P1,7,IF(G21=P1,6,IF(H21=P1,5,IF(I21=P1,4,IF(J21=P1,3,0)))))))) -> 0 | Q21: 8 | R21: 7
B22: Perf. | C22: 5.08 | D22: 4.53 | E22: 4.24
A23: L Jump | B23: Name | C23: Callum Lee | D23: Lucas Allan | E23: Ruaridh Ellen
A24: B | B24: Club | C24: NAAC | D24: IH | E24: RC | K24: =IF(C24=K1,9,IF(D24=K1,7,IF(E24=K1,6,IF(F24=K1,5,IF(G24=K1,4,IF(H24=K1,3,IF(I24=K1,2,IF(J24=K1,1,0)))))))) -> 0 | L24: =IF(C24=L1,9,IF(D24=L1,7,IF(E24=L1,6,IF(F24=L1,5,IF(G24=L1,4,IF(H24=L1,3,IF(I24=L1,2,IF(J24=L1,1,0)))))))) -> 0 | M24: =IF(C24=M1,9,IF(D24=M1,7,IF(E24=M1,6,IF(F24=M1,5,IF(G24=M1,4,IF(H24=M1,3,IF(I24=M1,2,IF(J24=M1,1,0)))))))) -> 0 | N24: =IF(C24=N1,9,IF(D24=N1,7,IF(E24=N1,6,IF(F24=N1,5,IF(G24=N1,4,IF(H24=N1,3,IF(I24=N1,2,IF(J24=N1,1,0)))))))) -> 0 | O24: =IF(C24=O1,9,IF(D24=O1,7,IF(E24=O1,6,IF(F24=O1,5,IF(G24=O1,4,IF(H24=O1,3,IF(I24=O1,2,IF(J24=O1,1,0)))))))) -> 7 | P24: =IF(C24=P1,9,IF(D24=P1,7,IF(E24=P1,6,IF(F24=P1,5,IF(G24=P1,4,IF(H24=P1,3,IF(I24=P1,2,IF(J24=P1,1,0)))))))) -> 0 | Q24: 8 | R24: =IF(C24=R1,9,IF(D24=R1,7,IF(E24=R1,6,IF(F24=R1,5,IF(G24=R1,4,IF(H24=R1,3,IF(I24=R1,2,IF(J24=R1,1,0)))))))) -> 6
B25: Perf. | C25: 4.70 | D25: 4.03 | E25: 3.98
A26: Javelin | B26: Name | C26: Craig Watts | D26: Callum Lee | E26: Sam Bryan | F26: Alister Mackay | G26: Scott Perry
A27: A | B27: Club | C27: IH | D27: NAAC | E27: ES | F27: RC | G27: FH | K27: =IF(C27=K1,11,IF(D27=K1,9,IF(E27=K1,8,IF(F27=K1,7,IF(G27=K1,6,IF(H27=K1,5,IF(I27=K1,4,IF(J27=K1,3,0)))))))) -> 0 | L27: =IF(C27=L1,11,IF(D27=L1,9,IF(E27=L1,8,IF(F27=L1,7,IF(G27=L1,6,IF(H27=L1,5,IF(I27=L1,4,IF(J27=L1,3,0)))))))) -> 0 | M27: 6 | N27: 4 | O27: 8 | P27: =IF(C27=P1,11,IF(D27=P1,9,IF(E27=P1,8,IF(F27=P1,7,IF(G27=P1,6,IF(H27=P1,5,IF(I27=P1,4,IF(J27=P1,3,0)))))))) -> 0 | Q27: 7 | R27: 5
B28: Perf. | C28: 33.39 | D28: 27.73 | E28: 26.94 | F28: 26.54 | G28: 14.35
A29: Javelin | B29: Name | C29: James Rollo | D29: William Hodi
A30: B | B30: Club | C30: IH | D30: NAAC | K30: =IF(C30=K1,9,IF(D30=K1,7,IF(E30=K1,6,IF(F30=K1,5,IF(G30=K1,4,IF(H30=K1,3,IF(I30=K1,2,IF(J30=K1,1,0)))))))) -> 0 | L30: =IF(C30=L1,9,IF(D30=L1,7,IF(E30=L1,6,IF(F30=L1,5,IF(G30=L1,4,IF(H30=L1,3,IF(I30=L1,2,IF(J30=L1,1,0)))))))) -> 0 | M30: =IF(C30=M1,9,IF(D30=M1,7,IF(E30=M1,6,IF(F30=M1,5,IF(G30=M1,4,IF(H30=M1,3,IF(I30=M1,2,IF(J30=M1,1,0)))))))) -> 0 | N30: =IF(C30=N1,9,IF(D30=N1,7,IF(E30=N1,6,IF(F30=N1,5,IF(G30=N1,4,IF(H30=N1,3,IF(I30=N1,2,IF(J30=N1,1,0)))))))) -> 0 | O30: 8 | P30: =IF(C30=P1,9,IF(D30=P1,7,IF(E30=P1,6,IF(F30=P1,5,IF(G30=P1,4,IF(H30=P1,3,IF(I30=P1,2,IF(J30=P1,1,0)))))))) -> 0 | Q30: =IF(C30=Q1,9,IF(D30=Q1,7,IF(E30=Q1,6,IF(F30=Q1,5,IF(G30=Q1,4,IF(H30=Q1,3,IF(I30=Q1,2,IF(J30=Q1,1,0)))))))) -> 7 | R30: =IF(C30=R1,9,IF(D30=R1,7,IF(E30=R1,6,IF(F30=R1,5,IF(G30=R1,4,IF(H30=R1,3,IF(I30=R1,2,IF(J30=R1,1,0)))))))) -> 0
B31: Perf. | C31: 28.12 | D31: 25.92
B32: Name
A33: A | B33: Club | K33: =IF(C33=K1,11,IF(D33=K1,9,IF(E33=K1,8,IF(F33=K1,7,IF(G33=K1,6,IF(H33=K1,5,IF(I33=K1,4,IF(J33=K1,3,0)))))))) -> 0 | L33: =IF(C33=L1,11,IF(D33=L1,9,IF(E33=L1,8,IF(F33=L1,7,IF(G33=L1,6,IF(H33=L1,5,IF(I33=L1,4,IF(J33=L1,3,0)))))))) -> 0 | M33: =IF(C33=M1,11,IF(D33=M1,9,IF(E33=M1,8,IF(F33=M1,7,IF(G33=M1,6,IF(H33=M1,5,IF(I33=M1,4,IF(J33=M1,3,0)))))))) -> 0 | N33: =IF(C33=N1,11,IF(D33=N1,9,IF(E33=N1,8,IF(F33=N1,7,IF(G33=N1,6,IF(H33=N1,5,IF(I33=N1,4,IF(J33=N1,3,0)))))))) -> 0 | O33: =IF(C33=O1,11,IF(D33=O1,9,IF(E33=O1,8,IF(F33=O1,7,IF(G33=O1,6,IF(H33=O1,5,IF(I33=O1,4,IF(J33=O1,3,0)))))))) -> 0 | P33: =IF(C33=P1,11,IF(D33=P1,9,IF(E33=P1,8,IF(F33=P1,7,IF(G33=P1,6,IF(H33=P1,5,IF(I33=P1,4,IF(J33=P1,3,0)))))))) -> 0 | Q33: =IF(C33=Q1,11,IF(D33=Q1,9,IF(E33=Q1,8,IF(F33=Q1,7,IF(G33=Q1,6,IF(H33=Q1,5,IF(I33=Q1,4,IF(J33=Q1,3,0)))))))) -> 0 | R33: =IF(C33=R1,11,IF(D33=R1,9,IF(E33=R1,8,IF(F33=R1,7,IF(G33=R1,6,IF(H33=R1,5,IF(I33=R1,4,IF(J33=R1,3,0)))))))) -> 0
B34: Perf.
B35: Name
A36: B | B36: Club | K36: =IF(C36=K1,9,IF(D36=K1,7,IF(E36=K1,6,IF(F36=K1,5,IF(G36=K1,4,IF(H36=K1,3,IF(I36=K1,2,IF(J36=K1,1,0)))))))) -> 0 | L36: =IF(C36=L1,9,IF(D36=L1,7,IF(E36=L1,6,IF(F36=L1,5,IF(G36=L1,4,IF(H36=L1,3,IF(I36=L1,2,IF(J36=L1,1,0)))))))) -> 0 | M36: =IF(C36=M1,9,IF(D36=M1,7,IF(E36=M1,6,IF(F36=M1,5,IF(G36=M1,4,IF(H36=M1,3,IF(I36=M1,2,IF(J36=M1,1,0)))))))) -> 0 | N36: =IF(C36=N1,9,IF(D36=N1,7,IF(E36=N1,6,IF(F36=N1,5,IF(G36=N1,4,IF(H36=N1,3,IF(I36=N1,2,IF(J36=N1,1,0)))))))) -> 0 | O36: =IF(C36=O1,9,IF(D36=O1,7,IF(E36=O1,6,IF(F36=O1,5,IF(G36=O1,4,IF(H36=O1,3,IF(I36=O1,2,IF(J36=O1,1,0)))))))) -> 0 | P36: =IF(C36=P1,9,IF(D36=P1,7,IF(E36=P1,6,IF(F36=P1,5,IF(G36=P1,4,IF(H36=P1,3,IF(I36=P1,2,IF(J36=P1,1,0)))))))) -> 0 | Q36: =IF(C36=Q1,9,IF(D36=Q1,7,IF(E36=Q1,6,IF(F36=Q1,5,IF(G36=Q1,4,IF(H36=Q1,3,IF(I36=Q1,2,IF(J36=Q1,1,0)))))))) -> 0 | R36: =IF(C36=R1,9,IF(D36=R1,7,IF(E36=R1,6,IF(F36=R1,5,IF(G36=R1,4,IF(H36=R1,3,IF(I36=R1,2,IF(J36=R1,1,0)))))))) -> 0
B37: Perf.
B38: Name
A39: A | B39: Club | K39: =IF(C39=K1,11,IF(D39=K1,9,IF(E39=K1,8,IF(F39=K1,7,IF(G39=K1,6,IF(H39=K1,5,IF(I39=K1,4,IF(J39=K1,3,0)))))))) -> 0 | L39: =IF(C39=L1,11,IF(D39=L1,9,IF(E39=L1,8,IF(F39=L1,7,IF(G39=L1,6,IF(H39=L1,5,IF(I39=L1,4,IF(J39=L1,3,0)))))))) -> 0 | M39: =IF(C39=M1,11,IF(D39=M1,9,IF(E39=M1,8,IF(F39=M1,7,IF(G39=M1,6,IF(H39=M1,5,IF(I39=M1,4,IF(J39=M1,3,0)))))))) -> 0 | N39: =IF(C39=N1,11,IF(D39=N1,9,IF(E39=N1,8,IF(F39=N1,7,IF(G39=N1,6,IF(H39=N1,5,IF(I39=N1,4,IF(J39=N1,3,0)))))))) -> 0 | O39: =IF(C39=O1,11,IF(D39=O1,9,IF(E39=O1,8,IF(F39=O1,7,IF(G39=O1,6,IF(H39=O1,5,IF(I39=O1,4,IF(J39=O1,3,0)))))))) -> 0 | P39: =IF(C39=P1,11,IF(D39=P1,9,IF(E39=P1,8,IF(F39=P1,7,IF(G39=P1,6,IF(H39=P1,5,IF(I39=P1,4,IF(J39=P1,3,0)))))))) -> 0 | Q39: =IF(C39=Q1,11,IF(D39=Q1,9,IF(E39=Q1,8,IF(F39=Q1,7,IF(G39=Q1,6,IF(H39=Q1,5,IF(I39=Q1,4,IF(J39=Q1,3,0)))))))) -> 0 | R39: =IF(C39=R1,11,IF(D39=R1,9,IF(E39=R1,8,IF(F39=R1,7,IF(G39=R1,6,IF(H39=R1,5,IF(I39=R1,4,IF(J39=R1,3,0)))))))) -> 0
B40: Perf.
B41: Name
A42: B | B42: Club | K42: =IF(C42=K1,9,IF(D42=K1,7,IF(E42=K1,6,IF(F42=K1,5,IF(G42=K1,4,IF(H42=K1,3,IF(I42=K1,2,IF(J42=K1,1,0)))))))) -> 0 | L42: =IF(C42=L1,9,IF(D42=L1,7,IF(E42=L1,6,IF(F42=L1,5,IF(G42=L1,4,IF(H42=L1,3,IF(I42=L1,2,IF(J42=L1,1,0)))))))) -> 0 | M42: =IF(C42=M1,9,IF(D42=M1,7,IF(E42=M1,6,IF(F42=M1,5,IF(G42=M1,4,IF(H42=M1,3,IF(I42=M1,2,IF(J42=M1,1,0)))))))) -> 0 | N42: =IF(C42=N1,9,IF(D42=N1,7,IF(E42=N1,6,IF(F42=N1,5,IF(G42=N1,4,IF(H42=N1,3,IF(I42=N1,2,IF(J42=N1,1,0)))))))) -> 0 | O42: =IF(C42=O1,9,IF(D42=O1,7,IF(E42=O1,6,IF(F42=O1,5,IF(G42=O1,4,IF(H42=O1,3,IF(I42=O1,2,IF(J42=O1,1,0)))))))) -> 0 | P42: =IF(C42=P1,9,IF(D42=P1,7,IF(E42=P1,6,IF(F42=P1,5,IF(G42=P1,4,IF(H42=P1,3,IF(I42=P1,2,IF(J42=P1,1,0)))))))) -> 0 | Q42: =IF(C42=Q1,9,IF(D42=Q1,7,IF(E42=Q1,6,IF(F42=Q1,5,IF(G42=Q1,4,IF(H42=Q1,3,IF(I42=Q1,2,IF(J42=Q1,1,0)))))))) -> 0 | R42: =IF(C42=R1,9,IF(D42=R1,7,IF(E42=R1,6,IF(F42=R1,5,IF(G42=R1,4,IF(H42=R1,3,IF(I42=R1,2,IF(J42=R1,1,0)))))))) -> 0
B43: Perf.
A44: RELAY | B44: Club | C44: IH | D44: RC | K44: =IF(C44=K1,11,IF(D44=K1,9,IF(E44=K1,8,IF(F44=K1,7,IF(G44=K1,6,IF(H44=K1,5,IF(I44=K1,4,IF(J44=K1,3,0)))))))) -> 0 | L44: =IF(C44=L1,11,IF(D44=L1,9,IF(E44=L1,8,IF(F44=L1,7,IF(G44=L1,6,IF(H44=L1,5,IF(I44=L1,4,IF(J44=L1,3,0)))))))) -> 0 | M44: =IF(C44=M1,11,IF(D44=M1,9,IF(E44=M1,8,IF(F44=M1,7,IF(G44=M1,6,IF(H44=M1,5,IF(I44=M1,4,IF(J44=M1,3,0)))))))) -> 0 | N44: =IF(C44=N1,11,IF(D44=N1,9,IF(E44=N1,8,IF(F44=N1,7,IF(G44=N1,6,IF(H44=N1,5,IF(I44=N1,4,IF(J44=N1,3,0)))))))) -> 0 | O44: 8 | P44: =IF(C44=P1,11,IF(D44=P1,9,IF(E44=P1,8,IF(F44=P1,7,IF(G44=P1,6,IF(H44=P1,5,IF(I44=P1,4,IF(J44=P1,3,0)))))))) -> 0 | Q44: =IF(C44=Q1,11,IF(D44=Q1,9,IF(E44=Q1,8,IF(F44=Q1,7,IF(G44=Q1,6,IF(H44=Q1,5,IF(I44=Q1,4,IF(J44=Q1,3,0)))))))) -> 0 | R44: 7
A45: 4 x 100m | B45: Perf. | C45: 53.73 | D45: 1.01.70
J46: Totals | K46: =SUM(K44+K42+K39+K36+K33+K30+K27+K24+K21+K18+K15+K12+K9+K6+K3) -> 0 | L46: =SUM(L44+L42+L39+L36+L33+L30+L27+L24+L21+L18+L15+L12+L9+L6+L3) -> 0 | M46: =SUM(M44+M42+M39+M36+M33+M30+M27+M24+M21+M18+M15+M12+M9+M6+M3) -> 36 | N46: =SUM(N44+N42+N39+N36+N33+N30+N27+N24+N21+N18+N15+N12+N9+N6+N3) -> 4 | O46: =SUM(O44+O42+O39+O36+O33+O30+O27+O24+O21+O18+O15+O12+O9+O6+O3) -> 79 | P46: =SUM(P44+P42+P39+P36+P33+P30+P27+P24+P21+P18+P15+P12+P9+P6+P3) -> 31 | Q46: =SUM(Q44+Q42+Q39+Q36+Q33+Q30+Q27+Q24+Q21+Q18+Q15+Q12+Q9+Q6+Q3) -> 45 | R46: =SUM(R44+R42+R39+R36+R33+R30+R27+R24+R21+R18+R15+R12+R9+R6+R3) -> 56
J47: Position | M47: 4 | N47: 6 | O47: 1 | P47: 5 | Q47: 3 | R47: 2
K48: =K1 -> CAAC | L48: =L1 -> Elgin | M48: =M1 -> ES | N48: =N1 -> FH | O48: =O1 -> IH | P48: =P1 -> MRR | Q48: =Q1 -> NAAC | R48: =R1 -> RC

Sheet U17M
A1: Event | B1: U17M | C1: 1st = 8A/B | D1: 2nd = 7A/B | E1: 3rd = 6A/B | F1: 4th = 5A/B | G1: 5th = 4A/B | H1: 6th = 3A/B | I1: 7th = 2A/B | J1: 8th = 1A/B | K1: CAAC | L1: Elgin | M1: ES | N1: FH | O1: IH | P1: MRR | Q1: NAAC | R1: RC
A2: 100m | B2: Name | C2: Alexander MacKay | D2: Finlay Rollo | E2: Ryan MacCarthy | F2: David Scott
A3: A | B3: Club | C3: RC | D3: IH | E3: CAAC | F3: FH | K3: 6 | L3: =IF(C3=L1,11,IF(D3=L1,9,IF(E3=L1,8,IF(F3=L1,7,IF(G3=L1,6,IF(H3=L1,5,IF(I3=L1,4,IF(J3=L1,3,0)))))))) -> 0 | M3: =IF(C3=M1,11,IF(D3=M1,9,IF(E3=M1,8,IF(F3=M1,7,IF(G3=M1,6,IF(H3=M1,5,IF(I3=M1,4,IF(J3=M1,3,0)))))))) -> 0 | N3: 5 | O3: 7 | P3: =IF(C3=P1,11,IF(D3=P1,9,IF(E3=P1,8,IF(F3=P1,7,IF(G3=P1,6,IF(H3=P1,5,IF(I3=P1,4,IF(J3=P1,3,0)))))))) -> 0 | Q3: =IF(C3=Q1,11,IF(D3=Q1,9,IF(E3=Q1,8,IF(F3=Q1,7,IF(G3=Q1,6,IF(H3=Q1,5,IF(I3=Q1,4,IF(J3=Q1,3,0)))))))) -> 0 | R3: 8
A4: 1.8 | B4: Perf. | C4: 11.52 | D4: 11.75 | E4: 12.65 | F4: 12.8
A5: 100m | B5: Name | C5: Spencer Bardsley | D5: Victor Jude-Eze
A6: B | B6: Club | C6: RC | D6: IH | K6: =IF(C6=K1,9,IF(D6=K1,7,IF(E6=K1,6,IF(F6=K1,5,IF(G6=K1,4,IF(H6=K1,3,IF(I6=K1,2,IF(J6=K1,1,0)))))))) -> 0 | L6: =IF(C6=L1,9,IF(D6=L1,7,IF(E6=L1,6,IF(F6=L1,5,IF(G6=L1,4,IF(H6=L1,3,IF(I6=L1,2,IF(J6=L1,1,0)))))))) -> 0 | M6: =IF(C6=M1,9,IF(D6=M1,7,IF(E6=M1,6,IF(F6=M1,5,IF(G6=M1,4,IF(H6=M1,3,IF(I6=M1,2,IF(J6=M1,1,0)))))))) -> 0 | N6: =IF(C6=N1,9,IF(D6=N1,7,IF(E6=N1,6,IF(F6=N1,5,IF(G6=N1,4,IF(H6=N1,3,IF(I6=N1,2,IF(J6=N1,1,0)))))))) -> 0 | O6: =IF(C6=O1,9,IF(D6=O1,7,IF(E6=O1,6,IF(F6=O1,5,IF(G6=O1,4,IF(H6=O1,3,IF(I6=O1,2,IF(J6=O1,1,0)))))))) -> 7 | P6: =IF(C6=P1,9,IF(D6=P1,7,IF(E6=P1,6,IF(F6=P1,5,IF(G6=P1,4,IF(H6=P1,3,IF(I6=P1,2,IF(J6=P1,1,0)))))))) -> 0 | Q6: =IF(C6=Q1,9,IF(D6=Q1,7,IF(E6=Q1,6,IF(F6=Q1,5,IF(G6=Q1,4,IF(H6=Q1,3,IF(I6=Q1,2,IF(J6=Q1,1,0)))))))) -> 0 | R6: 8
A7: 1.8 | B7: Perf. | C7: 12.11 | D7: 12.44
A8: 400m | B8: Name | C8: Alexander MacKay | D8: David Scott | E8: Joshua Milne
A9: A | B9: Club | C9: RC | D9: FH | E9: MRR | K9: =IF(C9=K1,11,IF(D9=K1,9,IF(E9=K1,8,IF(F9=K1,7,IF(G9=K1,6,IF(H9=K1,5,IF(I9=K1,4,IF(J9=K1,3,0)))))))) -> 0 | L9: =IF(C9=L1,11,IF(D9=L1,9,IF(E9=L1,8,IF(F9=L1,7,IF(G9=L1,6,IF(H9=L1,5,IF(I9=L1,4,IF(J9=L1,3,0)))))))) -> 0 | M9: =IF(C9=M1,11,IF(D9=M1,9,IF(E9=M1,8,IF(F9=M1,7,IF(G9=M1,6,IF(H9=M1,5,IF(I9=M1,4,IF(J9=M1,3,0)))))))) -> 0 | N9: 7 | O9: =IF(C9=O1,11,IF(D9=O1,9,IF(E9=O1,8,IF(F9=O1,7,IF(G9=O1,6,IF(H9=O1,5,IF(I9=O1,4,IF(J9=O1,3,0)))))))) -> 0 | P9: 6 | Q9: =IF(C9=Q1,11,IF(D9=Q1,9,IF(E9=Q1,8,IF(F9=Q1,7,IF(G9=Q1,6,IF(H9=Q1,5,IF(I9=Q1,4,IF(J9=Q1,3,0)))))))) -> 0 | R9: 8
B10: Perf. | C10: 58.27 | D10: 59 | E10: 1.06.37
A11: 400m | B11: Name | C11: Spencer Bardsley
A12: B | B12: Club | C12: RC | K12: =IF(C12=K1,9,IF(D12=K1,7,IF(E12=K1,6,IF(F12=K1,5,IF(G12=K1,4,IF(H12=K1,3,IF(I12=K1,2,IF(J12=K1,1,0)))))))) -> 0 | L12: =IF(C12=L1,9,IF(D12=L1,7,IF(E12=L1,6,IF(F12=L1,5,IF(G12=L1,4,IF(H12=L1,3,IF(I12=L1,2,IF(J12=L1,1,0)))))))) -> 0 | M12: =IF(C12=M1,9,IF(D12=M1,7,IF(E12=M1,6,IF(F12=M1,5,IF(G12=M1,4,IF(H12=M1,3,IF(I12=M1,2,IF(J12=M1,1,0)))))))) -> 0 | N12: =IF(C12=N1,9,IF(D12=N1,7,IF(E12=N1,6,IF(F12=N1,5,IF(G12=N1,4,IF(H12=N1,3,IF(I12=N1,2,IF(J12=N1,1,0)))))))) -> 0 | O12: =IF(C12=O1,9,IF(D12=O1,7,IF(E12=O1,6,IF(F12=O1,5,IF(G12=O1,4,IF(H12=O1,3,IF(I12=O1,2,IF(J12=O1,1,0)))))))) -> 0 | P12: =IF(C12=P1,9,IF(D12=P1,7,IF(E12=P1,6,IF(F12=P1,5,IF(G12=P1,4,IF(H12=P1,3,IF(I12=P1,2,IF(J12=P1,1,0)))))))) -> 0 | Q12: =IF(C12=Q1,9,IF(D12=Q1,7,IF(E12=Q1,6,IF(F12=Q1,5,IF(G12=Q1,4,IF(H12=Q1,3,IF(I12=Q1,2,IF(J12=Q1,1,0)))))))) -> 0 | R12: 8
B13: Perf. | C13: 1.00.40
A14: 1500m | B14: Name | C14: Danny McPake | D14: Blair Milne | E14: Angus Smith
A15: A | B15: Club | C15: RC | D15: MRR | E15: IH | K15: =IF(C15=K1,11,IF(D15=K1,9,IF(E15=K1,8,IF(F15=K1,7,IF(G15=K1,6,IF(H15=K1,5,IF(I15=K1,4,IF(J15=K1,3,0)))))))) -> 0 | L15: =IF(C15=L1,11,IF(D15=L1,9,IF(E15=L1,8,IF(F15=L1,7,IF(G15=L1,6,IF(H15=L1,5,IF(I15=L1,4,IF(J15=L1,3,0)))))))) -> 0 | M15: =IF(C15=M1,11,IF(D15=M1,9,IF(E15=M1,8,IF(F15=M1,7,IF(G15=M1,6,IF(H15=M1,5,IF(I15=M1,4,IF(J15=M1,3,0)))))))) -> 0 | N15: =IF(C15=N1,11,IF(D15=N1,9,IF(E15=N1,8,IF(F15=N1,7,IF(G15=N1,6,IF(H15=N1,5,IF(I15=N1,4,IF(J15=N1,3,0)))))))) -> 0 | O15: 6 | P15: 7 | Q15: =IF(C15=Q1,11,IF(D15=Q1,9,IF(E15=Q1,8,IF(F15=Q1,7,IF(G15=Q1,6,IF(H15=Q1,5,IF(I15=Q1,4,IF(J15=Q1,3,0)))))))) -> 0 | R15: 8
B16: Perf. | C16: 4.42.24 | D16: 4.44.52 | E16: 4.59.94
A17: 1500m | B17: Name | C17: Joshua Milne | D17: Alex Ellen
A18: B | B18: Club | C18: MRR | D18: RC | K18: =IF(C18=K1,9,IF(D18=K1,7,IF(E18=K1,6,IF(F18=K1,5,IF(G18=K1,4,IF(H18=K1,3,IF(I18=K1,2,IF(J18=K1,1,0)))))))) -> 0 | L18: =IF(C18=L1,9,IF(D18=L1,7,IF(E18=L1,6,IF(F18=L1,5,IF(G18=L1,4,IF(H18=L1,3,IF(I18=L1,2,IF(J18=L1,1,0)))))))) -> 0 | M18: =IF(C18=M1,9,IF(D18=M1,7,IF(E18=M1,6,IF(F18=M1,5,IF(G18=M1,4,IF(H18=M1,3,IF(I18=M1,2,IF(J18=M1,1,0)))))))) -> 0 | N18: =IF(C18=N1,9,IF(D18=N1,7,IF(E18=N1,6,IF(F18=N1,5,IF(G18=N1,4,IF(H18=N1,3,IF(I18=N1,2,IF(J18=N1,1,0)))))))) -> 0 | O18: =IF(C18=O1,9,IF(D18=O1,7,IF(E18=O1,6,IF(F18=O1,5,IF(G18=O1,4,IF(H18=O1,3,IF(I18=O1,2,IF(J18=O1,1,0)))))))) -> 0 | P18: 8 | Q18: =IF(C18=Q1,9,IF(D18=Q1,7,IF(E18=Q1,6,IF(F18=Q1,5,IF(G18=Q1,4,IF(H18=Q1,3,IF(I18=Q1,2,IF(J18=Q1,1,0)))))))) -> 0 | R18: =IF(C18=R1,9,IF(D18=R1,7,IF(E18=R1,6,IF(F18=R1,5,IF(G18=R1,4,IF(H18=R1,3,IF(I18=R1,2,IF(J18=R1,1,0)))))))) -> 7
B19: Perf. | C19: 4.48.73 | D19: 4.50.68
A20: Discus | B20: Name | C20: George Russell | D20: Alexander MacKay | E20: Ryan MacCarthy
A21: A | B21: Club | C21: IH | D21: RC | E21: CAAC | K21: 6 | L21: =IF(C21=L1,11,IF(D21=L1,9,IF(E21=L1,8,IF(F21=L1,7,IF(G21=L1,6,IF(H21=L1,5,IF(I21=L1,4,IF(J21=L1,3,0)))))))) -> 0 | M21: =IF(C21=M1,11,IF(D21=M1,9,IF(E21=M1,8,IF(F21=M1,7,IF(G21=M1,6,IF(H21=M1,5,IF(I21=M1,4,IF(J21=M1,3,0)))))))) -> 0 | N21: =IF(C21=N1,11,IF(D21=N1,9,IF(E21=N1,8,IF(F21=N1,7,IF(G21=N1,6,IF(H21=N1,5,IF(I21=N1,4,IF(J21=N1,3,0)))))))) -> 0 | O21: 8 | P21: =IF(C21=P1,11,IF(D21=P1,9,IF(E21=P1,8,IF(F21=P1,7,IF(G21=P1,6,IF(H21=P1,5,IF(I21=P1,4,IF(J21=P1,3,0)))))))) -> 0 | Q21: =IF(C21=Q1,11,IF(D21=Q1,9,IF(E21=Q1,8,IF(F21=Q1,7,IF(G21=Q1,6,IF(H21=Q1,5,IF(I21=Q1,4,IF(J21=Q1,3,0)))))))) -> 0 | R21: 7
B22: Perf. | C22: 38.01 | D22: 26.50 | E22: 24.55
A23: Discus | B23: Name | C23: Victor Jude-Eze | D23: Alex Ellen
A24: B | B24: Club | C24: IH | D24: RC | K24: =IF(C24=K1,9,IF(D24=K1,7,IF(E24=K1,6,IF(F24=K1,5,IF(G24=K1,4,IF(H24=K1,3,IF(I24=K1,2,IF(J24=K1,1,0)))))))) -> 0 | L24: =IF(C24=L1,9,IF(D24=L1,7,IF(E24=L1,6,IF(F24=L1,5,IF(G24=L1,4,IF(H24=L1,3,IF(I24=L1,2,IF(J24=L1,1,0)))))))) -> 0 | M24: =IF(C24=M1,9,IF(D24=M1,7,IF(E24=M1,6,IF(F24=M1,5,IF(G24=M1,4,IF(H24=M1,3,IF(I24=M1,2,IF(J24=M1,1,0)))))))) -> 0 | N24: =IF(C24=N1,9,IF(D24=N1,7,IF(E24=N1,6,IF(F24=N1,5,IF(G24=N1,4,IF(H24=N1,3,IF(I24=N1,2,IF(J24=N1,1,0)))))))) -> 0 | O24: 8 | P24: =IF(C24=P1,9,IF(D24=P1,7,IF(E24=P1,6,IF(F24=P1,5,IF(G24=P1,4,IF(H24=P1,3,IF(I24=P1,2,IF(J24=P1,1,0)))))))) -> 0 | Q24: =IF(C24=Q1,9,IF(D24=Q1,7,IF(E24=Q1,6,IF(F24=Q1,5,IF(G24=Q1,4,IF(H24=Q1,3,IF(I24=Q1,2,IF(J24=Q1,1,0)))))))) -> 0 | R24: =IF(C24=R1,9,IF(D24=R1,7,IF(E24=R1,6,IF(F24=R1,5,IF(G24=R1,4,IF(H24=R1,3,IF(I24=R1,2,IF(J24=R1,1,0)))))))) -> 7
B25: Perf. | C25: 33.37 | D25: 15.09
A26: T Jump | B26: Name | C26: David Scott | D26: Ryan MacCarthy | E26: Kyle Sutherland
A27: A | B27: Club | C27: FH | D27: CAAC | E27: RC | K27: 7 | L27: =IF(C27=L1,11,IF(D27=L1,9,IF(E27=L1,8,IF(F27=L1,7,IF(G27=L1,6,IF(H27=L1,5,IF(I27=L1,4,IF(J27=L1,3,0)))))))) -> 0 | M27: =IF(C27=M1,11,IF(D27=M1,9,IF(E27=M1,8,IF(F27=M1,7,IF(G27=M1,6,IF(H27=M1,5,IF(I27=M1,4,IF(J27=M1,3,0)))))))) -> 0 | N27: 8 | O27: =IF(C27=O1,11,IF(D27=O1,9,IF(E27=O1,8,IF(F27=O1,7,IF(G27=O1,6,IF(H27=O1,5,IF(I27=O1,4,IF(J27=O1,3,0)))))))) -> 0 | P27: =IF(C27=P1,11,IF(D27=P1,9,IF(E27=P1,8,IF(F27=P1,7,IF(G27=P1,6,IF(H27=P1,5,IF(I27=P1,4,IF(J27=P1,3,0)))))))) -> 0 | Q27: =IF(C27=Q1,11,IF(D27=Q1,9,IF(E27=Q1,8,IF(F27=Q1,7,IF(G27=Q1,6,IF(H27=Q1,5,IF(I27=Q1,4,IF(J27=Q1,3,0)))))))) -> 0 | R27: 6
B28: Perf. | C28: 10.70 | D28: 10.68 | E28: 9.88
A29: T Jump | B29: Name | C29: Alex Ellen
A30: B | B30: Club | C30: RC | K30: =IF(C30=K1,9,IF(D30=K1,7,IF(E30=K1,6,IF(F30=K1,5,IF(G30=K1,4,IF(H30=K1,3,IF(I30=K1,2,IF(J30=K1,1,0)))))))) -> 0 | L30: =IF(C30=L1,9,IF(D30=L1,7,IF(E30=L1,6,IF(F30=L1,5,IF(G30=L1,4,IF(H30=L1,3,IF(I30=L1,2,IF(J30=L1,1,0)))))))) -> 0 | M30: =IF(C30=M1,9,IF(D30=M1,7,IF(E30=M1,6,IF(F30=M1,5,IF(G30=M1,4,IF(H30=M1,3,IF(I30=M1,2,IF(J30=M1,1,0)))))))) -> 0 | N30: =IF(C30=N1,9,IF(D30=N1,7,IF(E30=N1,6,IF(F30=N1,5,IF(G30=N1,4,IF(H30=N1,3,IF(I30=N1,2,IF(J30=N1,1,0)))))))) -> 0 | O30: =IF(C30=O1,9,IF(D30=O1,7,IF(E30=O1,6,IF(F30=O1,5,IF(G30=O1,4,IF(H30=O1,3,IF(I30=O1,2,IF(J30=O1,1,0)))))))) -> 0 | P30: =IF(C30=P1,9,IF(D30=P1,7,IF(E30=P1,6,IF(F30=P1,5,IF(G30=P1,4,IF(H30=P1,3,IF(I30=P1,2,IF(J30=P1,1,0)))))))) -> 0 | Q30: =IF(C30=Q1,9,IF(D30=Q1,7,IF(E30=Q1,6,IF(F30=Q1,5,IF(G30=Q1,4,IF(H30=Q1,3,IF(I30=Q1,2,IF(J30=Q1,1,0)))))))) -> 0 | R30: 8
B31: Perf. | C31: 8.89
B32: Name
A33: A | B33: Club | K33: =IF(C33=K1,11,IF(D33=K1,9,IF(E33=K1,8,IF(F33=K1,7,IF(G33=K1,6,IF(H33=K1,5,IF(I33=K1,4,IF(J33=K1,3,0)))))))) -> 0 | L33: =IF(C33=L1,11,IF(D33=L1,9,IF(E33=L1,8,IF(F33=L1,7,IF(G33=L1,6,IF(H33=L1,5,IF(I33=L1,4,IF(J33=L1,3,0)))))))) -> 0 | M33: =IF(C33=M1,11,IF(D33=M1,9,IF(E33=M1,8,IF(F33=M1,7,IF(G33=M1,6,IF(H33=M1,5,IF(I33=M1,4,IF(J33=M1,3,0)))))))) -> 0 | N33: =IF(C33=N1,11,IF(D33=N1,9,IF(E33=N1,8,IF(F33=N1,7,IF(G33=N1,6,IF(H33=N1,5,IF(I33=N1,4,IF(J33=N1,3,0)))))))) -> 0 | O33: =IF(C33=O1,11,IF(D33=O1,9,IF(E33=O1,8,IF(F33=O1,7,IF(G33=O1,6,IF(H33=O1,5,IF(I33=O1,4,IF(J33=O1,3,0)))))))) -> 0 | P33: =IF(C33=P1,11,IF(D33=P1,9,IF(E33=P1,8,IF(F33=P1,7,IF(G33=P1,6,IF(H33=P1,5,IF(I33=P1,4,IF(J33=P1,3,0)))))))) -> 0 | Q33: =IF(C33=Q1,11,IF(D33=Q1,9,IF(E33=Q1,8,IF(F33=Q1,7,IF(G33=Q1,6,IF(H33=Q1,5,IF(I33=Q1,4,IF(J33=Q1,3,0)))))))) -> 0 | R33: =IF(C33=R1,11,IF(D33=R1,9,IF(E33=R1,8,IF(F33=R1,7,IF(G33=R1,6,IF(H33=R1,5,IF(I33=R1,4,IF(J33=R1,3,0)))))))) -> 0
B34: Perf.
B35: Name
A36: B | B36: Club | K36: =IF(C36=K1,9,IF(D36=K1,7,IF(E36=K1,6,IF(F36=K1,5,IF(G36=K1,4,IF(H36=K1,3,IF(I36=K1,2,IF(J36=K1,1,0)))))))) -> 0 | L36: =IF(C36=L1,9,IF(D36=L1,7,IF(E36=L1,6,IF(F36=L1,5,IF(G36=L1,4,IF(H36=L1,3,IF(I36=L1,2,IF(J36=L1,1,0)))))))) -> 0 | M36: =IF(C36=M1,9,IF(D36=M1,7,IF(E36=M1,6,IF(F36=M1,5,IF(G36=M1,4,IF(H36=M1,3,IF(I36=M1,2,IF(J36=M1,1,0)))))))) -> 0 | N36: =IF(C36=N1,9,IF(D36=N1,7,IF(E36=N1,6,IF(F36=N1,5,IF(G36=N1,4,IF(H36=N1,3,IF(I36=N1,2,IF(J36=N1,1,0)))))))) -> 0 | O36: =IF(C36=O1,9,IF(D36=O1,7,IF(E36=O1,6,IF(F36=O1,5,IF(G36=O1,4,IF(H36=O1,3,IF(I36=O1,2,IF(J36=O1,1,0)))))))) -> 0 | P36: =IF(C36=P1,9,IF(D36=P1,7,IF(E36=P1,6,IF(F36=P1,5,IF(G36=P1,4,IF(H36=P1,3,IF(I36=P1,2,IF(J36=P1,1,0)))))))) -> 0 | Q36: =IF(C36=Q1,9,IF(D36=Q1,7,IF(E36=Q1,6,IF(F36=Q1,5,IF(G36=Q1,4,IF(H36=Q1,3,IF(I36=Q1,2,IF(J36=Q1,1,0)))))))) -> 0 | R36: =IF(C36=R1,9,IF(D36=R1,7,IF(E36=R1,6,IF(F36=R1,5,IF(G36=R1,4,IF(H36=R1,3,IF(I36=R1,2,IF(J36=R1,1,0)))))))) -> 0
B37: Perf.
B38: Name
A39: A | B39: Club | K39: =IF(C39=K1,11,IF(D39=K1,9,IF(E39=K1,8,IF(F39=K1,7,IF(G39=K1,6,IF(H39=K1,5,IF(I39=K1,4,IF(J39=K1,3,0)))))))) -> 0 | L39: =IF(C39=L1,11,IF(D39=L1,9,IF(E39=L1,8,IF(F39=L1,7,IF(G39=L1,6,IF(H39=L1,5,IF(I39=L1,4,IF(J39=L1,3,0)))))))) -> 0 | M39: =IF(C39=M1,11,IF(D39=M1,9,IF(E39=M1,8,IF(F39=M1,7,IF(G39=M1,6,IF(H39=M1,5,IF(I39=M1,4,IF(J39=M1,3,0)))))))) -> 0 | N39: =IF(C39=N1,11,IF(D39=N1,9,IF(E39=N1,8,IF(F39=N1,7,IF(G39=N1,6,IF(H39=N1,5,IF(I39=N1,4,IF(J39=N1,3,0)))))))) -> 0 | O39: =IF(C39=O1,11,IF(D39=O1,9,IF(E39=O1,8,IF(F39=O1,7,IF(G39=O1,6,IF(H39=O1,5,IF(I39=O1,4,IF(J39=O1,3,0)))))))) -> 0 | P39: =IF(C39=P1,11,IF(D39=P1,9,IF(E39=P1,8,IF(F39=P1,7,IF(G39=P1,6,IF(H39=P1,5,IF(I39=P1,4,IF(J39=P1,3,0)))))))) -> 0 | Q39: =IF(C39=Q1,11,IF(D39=Q1,9,IF(E39=Q1,8,IF(F39=Q1,7,IF(G39=Q1,6,IF(H39=Q1,5,IF(I39=Q1,4,IF(J39=Q1,3,0)))))))) -> 0 | R39: =IF(C39=R1,11,IF(D39=R1,9,IF(E39=R1,8,IF(F39=R1,7,IF(G39=R1,6,IF(H39=R1,5,IF(I39=R1,4,IF(J39=R1,3,0)))))))) -> 0
B40: Perf.
B41: Name
A42: B | B42: Club | K42: =IF(C42=K1,9,IF(D42=K1,7,IF(E42=K1,6,IF(F42=K1,5,IF(G42=K1,4,IF(H42=K1,3,IF(I42=K1,2,IF(J42=K1,1,0)))))))) -> 0 | L42: =IF(C42=L1,9,IF(D42=L1,7,IF(E42=L1,6,IF(F42=L1,5,IF(G42=L1,4,IF(H42=L1,3,IF(I42=L1,2,IF(J42=L1,1,0)))))))) -> 0 | M42: =IF(C42=M1,9,IF(D42=M1,7,IF(E42=M1,6,IF(F42=M1,5,IF(G42=M1,4,IF(H42=M1,3,IF(I42=M1,2,IF(J42=M1,1,0)))))))) -> 0 | N42: =IF(C42=N1,9,IF(D42=N1,7,IF(E42=N1,6,IF(F42=N1,5,IF(G42=N1,4,IF(H42=N1,3,IF(I42=N1,2,IF(J42=N1,1,0)))))))) -> 0 | O42: =IF(C42=O1,9,IF(D42=O1,7,IF(E42=O1,6,IF(F42=O1,5,IF(G42=O1,4,IF(H42=O1,3,IF(I42=O1,2,IF(J42=O1,1,0)))))))) -> 0 | P42: =IF(C42=P1,9,IF(D42=P1,7,IF(E42=P1,6,IF(F42=P1,5,IF(G42=P1,4,IF(H42=P1,3,IF(I42=P1,2,IF(J42=P1,1,0)))))))) -> 0 | Q42: =IF(C42=Q1,9,IF(D42=Q1,7,IF(E42=Q1,6,IF(F42=Q1,5,IF(G42=Q1,4,IF(H42=Q1,3,IF(I42=Q1,2,IF(J42=Q1,1,0)))))))) -> 0 | R42: =IF(C42=R1,9,IF(D42=R1,7,IF(E42=R1,6,IF(F42=R1,5,IF(G42=R1,4,IF(H42=R1,3,IF(I42=R1,2,IF(J42=R1,1,0)))))))) -> 0
B43: Perf.
A44: RELAY | B44: Club | C44: RC | D44: IH | E44: MRR | K44: =IF(C44=K1,11,IF(D44=K1,9,IF(E44=K1,8,IF(F44=K1,7,IF(G44=K1,6,IF(H44=K1,5,IF(I44=K1,4,IF(J44=K1,3,0)))))))) -> 0 | L44: =IF(C44=L1,11,IF(D44=L1,9,IF(E44=L1,8,IF(F44=L1,7,IF(G44=L1,6,IF(H44=L1,5,IF(I44=L1,4,IF(J44=L1,3,0)))))))) -> 0 | M44: =IF(C44=M1,11,IF(D44=M1,9,IF(E44=M1,8,IF(F44=M1,7,IF(G44=M1,6,IF(H44=M1,5,IF(I44=M1,4,IF(J44=M1,3,0)))))))) -> 0 | N44: =IF(C44=N1,11,IF(D44=N1,9,IF(E44=N1,8,IF(F44=N1,7,IF(G44=N1,6,IF(H44=N1,5,IF(I44=N1,4,IF(J44=N1,3,0)))))))) -> 0 | O44: 7 | P44: 6 | Q44: =IF(C44=Q1,11,IF(D44=Q1,9,IF(E44=Q1,8,IF(F44=Q1,7,IF(G44=Q1,6,IF(H44=Q1,5,IF(I44=Q1,4,IF(J44=Q1,3,0)))))))) -> 0 | R44: 8
A45: 4 x 400m | B45: Perf. | C45: 52.32 | D45: 54.42 | E45: 1.02.74
J46: Totals | K46: =SUM(K44+K42+K39+K36+K33+K30+K27+K24+K21+K18+K15+K12+K9+K6+K3) -> 19 | L46: =SUM(L44+L42+L39+L36+L33+L30+L27+L24+L21+L18+L15+L12+L9+L6+L3) -> 0 | M46: =SUM(M44+M42+M39+M36+M33+M30+M27+M24+M21+M18+M15+M12+M9+M6+M3) -> 0 | N46: =SUM(N44+N42+N39+N36+N33+N30+N27+N24+N21+N18+N15+N12+N9+N6+N3) -> 20 | O46: =SUM(O44+O42+O39+O36+O33+O30+O27+O24+O21+O18+O15+O12+O9+O6+O3) -> 43 | P46: =SUM(P44+P42+P39+P36+P33+P30+P27+P24+P21+P18+P15+P12+P9+P6+P3) -> 27 | Q46: =SUM(Q44+Q42+Q39+Q36+Q33+Q30+Q27+Q24+Q21+Q18+Q15+Q12+Q9+Q6+Q3) -> 0 | R46: =SUM(R44+R42+R39+R36+R33+R30+R27+R24+R21+R18+R15+R12+R9+R6+R3) -> 83
J47: Position | K47: 5 | N47: 4 | O47: 2 | P47: 3 | R47: 1
K48: =K1 -> CAAC | L48: =L1 -> Elgin | M48: =M1 -> ES | N48: =N1 -> FH | O48: =O1 -> IH | P48: =P1 -> MRR | Q48: =Q1 -> NAAC | R48: =R1 -> RC

Sheet SM
A1: Event | B1: SM | C1: 1st = 8A/B | D1: 2nd = 7A/B | E1: 3rd = 6A/B | F1: 4th = 5A/B | G1: 5th = 4A/B | H1: 6th = 3A/B | I1: 7th = 2A/B | J1: 8th = 1A/B | K1: CAAC | L1: Elgin | M1: ES | N1: FH | O1: IH | P1: MRR | Q1: NAAC | R1: RC
A2: 100m | B2: Name | C2: Calum Fraser | D2: Sam Anderson | E2: Scott Hamilton | F2: Josh Phillipson | G2: Joseph Frame
A3: A | B3: Club | C3: RC | D3: MRR | E3: Elgin | F3: IH | G3: CAAC | K3: 4 | L3: 6 | M3: =IF(C3=M1,11,IF(D3=M1,9,IF(E3=M1,8,IF(F3=M1,7,IF(G3=M1,6,IF(H3=M1,5,IF(I3=M1,4,IF(J3=M1,3,0)))))))) -> 0 | N3: =IF(C3=N1,11,IF(D3=N1,9,IF(E3=N1,8,IF(F3=N1,7,IF(G3=N1,6,IF(H3=N1,5,IF(I3=N1,4,IF(J3=N1,3,0)))))))) -> 0 | O3: 5 | P3: 7 | Q3: =IF(C3=Q1,11,IF(D3=Q1,9,IF(E3=Q1,8,IF(F3=Q1,7,IF(G3=Q1,6,IF(H3=Q1,5,IF(I3=Q1,4,IF(J3=Q1,3,0)))))))) -> 0 | R3: 8
A4: 1.7 | B4: Perf. | C4: 12.15 | D4: 12.23 | E4: 12.31 | F4: 12.61 | G4: 14.15
A5: 100m | B5: Name | C5: Tom Jenkins | D5: Andrew McCammon | E5: Jamie Munro
A6: B | B6: Club | C6: MRR | D6: Elgin | E6: CAAC | K6: =IF(C6=K1,9,IF(D6=K1,7,IF(E6=K1,6,IF(F6=K1,5,IF(G6=K1,4,IF(H6=K1,3,IF(I6=K1,2,IF(J6=K1,1,0)))))))) -> 6 | L6: =IF(C6=L1,9,IF(D6=L1,7,IF(E6=L1,6,IF(F6=L1,5,IF(G6=L1,4,IF(H6=L1,3,IF(I6=L1,2,IF(J6=L1,1,0)))))))) -> 7 | M6: =IF(C6=M1,9,IF(D6=M1,7,IF(E6=M1,6,IF(F6=M1,5,IF(G6=M1,4,IF(H6=M1,3,IF(I6=M1,2,IF(J6=M1,1,0)))))))) -> 0 | N6: =IF(C6=N1,9,IF(D6=N1,7,IF(E6=N1,6,IF(F6=N1,5,IF(G6=N1,4,IF(H6=N1,3,IF(I6=N1,2,IF(J6=N1,1,0)))))))) -> 0 | O6: =IF(C6=O1,9,IF(D6=O1,7,IF(E6=O1,6,IF(F6=O1,5,IF(G6=O1,4,IF(H6=O1,3,IF(I6=O1,2,IF(J6=O1,1,0)))))))) -> 0 | P6: 8 | Q6: =IF(C6=Q1,9,IF(D6=Q1,7,IF(E6=Q1,6,IF(F6=Q1,5,IF(G6=Q1,4,IF(H6=Q1,3,IF(I6=Q1,2,IF(J6=Q1,1,0)))))))) -> 0 | R6: =IF(C6=R1,9,IF(D6=R1,7,IF(E6=R1,6,IF(F6=R1,5,IF(G6=R1,4,IF(H6=R1,3,IF(I6=R1,2,IF(J6=R1,1,0)))))))) -> 0
A7: 1.7 | B7: Perf. | C7: 11.94 | D7: 14.08 | E7: 14.55
A8: 400m | B8: Name | C8: Sam Anderson | D8: Joseph Frame
A9: A | B9: Club | C9: MRR | D9: CAAC | K9: 7 | L9: =IF(C9=L1,11,IF(D9=L1,9,IF(E9=L1,8,IF(F9=L1,7,IF(G9=L1,6,IF(H9=L1,5,IF(I9=L1,4,IF(J9=L1,3,0)))))))) -> 0 | M9: =IF(C9=M1,11,IF(D9=M1,9,IF(E9=M1,8,IF(F9=M1,7,IF(G9=M1,6,IF(H9=M1,5,IF(I9=M1,4,IF(J9=M1,3,0)))))))) -> 0 | N9: =IF(C9=N1,11,IF(D9=N1,9,IF(E9=N1,8,IF(F9=N1,7,IF(G9=N1,6,IF(H9=N1,5,IF(I9=N1,4,IF(J9=N1,3,0)))))))) -> 0 | O9: =IF(C9=O1,11,IF(D9=O1,9,IF(E9=O1,8,IF(F9=O1,7,IF(G9=O1,6,IF(H9=O1,5,IF(I9=O1,4,IF(J9=O1,3,0)))))))) -> 0 | P9: 8 | Q9: =IF(C9=Q1,11,IF(D9=Q1,9,IF(E9=Q1,8,IF(F9=Q1,7,IF(G9=Q1,6,IF(H9=Q1,5,IF(I9=Q1,4,IF(J9=Q1,3,0)))))))) -> 0 | R9: =IF(C9=R1,11,IF(D9=R1,9,IF(E9=R1,8,IF(F9=R1,7,IF(G9=R1,6,IF(H9=R1,5,IF(I9=R1,4,IF(J9=R1,3,0)))))))) -> 0
B10: Perf. | C10: 56.9 | D10: 1.08.40
A11: 400m | B11: Name | C11: Tom Jenkins | D11: Stephen Frame
A12: B | B12: Club | C12: MRR | D12: CAAC | K12: =IF(C12=K1,9,IF(D12=K1,7,IF(E12=K1,6,IF(F12=K1,5,IF(G12=K1,4,IF(H12=K1,3,IF(I12=K1,2,IF(J12=K1,1,0)))))))) -> 7 | L12: =IF(C12=L1,9,IF(D12=L1,7,IF(E12=L1,6,IF(F12=L1,5,IF(G12=L1,4,IF(H12=L1,3,IF(I12=L1,2,IF(J12=L1,1,0)))))))) -> 0 | M12: =IF(C12=M1,9,IF(D12=M1,7,IF(E12=M1,6,IF(F12=M1,5,IF(G12=M1,4,IF(H12=M1,3,IF(I12=M1,2,IF(J12=M1,1,0)))))))) -> 0 | N12: =IF(C12=N1,9,IF(D12=N1,7,IF(E12=N1,6,IF(F12=N1,5,IF(G12=N1,4,IF(H12=N1,3,IF(I12=N1,2,IF(J12=N1,1,0)))))))) -> 0 | O12: =IF(C12=O1,9,IF(D12=O1,7,IF(E12=O1,6,IF(F12=O1,5,IF(G12=O1,4,IF(H12=O1,3,IF(I12=O1,2,IF(J12=O1,1,0)))))))) -> 0 | P12: 8 | Q12: =IF(C12=Q1,9,IF(D12=Q1,7,IF(E12=Q1,6,IF(F12=Q1,5,IF(G12=Q1,4,IF(H12=Q1,3,IF(I12=Q1,2,IF(J12=Q1,1,0)))))))) -> 0 | R12: =IF(C12=R1,9,IF(D12=R1,7,IF(E12=R1,6,IF(F12=R1,5,IF(G12=R1,4,IF(H12=R1,3,IF(I12=R1,2,IF(J12=R1,1,0)))))))) -> 0
B13: Perf. | C13: 58.91 | D13: 1.15.34
A14: 1500m | B14: Name | C14: Joe Arnaud | D14: Hamish Hickey | E14: Gareth Jenkins | F14: Stephen Frame
A15: A | B15: Club | C15: IH | D15: RC | E15: MRR | F15: CAAC | K15: 5 | L15: =IF(C15=L1,11,IF(D15=L1,9,IF(E15=L1,8,IF(F15=L1,7,IF(G15=L1,6,IF(H15=L1,5,IF(I15=L1,4,IF(J15=L1,3,0)))))))) -> 0 | M15: =IF(C15=M1,11,IF(D15=M1,9,IF(E15=M1,8,IF(F15=M1,7,IF(G15=M1,6,IF(H15=M1,5,IF(I15=M1,4,IF(J15=M1,3,0)))))))) -> 0 | N15: =IF(C15=N1,11,IF(D15=N1,9,IF(E15=N1,8,IF(F15=N1,7,IF(G15=N1,6,IF(H15=N1,5,IF(I15=N1,4,IF(J15=N1,3,0)))))))) -> 0 | O15: 8 | P15: 6 | Q15: =IF(C15=Q1,11,IF(D15=Q1,9,IF(E15=Q1,8,IF(F15=Q1,7,IF(G15=Q1,6,IF(H15=Q1,5,IF(I15=Q1,4,IF(J15=Q1,3,0)))))))) -> 0 | R15: 7
B16: Perf. | C16: 4.08.55 | D16: 4.22.35 | E16: 4.37.11 | F16: 6.59.30
A17: 1500m | B17: Name | C17: Finlay Maclennan | D17: Eoin Coull | E17: Euan Cantlie
A18: B | B18: Club | C18: IH | D18: RC | E18: MRR | K18: =IF(C18=K1,9,IF(D18=K1,7,IF(E18=K1,6,IF(F18=K1,5,IF(G18=K1,4,IF(H18=K1,3,IF(I18=K1,2,IF(J18=K1,1,0)))))))) -> 0 | L18: =IF(C18=L1,9,IF(D18=L1,7,IF(E18=L1,6,IF(F18=L1,5,IF(G18=L1,4,IF(H18=L1,3,IF(I18=L1,2,IF(J18=L1,1,0)))))))) -> 0 | M18: =IF(C18=M1,9,IF(D18=M1,7,IF(E18=M1,6,IF(F18=M1,5,IF(G18=M1,4,IF(H18=M1,3,IF(I18=M1,2,IF(J18=M1,1,0)))))))) -> 0 | N18: =IF(C18=N1,9,IF(D18=N1,7,IF(E18=N1,6,IF(F18=N1,5,IF(G18=N1,4,IF(H18=N1,3,IF(I18=N1,2,IF(J18=N1,1,0)))))))) -> 0 | O18: 8 | P18: =IF(C18=P1,9,IF(D18=P1,7,IF(E18=P1,6,IF(F18=P1,5,IF(G18=P1,4,IF(H18=P1,3,IF(I18=P1,2,IF(J18=P1,1,0)))))))) -> 6 | Q18: =IF(C18=Q1,9,IF(D18=Q1,7,IF(E18=Q1,6,IF(F18=Q1,5,IF(G18=Q1,4,IF(H18=Q1,3,IF(I18=Q1,2,IF(J18=Q1,1,0)))))))) -> 0 | R18: =IF(C18=R1,9,IF(D18=R1,7,IF(E18=R1,6,IF(F18=R1,5,IF(G18=R1,4,IF(H18=R1,3,IF(I18=R1,2,IF(J18=R1,1,0)))))))) -> 7
B19: Perf. | C19: 4.33.99 | D19: 4.56.47 | E19: 5.25.71
A20: S Putt | B20: Name | C20: Harry Zagorski | D20: Jamie Munro | E20: Nicky Stone | F20: Andrew McCammon | G20: Eoin Coull
A21: A | B21: Club | C21: IH | D21: CAAC | E21: NAAC | F21: Elgin | G21: RC | K21: 7 | L21: 5 | M21: =IF(C21=M1,11,IF(D21=M1,9,IF(E21=M1,8,IF(F21=M1,7,IF(G21=M1,6,IF(H21=M1,5,IF(I21=M1,4,IF(J21=M1,3,0)))))))) -> 0 | N21: =IF(C21=N1,11,IF(D21=N1,9,IF(E21=N1,8,IF(F21=N1,7,IF(G21=N1,6,IF(H21=N1,5,IF(I21=N1,4,IF(J21=N1,3,0)))))))) -> 0 | O21: 8 | P21: =IF(C21=P1,11,IF(D21=P1,9,IF(E21=P1,8,IF(F21=P1,7,IF(G21=P1,6,IF(H21=P1,5,IF(I21=P1,4,IF(J21=P1,3,0)))))))) -> 0 | Q21: 6 | R21: 4
B22: Perf. | C22: 10.27 | D22: 10.08 | E22: 9.57 | F22: 8.63 | G22: 6.72
A23: S Putt | B23: Name | C23: Josh Phillipson | D23: Bill Lambie | E23: Martin Beattie | F23: Hamish Hickey
A24: B | B24: Club | C24: IH | D24: CAAC | E24: Elgin | F24: RC | K24: =IF(C24=K1,9,IF(D24=K1,7,IF(E24=K1,6,IF(F24=K1,5,IF(G24=K1,4,IF(H24=K1,3,IF(I24=K1,2,IF(J24=K1,1,0)))))))) -> 7 | L24: =IF(C24=L1,9,IF(D24=L1,7,IF(E24=L1,6,IF(F24=L1,5,IF(G24=L1,4,IF(H24=L1,3,IF(I24=L1,2,IF(J24=L1,1,0)))))))) -> 6 | M24: =IF(C24=M1,9,IF(D24=M1,7,IF(E24=M1,6,IF(F24=M1,5,IF(G24=M1,4,IF(H24=M1,3,IF(I24=M1,2,IF(J24=M1,1,0)))))))) -> 0 | N24: =IF(C24=N1,9,IF(D24=N1,7,IF(E24=N1,6,IF(F24=N1,5,IF(G24=N1,4,IF(H24=N1,3,IF(I24=N1,2,IF(J24=N1,1,0)))))))) -> 0 | O24: 8 | P24: =IF(C24=P1,9,IF(D24=P1,7,IF(E24=P1,6,IF(F24=P1,5,IF(G24=P1,4,IF(H24=P1,3,IF(I24=P1,2,IF(J24=P1,1,0)))))))) -> 0 | Q24: =IF(C24=Q1,9,IF(D24=Q1,7,IF(E24=Q1,6,IF(F24=Q1,5,IF(G24=Q1,4,IF(H24=Q1,3,IF(I24=Q1,2,IF(J24=Q1,1,0)))))))) -> 0 | R24: =IF(C24=R1,9,IF(D24=R1,7,IF(E24=R1,6,IF(F24=R1,5,IF(G24=R1,4,IF(H24=R1,3,IF(I24=R1,2,IF(J24=R1,1,0)))))))) -> 5
B25: Perf. | C25: 10.02 | D25: 9.16 | E25: 7.92 | F25: 6.38
A26: H Jump | B26: Name | C26: Scott Hamilton | D26: Jamie Munro
A27: A | B27: Club | C27: Elgin | D27: CAAC | K27: 7 | L27: 8 | M27: =IF(C27=M1,11,IF(D27=M1,9,IF(E27=M1,8,IF(F27=M1,7,IF(G27=M1,6,IF(H27=M1,5,IF(I27=M1,4,IF(J27=M1,3,0)))))))) -> 0 | N27: =IF(C27=N1,11,IF(D27=N1,9,IF(E27=N1,8,IF(F27=N1,7,IF(G27=N1,6,IF(H27=N1,5,IF(I27=N1,4,IF(J27=N1,3,0)))))))) -> 0 | O27: =IF(C27=O1,11,IF(D27=O1,9,IF(E27=O1,8,IF(F27=O1,7,IF(G27=O1,6,IF(H27=O1,5,IF(I27=O1,4,IF(J27=O1,3,0)))))))) -> 0 | P27: =IF(C27=P1,11,IF(D27=P1,9,IF(E27=P1,8,IF(F27=P1,7,IF(G27=P1,6,IF(H27=P1,5,IF(I27=P1,4,IF(J27=P1,3,0)))))))) -> 0 | Q27: =IF(C27=Q1,11,IF(D27=Q1,9,IF(E27=Q1,8,IF(F27=Q1,7,IF(G27=Q1,6,IF(H27=Q1,5,IF(I27=Q1,4,IF(J27=Q1,3,0)))))))) -> 0 | R27: =IF(C27=R1,11,IF(D27=R1,9,IF(E27=R1,8,IF(F27=R1,7,IF(G27=R1,6,IF(H27=R1,5,IF(I27=R1,4,IF(J27=R1,3,0)))))))) -> 0
B28: Perf. | C28: 1.30 | D28: 1.25
A29: H Jump | B29: Name | C29: Andrew McCammon | D29: Stephen Frame
A30: B | B30: Club | C30: Elgin | D30: CAAC | K30: =IF(C30=K1,9,IF(D30=K1,7,IF(E30=K1,6,IF(F30=K1,5,IF(G30=K1,4,IF(H30=K1,3,IF(I30=K1,2,IF(J30=K1,1,0)))))))) -> 7 | L30: 8 | M30: =IF(C30=M1,9,IF(D30=M1,7,IF(E30=M1,6,IF(F30=M1,5,IF(G30=M1,4,IF(H30=M1,3,IF(I30=M1,2,IF(J30=M1,1,0)))))))) -> 0 | N30: =IF(C30=N1,9,IF(D30=N1,7,IF(E30=N1,6,IF(F30=N1,5,IF(G30=N1,4,IF(H30=N1,3,IF(I30=N1,2,IF(J30=N1,1,0)))))))) -> 0 | O30: =IF(C30=O1,9,IF(D30=O1,7,IF(E30=O1,6,IF(F30=O1,5,IF(G30=O1,4,IF(H30=O1,3,IF(I30=O1,2,IF(J30=O1,1,0)))))))) -> 0 | P30: =IF(C30=P1,9,IF(D30=P1,7,IF(E30=P1,6,IF(F30=P1,5,IF(G30=P1,4,IF(H30=P1,3,IF(I30=P1,2,IF(J30=P1,1,0)))))))) -> 0 | Q30: =IF(C30=Q1,9,IF(D30=Q1,7,IF(E30=Q1,6,IF(F30=Q1,5,IF(G30=Q1,4,IF(H30=Q1,3,IF(I30=Q1,2,IF(J30=Q1,1,0)))))))) -> 0 | R30: =IF(C30=R1,9,IF(D30=R1,7,IF(E30=R1,6,IF(F30=R1,5,IF(G30=R1,4,IF(H30=R1,3,IF(I30=R1,2,IF(J30=R1,1,0)))))))) -> 0
B31: Perf. | C31: 1.25 | D31: 1.20
B32: Name
A33: A | B33: Club | K33: =IF(C33=K1,11,IF(D33=K1,9,IF(E33=K1,8,IF(F33=K1,7,IF(G33=K1,6,IF(H33=K1,5,IF(I33=K1,4,IF(J33=K1,3,0)))))))) -> 0 | L33: =IF(C33=L1,11,IF(D33=L1,9,IF(E33=L1,8,IF(F33=L1,7,IF(G33=L1,6,IF(H33=L1,5,IF(I33=L1,4,IF(J33=L1,3,0)))))))) -> 0 | M33: =IF(C33=M1,11,IF(D33=M1,9,IF(E33=M1,8,IF(F33=M1,7,IF(G33=M1,6,IF(H33=M1,5,IF(I33=M1,4,IF(J33=M1,3,0)))))))) -> 0 | N33: =IF(C33=N1,11,IF(D33=N1,9,IF(E33=N1,8,IF(F33=N1,7,IF(G33=N1,6,IF(H33=N1,5,IF(I33=N1,4,IF(J33=N1,3,0)))))))) -> 0 | O33: =IF(C33=O1,11,IF(D33=O1,9,IF(E33=O1,8,IF(F33=O1,7,IF(G33=O1,6,IF(H33=O1,5,IF(I33=O1,4,IF(J33=O1,3,0)))))))) -> 0 | P33: =IF(C33=P1,11,IF(D33=P1,9,IF(E33=P1,8,IF(F33=P1,7,IF(G33=P1,6,IF(H33=P1,5,IF(I33=P1,4,IF(J33=P1,3,0)))))))) -> 0 | Q33: =IF(C33=Q1,11,IF(D33=Q1,9,IF(E33=Q1,8,IF(F33=Q1,7,IF(G33=Q1,6,IF(H33=Q1,5,IF(I33=Q1,4,IF(J33=Q1,3,0)))))))) -> 0 | R33: =IF(C33=R1,11,IF(D33=R1,9,IF(E33=R1,8,IF(F33=R1,7,IF(G33=R1,6,IF(H33=R1,5,IF(I33=R1,4,IF(J33=R1,3,0)))))))) -> 0
B34: Perf.
B35: Name
A36: B | B36: Club | K36: =IF(C36=K1,9,IF(D36=K1,7,IF(E36=K1,6,IF(F36=K1,5,IF(G36=K1,4,IF(H36=K1,3,IF(I36=K1,2,IF(J36=K1,1,0)))))))) -> 0 | L36: =IF(C36=L1,9,IF(D36=L1,7,IF(E36=L1,6,IF(F36=L1,5,IF(G36=L1,4,IF(H36=L1,3,IF(I36=L1,2,IF(J36=L1,1,0)))))))) -> 0 | M36: =IF(C36=M1,9,IF(D36=M1,7,IF(E36=M1,6,IF(F36=M1,5,IF(G36=M1,4,IF(H36=M1,3,IF(I36=M1,2,IF(J36=M1,1,0)))))))) -> 0 | N36: =IF(C36=N1,9,IF(D36=N1,7,IF(E36=N1,6,IF(F36=N1,5,IF(G36=N1,4,IF(H36=N1,3,IF(I36=N1,2,IF(J36=N1,1,0)))))))) -> 0 | O36: =IF(C36=O1,9,IF(D36=O1,7,IF(E36=O1,6,IF(F36=O1,5,IF(G36=O1,4,IF(H36=O1,3,IF(I36=O1,2,IF(J36=O1,1,0)))))))) -> 0 | P36: =IF(C36=P1,9,IF(D36=P1,7,IF(E36=P1,6,IF(F36=P1,5,IF(G36=P1,4,IF(H36=P1,3,IF(I36=P1,2,IF(J36=P1,1,0)))))))) -> 0 | Q36: =IF(C36=Q1,9,IF(D36=Q1,7,IF(E36=Q1,6,IF(F36=Q1,5,IF(G36=Q1,4,IF(H36=Q1,3,IF(I36=Q1,2,IF(J36=Q1,1,0)))))))) -> 0 | R36: =IF(C36=R1,9,IF(D36=R1,7,IF(E36=R1,6,IF(F36=R1,5,IF(G36=R1,4,IF(H36=R1,3,IF(I36=R1,2,IF(J36=R1,1,0)))))))) -> 0
B37: Perf.
B38: Name
A39: A | B39: Club | K39: =IF(C39=K1,11,IF(D39=K1,9,IF(E39=K1,8,IF(F39=K1,7,IF(G39=K1,6,IF(H39=K1,5,IF(I39=K1,4,IF(J39=K1,3,0)))))))) -> 0 | L39: =IF(C39=L1,11,IF(D39=L1,9,IF(E39=L1,8,IF(F39=L1,7,IF(G39=L1,6,IF(H39=L1,5,IF(I39=L1,4,IF(J39=L1,3,0)))))))) -> 0 | M39: =IF(C39=M1,11,IF(D39=M1,9,IF(E39=M1,8,IF(F39=M1,7,IF(G39=M1,6,IF(H39=M1,5,IF(I39=M1,4,IF(J39=M1,3,0)))))))) -> 0 | N39: =IF(C39=N1,11,IF(D39=N1,9,IF(E39=N1,8,IF(F39=N1,7,IF(G39=N1,6,IF(H39=N1,5,IF(I39=N1,4,IF(J39=N1,3,0)))))))) -> 0 | O39: =IF(C39=O1,11,IF(D39=O1,9,IF(E39=O1,8,IF(F39=O1,7,IF(G39=O1,6,IF(H39=O1,5,IF(I39=O1,4,IF(J39=O1,3,0)))))))) -> 0 | P39: =IF(C39=P1,11,IF(D39=P1,9,IF(E39=P1,8,IF(F39=P1,7,IF(G39=P1,6,IF(H39=P1,5,IF(I39=P1,4,IF(J39=P1,3,0)))))))) -> 0 | Q39: =IF(C39=Q1,11,IF(D39=Q1,9,IF(E39=Q1,8,IF(F39=Q1,7,IF(G39=Q1,6,IF(H39=Q1,5,IF(I39=Q1,4,IF(J39=Q1,3,0)))))))) -> 0 | R39: =IF(C39=R1,11,IF(D39=R1,9,IF(E39=R1,8,IF(F39=R1,7,IF(G39=R1,6,IF(H39=R1,5,IF(I39=R1,4,IF(J39=R1,3,0)))))))) -> 0
B40: Perf.
B41: Name
A42: B | B42: Club | K42: =IF(C42=K1,9,IF(D42=K1,7,IF(E42=K1,6,IF(F42=K1,5,IF(G42=K1,4,IF(H42=K1,3,IF(I42=K1,2,IF(J42=K1,1,0)))))))) -> 0 | L42: =IF(C42=L1,9,IF(D42=L1,7,IF(E42=L1,6,IF(F42=L1,5,IF(G42=L1,4,IF(H42=L1,3,IF(I42=L1,2,IF(J42=L1,1,0)))))))) -> 0 | M42: =IF(C42=M1,9,IF(D42=M1,7,IF(E42=M1,6,IF(F42=M1,5,IF(G42=M1,4,IF(H42=M1,3,IF(I42=M1,2,IF(J42=M1,1,0)))))))) -> 0 | N42: =IF(C42=N1,9,IF(D42=N1,7,IF(E42=N1,6,IF(F42=N1,5,IF(G42=N1,4,IF(H42=N1,3,IF(I42=N1,2,IF(J42=N1,1,0)))))))) -> 0 | O42: =IF(C42=O1,9,IF(D42=O1,7,IF(E42=O1,6,IF(F42=O1,5,IF(G42=O1,4,IF(H42=O1,3,IF(I42=O1,2,IF(J42=O1,1,0)))))))) -> 0 | P42: =IF(C42=P1,9,IF(D42=P1,7,IF(E42=P1,6,IF(F42=P1,5,IF(G42=P1,4,IF(H42=P1,3,IF(I42=P1,2,IF(J42=P1,1,0)))))))) -> 0 | Q42: =IF(C42=Q1,9,IF(D42=Q1,7,IF(E42=Q1,6,IF(F42=Q1,5,IF(G42=Q1,4,IF(H42=Q1,3,IF(I42=Q1,2,IF(J42=Q1,1,0)))))))) -> 0 | R42: =IF(C42=R1,9,IF(D42=R1,7,IF(E42=R1,6,IF(F42=R1,5,IF(G42=R1,4,IF(H42=R1,3,IF(I42=R1,2,IF(J42=R1,1,0)))))))) -> 0
B43: Perf.
A44: RELAY | B44: Club | C44: RC | D44: MRR | E44: CAAC | K44: 6 | L44: =IF(C44=L1,11,IF(D44=L1,9,IF(E44=L1,8,IF(F44=L1,7,IF(G44=L1,6,IF(H44=L1,5,IF(I44=L1,4,IF(J44=L1,3,0)))))))) -> 0 | M44: =IF(C44=M1,11,IF(D44=M1,9,IF(E44=M1,8,IF(F44=M1,7,IF(G44=M1,6,IF(H44=M1,5,IF(I44=M1,4,IF(J44=M1,3,0)))))))) -> 0 | N44: =IF(C44=N1,11,IF(D44=N1,9,IF(E44=N1,8,IF(F44=N1,7,IF(G44=N1,6,IF(H44=N1,5,IF(I44=N1,4,IF(J44=N1,3,0)))))))) -> 0 | O44: =IF(C44=O1,11,IF(D44=O1,9,IF(E44=O1,8,IF(F44=O1,7,IF(G44=O1,6,IF(H44=O1,5,IF(I44=O1,4,IF(J44=O1,3,0)))))))) -> 0 | P44: 7 | Q44: =IF(C44=Q1,11,IF(D44=Q1,9,IF(E44=Q1,8,IF(F44=Q1,7,IF(G44=Q1,6,IF(H44=Q1,5,IF(I44=Q1,4,IF(J44=Q1,3,0)))))))) -> 0 | R44: 8
A45: 4 x 100m | B45: Perf. | C45: 51.75 | D45: 53.78 | E45: 1.03.89
J46: Totals | K46: =SUM(K44+K42+K39+K36+K33+K30+K27+K24+K21+K18+K15+K12+K9+K6+K3) -> 63 | L46: =SUM(L44+L42+L39+L36+L33+L30+L27+L24+L21+L18+L15+L12+L9+L6+L3) -> 40 | M46: =SUM(M44+M42+M39+M36+M33+M30+M27+M24+M21+M18+M15+M12+M9+M6+M3) -> 0 | N46: =SUM(N44+N42+N39+N36+N33+N30+N27+N24+N21+N18+N15+N12+N9+N6+N3) -> 0 | O46: =SUM(O44+O42+O39+O36+O33+O30+O27+O24+O21+O18+O15+O12+O9+O6+O3) -> 37 | P46: =SUM(P44+P42+P39+P36+P33+P30+P27+P24+P21+P18+P15+P12+P9+P6+P3) -> 50 | Q46: =SUM(Q44+Q42+Q39+Q36+Q33+Q30+Q27+Q24+Q21+Q18+Q15+Q12+Q9+Q6+Q3) -> 6 | R46: =SUM(R44+R42+R39+R36+R33+R30+R27+R24+R21+R18+R15+R12+R9+R6+R3) -> 39
J47: Position | K47: 1 | L47: 3 | O47: 5 | P47: 2 | Q47: 6 | R47: 4
K48: =K1 -> CAAC | L48: =L1 -> Elgin | M48: =M1 -> ES | N48: =N1 -> FH | O48: =O1 -> IH | P48: =P1 -> MRR | Q48: =Q1 -> NAAC | R48: =R1 -> RC

Sheet Results
A1: Age Gp | B1: Date | C1: CAAC | D1: Elgin | E1: ES | F1: FH | G1: IH | H1: MRR | I1: NAAC | J1: RC | K1: Age Gp | L1: Date | M1: CAAC | N1: Elgin | O1: ES | P1: FH | Q1: IH | R1: MRR | S1: NAAC | T1: RC
C2: =U11G!K46 -> 43 | D2: =U11G!L46 -> 0 | E2: =U11G!M46 -> 0 | F2: =U11G!N46 -> 0 | G2: =U11G!O46 -> 67 | H2: =U11G!P46 -> 25 | I2: =U11G!Q46 -> 37 | J2: =U11G!R46 -> 57 | M2: =U11B!L46 -> 7
A3: UNDER 11 GIRLS | K3: UNDER 11 BOYS
B5: Meeting 1 | C5: 41 | G5: 46 | H5: 27 | I5: 35 | J5: 62 | L5: Meeting 1 | M5: 32 | N5: 7 | O5: 20 | P5: 12 | Q5: 45 | R5: 38 | S5: 37 | T5: 66
B6: Meeting 2 | C6: =C2 -> 43 | D6: =D2 -> 0 | E6: =E2 -> 0 | F6: =F2 -> 0 | G6: =G2 -> 67 | H6: =H2 -> 25 | I6: =I2 -> 37 | J6: =J2 -> 57 | L6: Meeting 2 | M6: 47 | N6: 7 | O6: 0 | P6: 16 | Q6: 39 | R6: 30 | S6: 60 | T6: 58
A7: Running Total = | C7: =SUM(C3:C6) -> 84 | D7: =SUM(D3:D6) -> 0 | E7: =SUM(E3:E6) -> 0 | F7: =SUM(F3:F6) -> 0 | G7: =SUM(G3:G6) -> 113 | H7: =SUM(H3:H6) -> 52 | I7: =SUM(I3:I6) -> 72 | J7: =SUM(J3:J6) -> 119 | K7: Running Total = | M7: =SUM(M3:M6) -> 79 | N7: =SUM(N3:N6) -> 14 | O7: =SUM(O3:O6) -> 20 | P7: =SUM(P3:P6) -> 28 | Q7: =SUM(Q3:Q6) -> 84 | R7: =SUM(R3:R6) -> 68 | S7: =SUM(S3:S6) -> 97 | T7: =SUM(T3:T6) -> 124
C8: =U13G!K46 -> 36 | D8: =U13G!L46 -> 0 | E8: =U13G!M46 -> 20 | F8: =U13G!N46 -> 0 | G8: =U13G!O46 -> 76 | H8: =U13G!P46 -> 43 | I8: =U13G!Q46 -> 0 | J8: =U13G!R46 -> 78 | M8: =U13B!K46 -> 37 | N8: =U13B!L46 -> 35 | O8: =U13B!M46 -> 0 | P8: =U13B!N46 -> 0 | Q8: =U13B!O46 -> 73 | R8: =U13B!P46 -> 41 | S8: =U13B!Q46 -> 71 | T8: =U13B!R46 -> 73
A9: UNDER 13 GIRLS | K9: UNDER 13 BOYS
B11: Meeting 1 | C11: 0 | D11: 29 | E11: 13 | F11: 0 | G11: 65 | H11: 79 | I11: 42 | J11: 78 | L11: Meeting 1 | M11: 41 | N11: 41 | O11: 0 | P11: 0 | Q11: 73 | R11: 37 | S11: 63 | T11: 78
B12: Meeting 2 | C12: =C8 -> 36 | D12: =D8 -> 0 | E12: =E8 -> 20 | F12: =F8 -> 0 | G12: =G8 -> 76 | H12: =H8 -> 43 | I12: =I8 -> 0 | J12: =J8 -> 78 | L12: Meeting 2 | M12: =M8 -> 37 | N12: =N8 -> 35 | O12: =O8 -> 0 | P12: =P8 -> 0 | Q12: =Q8 -> 73 | R12: =R8 -> 41 | S12: =S8 -> 71 | T12: =T8 -> 73
A13: Running Total = | C13: =SUM(C9:C12) -> 36 | D13: =SUM(D9:D12) -> 29 | E13: =SUM(E9:E12) -> 33 | F13: =SUM(F9:F12) -> 0 | G13: =SUM(G9:G12) -> 141 | H13: =SUM(H9:H12) -> 122 | I13: =SUM(I9:I12) -> 42 | J13: =SUM(J9:J12) -> 156 | K13: Running Total = | M13: =SUM(M9:M12) -> 78 | N13: =SUM(N9:N12) -> 76 | O13: =SUM(O9:O12) -> 0 | P13: =SUM(P9:P12) -> 0 | Q13: =SUM(Q9:Q12) -> 146 | R13: =SUM(R9:R12) -> 78 | S13: =SUM(S9:S12) -> 134 | T13: =SUM(T9:T12) -> 151
C14: =U15G!K46 -> 45 | D14: =U15G!L46 -> 48 | E14: =U15G!M46 -> 13 | F14: =U15G!N46 -> 0 | G14: =U15G!O46 -> 71 | H14: =U15G!P46 -> 56 | I14: =U15G!Q46 -> 46 | J14: =U15G!R46 -> 46 | M14: =U15B!K46 -> 0 | N14: =U15B!L46 -> 0 | O14: =U15B!M46 -> 36 | P14: =U15B!N46 -> 4 | Q14: =U15B!O46 -> 79 | R14: =U15B!P46 -> 31 | S14: =U15B!Q46 -> 45 | T14: =U15B!R46 -> 56
A15: UNDER 15 GIRLS | K15: UNDER 15 BOYS
B17: Meeting 1 | C17: 12 | D17: 57 | E17: 7 | F17: 0 | G17: 67 | H17: 63 | I17: 11 | J17: 45 | L17: Meeting 1 | M17: 0 | N17: 16 | O17: 11 | P17: 13 | Q17: 84 | R17: 0 | S17: 20 | T17: 32
B18: Meeting 2 | C18: =C14 -> 45 | D18: =D14 -> 48 | E18: =E14 -> 13 | F18: =F14 -> 0 | G18: =G14 -> 71 | H18: =H14 -> 56 | I18: =I14 -> 46 | J18: =J14 -> 46 | L18: Meeting 2 | M18: =M14 -> 0 | N18: =N14 -> 0 | O18: =O14 -> 36 | P18: =P14 -> 4 | Q18: =Q14 -> 79 | R18: =R14 -> 31 | S18: =S14 -> 45 | T18: =T14 -> 56
A19: Running Total = | C19: =SUM(C15:C18) -> 57 | D19: =SUM(D15:D18) -> 105 | E19: =SUM(E15:E18) -> 20 | F19: =SUM(F15:F18) -> 0 | G19: =SUM(G15:G18) -> 138 | H19: =SUM(H15:H18) -> 119 | I19: =SUM(I15:I18) -> 57 | J19: =SUM(J15:J18) -> 91 | K19: Running Total = | M19: =SUM(M15:M18) -> 0 | N19: =SUM(N15:N18) -> 16 | O19: =SUM(O15:O18) -> 47 | P19: =SUM(P15:P18) -> 17 | Q19: =SUM(Q15:Q18) -> 163 | R19: =SUM(R15:R18) -> 31 | S19: =SUM(S15:S18) -> 65 | T19: =SUM(T15:T18) -> 88
C20: =U17W!K46 -> 0 | D20: =U17W!L46 -> 72 | E20: =U17W!M46 -> 0 | F20: =U17W!N46 -> 0 | G20: =U17W!O46 -> 83 | H20: =U17W!P46 -> 32 | I20: =U17W!Q46 -> 12 | J20: =U17W!R46 -> 0 | M20: =U17M!K46 -> 19 | N20: =U17M!L46 -> 0 | O20: =U17M!M46 -> 0 | P20: =U17M!N46 -> 20 | Q20: =U17M!O46 -> 43 | R20: =U17M!P46 -> 27 | S20: =U17M!Q46 -> 0 | T20: =U17M!R46 -> 83
A21: UNDER 17 WOMEN | K21: UNDER 17 MEN
B23: Meeting 1 | C23: 0 | D23: 64 | E23: 0 | F23: 0 | G23: 79 | H23: 13 | I23: 0 | J23: 5 | L23: Meeting 1 | M23: 45 | N23: 0 | O23: 0 | P23: 20 | Q23: 48 | R23: 10 | S23: 0 | T23: 62
B24: Meeting 2 | C24: =C20 -> 0 | D24: =D20 -> 72 | E24: =E20 -> 0 | F24: =F20 -> 0 | G24: =G20 -> 83 | H24: =H20 -> 32 | I24: =I20 -> 12 | J24: =J20 -> 0 | L24: Meeting 2 | M24: =M20 -> 19 | N24: =N20 -> 0 | O24: =O20 -> 0 | P24: =P20 -> 20 | Q24: 43 | R24: =R20 -> 27 | S24: =S20 -> 0 | T24: =T20 -> 83
A25: Running Total = | C25: =SUM(C21:C24) -> 0 | D25: =SUM(D21:D24) -> 136 | E25: =SUM(E21:E24) -> 0 | F25: =SUM(F21:F24) -> 0 | G25: =SUM(G21:G24) -> 162 | H25: =SUM(H21:H24) -> 45 | I25: =SUM(I21:I24) -> 12 | J25: =SUM(J21:J24) -> 5 | K25: Running Total = | M25: =SUM(M21:M24) -> 64 | N25: =SUM(N21:N24) -> 0 | O25: =SUM(O21:O24) -> 0 | P25: =SUM(P21:P24) -> 40 | Q25: =SUM(Q21:Q24) -> 91 | R25: =SUM(R21:R24) -> 37 | S25: =SUM(S21:S24) -> 0 | T25: =SUM(T21:T24) -> 145
C26: =SW!K46 -> 0 | D26: =SW!L46 -> 11 | E26: =SW!M46 -> 0 | F26: =SW!N46 -> 0 | G26: =SW!O46 -> 39 | H26: =SW!P46 -> 42 | I26: =SW!Q46 -> 23 | J26: =SW!R46 -> 26 | M26: =SM!K46 -> 63 | N26: =SM!L46 -> 40 | O26: =SM!M46 -> 0 | P26: =SM!N46 -> 0 | Q26: =SM!O46 -> 37 | R26: =SM!P46 -> 50 | S26: =SM!Q46 -> 6 | T26: =SM!R46 -> 39
A27: SENIOR WOMEN | K27: SENIOR MEN
B29: Meeting 1 | C29: 0 | D29: 0 | E29: 0 | F29: 0 | G29: 32 | H29: 35 | I29: 45 | J29: 0 | L29: Meeting 1 | M29: 58 | N29: 0 | O29: 0 | P29: 0 | Q29: 56 | R29: 26 | S29: 0 | T29: 39
B30: Meeting 2 | C30: =C26 -> 0 | D30: =D26 -> 11 | E30: =E26 -> 0 | F30: =F26 -> 0 | G30: =G26 -> 39 | H30: =H26 -> 42 | I30: =I26 -> 23 | J30: =J26 -> 26 | L30: Meeting 2 | M30: =M26 -> 63 | N30: =N26 -> 40 | O30: =O26 -> 0 | P30: =P26 -> 0 | Q30: =Q26 -> 37 | R30: =R26 -> 50 | S30: =S26 -> 6 | T30: =T26 -> 39
A31: Running Total = | C31: =SUM(C27:C30) -> 0 | D31: =SUM(D27:D30) -> 11 | E31: =SUM(E27:E30) -> 0 | F31: =SUM(F27:F30) -> 0 | G31: =SUM(G27:G30) -> 71 | H31: =SUM(H27:H30) -> 77 | I31: =SUM(I27:I30) -> 68 | J31: =SUM(J27:J30) -> 26 | K31: Running Total = | M31: =SUM(M27:M30) -> 121 | N31: =SUM(N27:N30) -> 40 | O31: =SUM(O27:O30) -> 0 | P31: =SUM(P27:P30) -> 0 | Q31: =SUM(Q27:Q30) -> 93 | R31: =SUM(R27:R30) -> 76 | S31: =SUM(S27:S30) -> 6 | T31: =SUM(T27:T30) -> 78
A32: Female Points | K32: Male Points
B34: Meeting 1 | C34: 53 | D34: 150 | E34: 20 | F34: 0 | G34: 289 | H34: 217 | I34: 133 | J34: 190 | L34: Meeting 1 | M34: 176 | N34: 64 | O34: 31 | P34: 45 | Q34: 306 | R34: 111 | S34: 120 | T34: 277
B35: Meeting 2 | C35: =SUM(C6,C12,C18,C24,C30) -> 124 | D35: =SUM(D6,D12,D18,D24,D30) -> 131 | E35: =SUM(E6,E12,E18,E24,E30) -> 33 | F35: =SUM(F6,F12,F18,F24,F30) -> 0 | G35: =SUM(G6,G12,G18,G24,G30) -> 336 | H35: =SUM(H6,H12,H18,H24,H30) -> 198 | I35: =SUM(I6,I12,I18,I24,I30) -> 118 | J35: =SUM(J6,J12,J18,J24,J30) -> 207 | L35: Meeting 2 | M35: =SUM(M6,M12,M18,M24,M30) -> 166 | N35: =SUM(N6,N12,N18,N24,N30) -> 82 | O35: =SUM(O6,O12,O18,O24,O30) -> 36 | P35: =SUM(P6,P12,P18,P24,P30) -> 40 | Q35: =SUM(Q6,Q12,Q18,Q24,Q30) -> 271 | R35: =SUM(R6,R12,R18,R24,R30) -> 179 | S35: =SUM(S6,S12,S18,S24,S30) -> 182 | T35: =SUM(T6,T12,T18,T24,T30) -> 309
A36: Running Total = | C36: =SUM(C32:C35) -> 177 | D36: =SUM(D32:D35) -> 281 | E36: =SUM(E32:E35) -> 53 | F36: =SUM(F32:F35) -> 0 | G36: =SUM(G32:G35) -> 625 | H36: =SUM(H32:H35) -> 415 | I36: =SUM(I32:I35) -> 251 | J36: =SUM(J32:J35) -> 397 | K36: Running Total = | M36: =SUM(M32:M35) -> 342 | N36: =SUM(N32:N35) -> 146 | O36: =SUM(O32:O35) -> 67 | P36: =SUM(P32:P35) -> 85 | Q36: =SUM(Q32:Q35) -> 577 | R36: =SUM(R32:R35) -> 290 | S36: =SUM(S32:S35) -> 302 | T36: =SUM(T32:T35) -> 586
A37: League Pts | B37: Meeting 1 | C37: 3 | D37: 5 | E37: 2 | G37: 8 | H37: 7 | I37: 4 | J37: 6 | K37: League Pts | L37: Meeting 1 | M37: 6 | N37: 3 | O37: 1 | P37: 2 | Q37: 8 | R37: 4 | S37: 5 | T37: 7
B38: Meeting 2 | C38: 4 | D38: 5 | E38: 2 | G38: 8 | H38: 6 | I38: 3 | J38: 7 | L38: Meeting 2 | M38: 4 | N38: 3 | O38: 1 | P38: 2 | Q38: 7 | R38: 5 | S38: 6 | T38: 8
B39: Meeting 3 | L39: Meeting 3
B40: Meeting 4 | L40: Meeting 4
B41: Meeting 2 | L41: Meeting 2
B42: Meeting 3 | L42: Meeting 3
B43: Meeting 4 | L43: Meeting 4
A44: Overall Total = | C44: =SUM(C37:C43) -> 7 | D44: =SUM(D37:D43) -> 10 | E44: =SUM(E37:E43) -> 4 | F44: =SUM(F37:F43) -> 0 | G44: =SUM(G37:G43) -> 16 | H44: =SUM(H37:H43) -> 13 | I44: =SUM(I37:I43) -> 7 | J44: =SUM(J37:J43) -> 13 | K44: Overall Total = | M44: =SUM(M37:M43) -> 10 | N44: =SUM(N37:N43) -> 6 | O44: =SUM(O37:O43) -> 2 | P44: =SUM(P37:P43) -> 4 | Q44: =SUM(Q37:Q43) -> 15 | R44: =SUM(R37:R43) -> 9 | S44: =SUM(S37:S43) -> 11 | T44: =SUM(T37:T43) -> 15
A45: CURRENT POSITION | C45: 5= | D45: 4 | E45: 7 | G45: 1 | H45: 2= | I45: 5= | J45: 2= | K45: CURRENT POSITION | M45: 4 | N45: 6 | O45: 8 | P45: 7 | Q45: 1= | R45: 5 | S45: 3 | T45: 1=

Sheet N-Crs
A1: Age Gp | B1: Club | C1: Event | D1: Females / Name | E1: Performance | G1: Age Gp | H1: Club | I1: Event | J1: Males / Name | K1: Performance
A2: U11 Girls | B2: IH | C2: 100m | D2: Skye Simmons | E2: 17.35 | G2: U11 Boys | H2: NAAC | I2: 100m | J2: Chase Whitelaw | K2: 15.43
A3: U11 Girls | B3: NAAC | C3: 100m | D3: Amber McClatchey | E3: 17.63 | G3: U11 Boys | H3: MRR | I3: 100m | J3: Finlay Weir | K3: 16.34
A4: U13 Girls | B4: RC | C4: 100m | D4: Morag Lynch | E4: 15.92 | G4: U11 Boys | H4: MRR | I4: 100m | J4: Ben Ross | K4: 16.58
A5: U13 Girls | B5: RC | C5: 100m | D5: Caitlyn Heggie | E5: 16.16 | G5: U11 Boys | H5: RC | I5: 100m | J5: Angus Porter | K5: 17.43
A6: U15 Girls | B6: IH | C6: 100m | D6: Melissa Mack | E6: 13.92 | G6: U11 Boys | H6: MRR | I6: 100m | J6: Conner Cameron | K6: 17.86
A7: U17 Women | B7: Elgin | C7: 100m | D7: Eve Tulloch | E7: 14.19 | G7: U11 Boys | H7: MRR | I7: 100m | J7: Lucas MacPherson | K7: 18.44
A8: U17 Women | B8: IH | C8: 100m | D8: Chloe Watson | E8: 14.05 | G8: U13 Boys | H8: NAAC | I8: 100m | J8: Matthew Saunders | K8: 15.76
A9: U13 Girls | B9: IH | C9: 200m | D9: Stroma Fraser +1.7 | E9: 28.02 | G9: U13 Boys | H9: RC | I9: 100m | J9: Alistair Young | K9: 15.82
A10: U13 Girls | B10: RC | C10: 200m | D10: Iona MacLennan | E10: 32.66 | G10: U13 Boys | H10: IH | I10: 100m | J10: Adam Wathkins | K10: 15.4
A11: U13 Girls | B11: IH | C11: 200m | D11: Eva Ryan | E11: 38.75 | G11: U13 Boys | H11: NAAC | I11: 100m | J11: Joe MacPherson | K11: 16
A12: U13 Girls | B12: RC | C12: 200m | D12: Ruby Wittka Jezewski | E12: 30.98 | G12: U15 Boys | H12: IH | I12: 100m | J12: Juel Choppy Madeliene | K12: 14.16
A13: U13 Girls | B13: RC | C13: 200m | D13: Femke Waite | E13: 32.49 | G13: U15 Boys | H13: IH | I13: 100m | J13: Lucas Allan | K13: 13.17
... A17: U15 Girls | B17: IH | C17: 300m | D17: Ruth Wilson | E17: 54.24 | G17: U13 Boys | H17: NAAC | I17: 200m | J17: Eoghain Sutherland | K17: 36.98
A18: U11 Girls | B18: RC | C18: 800m | D18: Holly Stewart | E18: 2.57.79 | G18: U13 Boys | H18: Elgin | I18: 200m | J18: Finlay Beange | K18: 31.72
A19: U15 Girls | B19: NAAC | C19: 1500m | D19: Chloe McEwan | E19: 6.04.67 | G19: S Men | I19: 400m | J19: Ewan Bradley | K19: 54.15
A20: U17 Women | B20: IH | C20: 1500m | D20: Eva Gardiner | E20: 5.19.52 | G20: U11 Boys | H20: CAAC | I20: 800m | J20: Tyler Gordon | K20: 3.09.54
A21: U17 Women | B21: IH | C21: 1500m | D21: Rachal Gillies | E21: 5.39.20 | G21: U11 Boys | H21: MRR | I21: 800m | J21: Harry Long | K21: 3.16.53
A22: U17 Women | B22: IH | C22: 1500m | D22: Alisa Hewick | E22: 6.01.42 | G22: U11 Boys | H22: MRR | I22: 800m | J22: Zack Gill | K22: 2.55.75
A23: U11 Girls | B23: IH | C23: S Putt | D23: Eve Mitchell | E23: 3.8 | G23: U11 Boys | H23: NAAC | I23: 800m | J23: Joshua Thomson | K23: 3.04.12
A24: U11 Girls | B24: RC | C24: S Putt | D24: Tayler Barlow | E24: 4.31 | G24: U11 Boys | H24: NAAC | I24: 800m | J24: Chase Whitelaw | K24: 3.06.26
A25: U13 Girls | B25: RC | C25: H Jump | D25: Iona MacLennan | E25: 1.05 | G25: U11 Boys | H25: MRR | I25: 800m | J25: Lucas MacPherson | K25: 3.25.05
A26: U13 Girls | B26: RC | C26: H Jump | D26: Isla Marwick | E26: 1.05 | G26: U13 Boys | H26: MRR | I26: 1500m | J26: Rhys Cantlie | K26: 5.46.03
A27: U13 Girls | B27: IH | C27: H Jump | D27: Anna Cairns | E27: 1.25 | G27: U13 Boys | H27: MRR | I27: 1500m | J27: Lewis Paterson | K27: 6.03.79
A28: U15 Girls | B28: NAAC | C28: L Jump | D28: Chloe McEwan | E28: 2.58 | G28: U15 Boys | H28: IH | I28: 1500m | J28: Duncan MacDonald | K28: 4.57.56
A29: U15 Girls | B29: RC | C29: L Jump | D29: Kirsten Leeper | E29: 4.2 | G29: U17 Men | H29: RC | I29: 1500m | J29: Kyle Sutherland | K29: 4.49.50
A30: U15 Girls | B30: IH | C30: Javelin | D30: Ruth Wilson | E30: 11.18 | G30: U11 Boys | H30: NAAC | I30: S Putt | J30: Joshua Thomson | K30: 4.13
A31: U17 Women | B31: IH | C31: L Jump | D31: Rachel Johnstone | E31: 4.91 | G31: U11 Boys | H31: NAAC | I31: H Jump | J31: Aaron Craigie | K31: 1
G32: U13 Boys | H32: NAAC | I32: Javelin | J32: Joe MacPherson | K32: 10.12
G33: U13 Boys | H33: NAAC | I33: Javelin | J33: Eoghain Sutherland | K33: 11.83
G34: U13 Boys | H34: IH | I34: H Jump | J34: Finn Hewick | K34: 1.15
G35: U15 Boys | H35: IH | I35: Javelin | J35: Dan Lathan | K35: 15.83
G36: U11 Boys | H36: MRR | I36: 800m | J36: Ben Ross | K36: 3.13.29

Sheet Data
A1: Do not touch this page
A3: CAAC | C3: Caithness | E3: 60m
A4: Elgin | C4: Elgin AAC | E4: 80m
A5: ES | C5: East Sutherland | E5: 100m
A6: FH | C6: Forres Harriers | E6: 150m
A7: IH | C7: Inverness Harriers | E7: 200m
A8: MRR | C8: Moray Roadrunners | E8: 300m
A9: NAAC | C9: Nairn AAC | E9: 400m
A10: RC | C10: Ross County | E10: 600m
E11: 800m
A12: DO NOT REMOVE | E12: 1000m
E13: 1200m
E14: 1500m | G14: Events
A15: U11 Girls | E15: 3000m
A16: U13 Girls | E16: 70m H
A17: U15 Girls | E17: 75m H
A18: U17 Women | E18: 80m H
A19: S Women | C19: Age Groups | E19: 100m H
A20: U11 Boys | E20: 110m H
A21: U13 Boys | E21: 300m H
A22: U15 Boys | E22: 400m H
A23: U17 Men | E23: L Jump
A24: S Men | E24: T Jump
E25: H Jump
E26: P Vault
A27: DO NOT REMOVE | E27: S Putt
E28: Hammer
E29: Javelin
E30: Discus
A31: 4 x 100m
A32: 4 x 200m | C32: Relays | E32: DO NOT REMOVE
A33: 4 x 400m
