Workbook
Name _GoBack: 'Field Results'!#REF!
Name _GoBack: 'Match 3 Timetable'!$D$18
Name _GoBack: 'Start lists'!#REF!
Name _GoBack: 'Track Results'!#REF!

Sheet Match 3 Timetable
A1: YDL Match 3 | I1: 22nd June 2014
A3: Track | F3: Field
A5: Time | F5: Time
A6: 12.00pm | C6: U17M | D6: 100m H
A7: 12.20pm | C7: U17W | D7: 80m H | F7: 13.00pm | H7: U17M | I7: Pole Vault 'A' String only
A9: 13.30pm | C9: U17W | D9: 200m
A10: 13.35pm | C10: U17M | D10: 200m | F10: 13.00pm | H10: U17M | I10: Shot
A12: 14.20pm | C12: U17M | D12: 800m | F12: 14.00pm | H12: U17M | I12: High Jump
A13: 14.30pm | C13: U17M | D13: 800m
F14: 3.00pm | H14: U17W | I14: Long Jump
A15: 15.10pm | C15: U17W | D15: 100m
A16: 15.20pm | C16: U17M | D16: 100m
F17: 3.30pm | H17: U17W | I17: Shot
A18: 16.30pm | C18: U17W | D18: 1500m
A19: 16.40pm | C19: U17M | D19: 1500m
A20: 17.10pm | C20: U17M | D20: 4x100m Relay
A21: 17.15pm | C21: U17W | D21: 4x100m Relay

Sheet Teams
A1: Club | B1: A string | C1: B string
A2: AAAC | B2: 1 | C2: 11
A3: ADAC | B3: 2 | C3: 22
A4: BSAC | B4: 3 | C4: 33
A5: DHH | B5: 4 | C5: 44
A6: IH | B6: 5 | C6: 55
A7: ISA | B7: 6 | C7: 66
A8: MAC_PSH | B8: 7 | C8: 77
A9: TN | B9: 8 | C9: 88
B11: PLEASE DO NOT ALTER NAMES BELOW
A12: =B2 -> 1 | B12: =A2 -> AAAC
A13: =C2 -> 11 | B13: =A2 -> AAAC
A14: =B3 -> 2 | B14: =A3 -> ADAC
A15: =C3 -> 22 | B15: =A3 -> ADAC
A16: =B4 -> 3 | B16: =A4 -> BSAC
A17: =C4 -> 33 | B17: =A4 -> BSAC
A18: =B5 -> 4 | B18: =A5 -> DHH
A19: =C5 -> 44 | B19: =A5 -> DHH
A20: =B6 -> 5 | B20: =A6 -> IH
A21: =C6 -> 55 | B21: =A6 -> IH
A22: =B7 -> 6 | B22: =A7 -> ISA
A23: =C7 -> 66 | B23: =A7 -> ISA
A24: =B8 -> 7 | B24: =A8 -> MAC_PSH
A25: =C8 -> 77 | B25: =A8 -> MAC_PSH
A26: =B9 -> 8 | B26: =A9 -> TN
A27: =C9 -> 88 | B27: =A9 -> TN
A28: =B10 -> 0 | B28: =A10 -> 0
A29: =C10 -> 0 | B29: =A10 -> 0

Sheet AAAC-U17
B1: ABERDEEN - U17 DECLARATION SHEET
B2: TEAM DECLARATION - 2018
B4: Division | C4: North East | F4: Club | G4: Aberdeen AAC
B6: Venue | C6: Inverness | F6: Date | G6: 43212
B8: U17M | F8: U17W
B10: 100m | C10: A | D10: Tobi Fatona | F10: 100m | G10: A | H10: Mia Keogh | L10: =B10 -> 100m | M10: =F10 -> 100m
C11: B | D11: Ryan Matheson | G11: B | H11: Sophie Dickie-Moir | L11: =B12 -> 400m | M11: =F12 -> 300m
B12: 400m | C12: A | D12: James McIntosh | F12: 300m | G12: A | H12: Kirsty Purcell | L12: =B14 -> 800m | M12: =F14 -> 800m
C13: B | D13: Adam Brown | G13: B | H13: Jess Daniel | L13: =B16 -> 400mH | M13: =F16 -> 300mH
B14: 800m | C14: A | D14: Harry Hall | F14: 800m | G14: A | H14: Georgia Morrison | L14: HJ | M14: PV
C15: B | D15: Adam Brown | G15: B | H15: Caitlin Purcell | L15: HT | M15: JT
B16: 400mH | C16: A | F16: 300mH | G16: A | H16: Jane Davidson | L16: JT | M16: HJ
C17: B | G17: B | H17: Erin Williams | L17: SP
B18: 4 x 100m Relay | C18: 1 | D18: Harry Hall | F18: 4 x 100m Relay | G18: 1 | H18: Jane Davidson
C19: 2 | D19: Tobi Fatona | G19: 2 | H19: Mia Keogh
C20: 3 | D20: Ryan Matheson | G20: 3 | H20: Erin Williams
C21: 4 | D21: James McIntosh | G21: 4 | H21: Jess Daniel
B23: High Jump | C23: A | D23: Ryan Matheson | F23: Pole Vault | G23: A
C24: B | D24: James McIntosh | G24: B
B25: Hammer | C25: A | F25: Javelin | G25: A | H25: Jane Davidson
C26: B | G26: B | H26: Erin Williams
B27: Javelin | C27: A | D27: Tobi Fatona | F27: High Jump | G27: A | H27: Ella Thoms
C28: B | D28: Adam Brown | G28: B | H28: Abigail Robertson
B29: Shot Put | C29: A | D29: Ryan Matheson | F29: Shot Put | G29: A
C30: B | D30: James McIntosh | G30: B
B32: Non Counters
B33: Event | C33: No | D33: Name | F33: Event | G33: No | H33: Name
B49: Team Manager

Sheet AAAC-U20
B1: ABERDEEN - U20 DECLARATION SHEET
B2: TEAM DECLARATION - 2018
B4: Division | C4: North East | F4: Club | G4: Aberdeen AAC
B6: Venue | C6: Inverness | F6: Date | G6: 43212
B8: U20M | F8: U20W
B10: 100m | C10: A | D10: Struan Linton | F10: 100m | G10: A | H10: Rebecca Matheson | L10: =B10 -> 100m | M10: =F10 -> 100m
C11: B | D11: Callum Davidson | G11: B | H11: Rachelle Matheson | L11: =B12 -> 400m | M11: =F12 -> 400m
B12: 400m | C12: A | D12: Callum Davidson | F12: 400m | G12: A | L12: =B14 -> 800m | M12: =F14 -> 800m
C13: B | G13: B | L13: =B16 -> 400mH | M13: =F16 -> 400mH
B14: 800m | C14: A | D14: Aaron Odentz | F14: 800m | G14: A | H14: Kirsty Purcell | L14: HJ | M14: PV
C15: B | G15: B | L15: HT | M15: LJ
B16: 400mH | C16: A | F16: 400mH | G16: A | L16: LJ | M16: HJ
C17: B | G17: B | L17: SP | M17: HT
B18: 4 x 100m Relay | C18: 1 | F18: 4 x 100m Relay | G18: 1
C19: 2 | G19: 2
C20: 3 | G20: 3
C21: 4 | G21: 4
B23: High Jump | C23: A | F23: Pole Vault | G23: A
C24: B | G24: B
B25: Hammer | C25: A | D25: John Angus | F25: Long Jump | G25: A
C26: B | G26: B
B27: Long Jump | C27: A | F27: High Jump | G27: A
C28: B | G28: B
B29: Shot Put | C29: A | D29: John Angus | F29: Hammer | G29: A
C30: B | G30: B
B32: Non Counters
B33: Event | C33: No | D33: Name | F33: Event | G33: No | H33: Name
B49: Team Manager

Sheet ADAC-U17
B1: ARBROATH - U17 DECLARATION SHEET
B2: TEAM DECLARATION - 2018
B4: Division | C4: North East | F4: Club | G4: Arbroath and District AC
B6: Venue | C6: Inverness | F6: Date | G6: 43212
B8: U17M | F8: U17W
B10: 100m | C10: A | F10: 100m | G10: A | H10: Rachel Lorimer | L10: =B10 -> 100m | M10: 100m
C11: B | G11: B | H11: Lucy Nicoll | L11: =B12 -> 400m | M11: =F12 -> 300m
B12: 400m | C12: A | F12: 300m | G12: A | H12: Rachel Lorimer | L12: =B14 -> 800m | M12: =F14 -> 800m
C13: B | G13: B | H13: Lucy Nicoll | L13: =B16 -> 400mH | M13: =F16 -> 300mH
B14: 800m | C14: A | F14: 800m | G14: A | L14: HJ | M14: PV
C15: B | G15: B | L15: HT | M15: JT
B16: 400mH | C16: A | F16: 300mH | G16: A | H16: Lucy Nicoll | L16: JT | M16: HJ
C17: B | G17: B | L17: SP
B18: 4 x 100m Relay | C18: 1 | F18: 4 x 100m Relay | G18: 1
C19: 2 | G19: 2
C20: 3 | G20: 3
C21: 4 | G21: 4
B23: High Jump | C23: A | F23: Pole Vault | G23: A
C24: B | G24: B
B25: Hammer | C25: A | F25: Javelin | G25: A
C26: B | G26: B
B27: Javelin | C27: A | F27: High Jump | G27: A
C28: B | G28: B
B29: Shot Put | C29: A | G29: A
C30: B | G30: B
B32: Non Counters
B33: Event | C33: No | D33: Name | F33: Event | G33: No | H33: Name

Sheet ADAC-U20
B1: ARBROATH - U20 DECLARATION SHEET
B2: 0
B4: Division | C4: North East | F4: Club | G4: Arbroath and District AC
B6: Venue | C6: Inverness | F6: Date | G6: 43212
B8: U20M | F8: U20W
B10: 100m | C10: A | F10: 100m | G10: A | L10: =B10 -> 100m | M10: =F10 -> 100m
C11: B | G11: B | L11: =B12 -> 400m | M11: =F12 -> 400m
B12: 400m | C12: A | F12: 400m | G12: A | L12: =B14 -> 800m | M12: =F14 -> 800m
C13: B | G13: B | L13: =B16 -> 400mH | M13: =F16 -> 400mH
B14: 800m | C14: A | F14: 800m | G14: A | L14: HJ | M14: PV
C15: B | G15: B | L15: HT | M15: LJ
B16: 400mH | C16: A | F16: 400mH | G16: A | L16: LJ | M16: HJ
C17: B | G17: B | L17: SP | M17: HT
B18: 4 x 100m Relay | C18: 1 | F18: 4 x 100m Relay | G18: 1
C19: 2 | G19: 2
C20: 3 | G20: 3
C21: 4 | G21: 4
B23: High Jump | C23: A | F23: Pole Vault | G23: A
C24: B | G24: B
B25: Hammer | C25: A | F25: Long Jump | G25: A
C26: B | G26: B
B27: Long Jump | C27: A | F27: High Jump | G27: A
C28: B | G28: B
B29: Shot Put | C29: A | F29: Hammer | G29: A
C30: B | G30: B
B32: Non Counters
B33: Event | C33: No | D33: Name | F33: Event | G33: No | H33: Name
B49: Team Manager

Sheet BSAC-U17
B1: BANCHORY - U17 DECLARATION SHEET
B2: TEAM DECLARATION - 2018
B4: Division | C4: North East | F4: Club | G4: Banchory Stonehaven AC
B6: Venue | C6: Inverness | F6: Date | G6: 43212
B8: U17M | F8: U17W
B10: 100m | C10: A | D10: Craig Strachen | F10: 100m | G10: A | L10: =B10 -> 100m | M10: =F10 -> 100m
C11: B | G11: B | L11: =B12 -> 400m | M11: =F12 -> 300m
B12: 400m | C12: A | D12: Craig Strachen | F12: 300m | G12: A | L12: =B14 -> 800m | M12: =F14 -> 800m
C13: B | D13: Ralph Silcock | G13: B | L13: =B16 -> 400mH | M13: =F16 -> 300mH
B14: 800m | C14: A | F14: 800m | G14: A | L14: HJ | M14: PV
C15: B | G15: B | L15: HT | M15: JT
B16: 400mH | C16: A | F16: 300mH | G16: A | L16: JT | M16: HJ
C17: B | G17: B | L17: SP
B18: 4 x 100m Relay | C18: 1 | F18: 4 x 100m Relay | G18: 1
C19: 2 | G19: 2
C20: 3 | G20: 3
C21: 4 | G21: 4
B23: High Jump | C23: A | D23: Logan Johnstone | F23: Pole Vault | G23: A
C24: B | G24: B
B25: Hammer | C25: A | F25: Javelin | G25: A
C26: B | G26: B
B27: Javelin | C27: A | D27: Ralph Silcock | F27: High Jump | G27: A
C28: B | G28: B
B29: Shot Put | C29: A | G29: A
C30: B | G30: B
B32: Non Counters
B33: Event | C33: No | D33: Name | F33: Event | G33: No | H33: Name

Sheet BSAC-U20
B1: BANCHORY - U20 DECLARATION SHEET
B2: TEAM DECLARATION - 2018
B4: Division | C4: North East | F4: Club | G4: Banchory Stonehaven AC
B6: Venue | C6: Inverness | F6: Date | G6: 43212
B8: U20M | F8: U20W
B10: 100m | C10: A | F10: 100m | G10: A | L10: =B10 -> 100m | M10: =F10 -> 100m
C11: B | G11: B | L11: =B12 -> 400m | M11: =F12 -> 400m
B12: 400m | C12: A | F12: 400m | G12: A | L12: =B14 -> 800m | M12: =F14 -> 800m
C13: B | G13: B | L13: =B16 -> 400mH | M13: =F16 -> 400mH
B14: 800m | C14: A | F14: 800m | G14: A | L14: HJ | M14: PV
C15: B | G15: B | L15: HT | M15: LJ
B16: 400mH | C16: A | F16: 400mH | G16: A | L16: LJ | M16: HJ
C17: B | G17: B | L17: SP | M17: HT
B18: 4 x 100m Relay | C18: 1 | F18: 4 x 100m Relay | G18: 1
C19: 2 | G19: 2
C20: 3 | G20: 3
C21: 4 | G21: 4
B23: High Jump | C23: A | F23: Pole Vault | G23: A
C24: B | G24: B
B25: Hammer | C25: A | F25: Long Jump | G25: A
C26: B | G26: B
B27: Long Jump | C27: A | F27: High Jump | G27: A
C28: B | G28: B
B29: Shot Put | C29: A | F29: Hammer | G29: A
C30: B | G30: B
B32: Non Counters
B33: Event | C33: No | D33: Name | F33: Event | G33: No | H33: Name
B49: Team Manager

Sheet DHH-U17
B1: DUNDEE - U17 DECLARATION SHEET
B2: TEAM DECLARATION - 2018
B4: Division | C4: North East | F4: Club | G4: Dundee Hawkhill Harriers
B6: Venue | C6: Inverness | F6: Date | G6: 43212
B8: U17M | F8: U17W
B10: 100m | C10: A | D10: Jamie Reid | F10: 100m | G10: A | H10: Megan Gowans | L10: =B10 -> 100m | M10: =F10 -> 100m
C11: B | D11: Logan Robertson | G11: B | H11: Frankie Duncan-Morris | L11: =B12 -> 400m | M11: =F12 -> 300m
B12: 400m | C12: A | D12: Chuka Akunna | F12: 300m | G12: A | H12: Megan Gowans | L12: =B14 -> 800m | M12: =F14 -> 800m
C13: B | D13: Jamie Reid | G13: B | L13: =B16 -> 400mH | M13: =F16 -> 300mH
B14: 800m | C14: A | F14: 800m | G14: A | H14: Iona Vannet | L14: HJ | M14: PV
C15: B | D15: Luca Venditozzi | G15: B | H15: Frankie Duncan-Morris | L15: HT | M15: JT
B16: 400mH | C16: A | D16: Luca Venditozzi | F16: 300mH | G16: A | H16: Iona Esslemont | L16: JT | M16: HJ
C17: B | G17: B | L17: SP
B18: 4 x 100m Relay | C18: 1 | D18: Chuka Akunna | F18: 4 x 100m Relay | G18: 1
C19: 2 | D19: Logan Robertson | G19: 2
C20: 3 | D20: Jamie Reid | G20: 3
C21: 4 | G21: 4
B23: High Jump | C23: A | D23: Luca Venditozzi | F23: Pole Vault | G23: A
C24: B | G24: B
B25: Hammer | C25: A | D25: Chuka Akunna | F25: Javelin | G25: A | H25: Frankie Duncan-Morris
C26: B | G26: B
B27: Javelin | C27: A | D27: Luca Venditozzi | F27: High Jump | G27: A | H27: Iona Esslemont
C28: B | D28: Logan Robertson | G28: B | H28: Iona Vannet
B29: Shot Put | C29: A | D29: Chuka Akunna | G29: A
C30: B | D30: Logan Robertson | G30: B
B32: Non Counters
B33: Event | C33: No | D33: Name | F33: Event | G33: No | H33: Name

Sheet DHH-U20
B1: DUNDEE - U20 DECLARATION SHEET
B2: TEAM DECLARATION - 2018
B4: Division | C4: North East | F4: Club | G4: Dundee Hawkhill Harriers
B6: Venue | C6: Inverness | F6: Date | G6: 43212
B8: U20M | F8: U20W
B10: 100m | C10: A | D10: Angus McDonald | F10: 100m | G10: A | H10: Carly Tragham | L10: =B10 -> 100m | M10: =F10 -> 100m
C11: B | G11: B | H11: Phoebe Moncur | L11: =B12 -> 400m | M11: =F12 -> 400m
B12: 400m | C12: A | D12: Kris Hernandez | F12: 400m | G12: A | H12: Carly Tragham | L12: =B14 -> 800m | M12: =F14 -> 800m
C13: B | D13: Angus McDonald | G13: B | H13: Phoebe Moncur | L13: =B16 -> 400mH | M13: =F16 -> 400mH
B14: 800m | C14: A | D14: Kris Hernandez | F14: 800m | G14: A | H14: Sophie Kidd | L14: HJ | M14: PV
C15: B | G15: B | H15: Amy Mollison | L15: HT | M15: LJ
B16: 400mH | C16: A | F16: 400mH | G16: A | H16: Shania King | L16: LJ | M16: HJ
C17: B | G17: B | L17: SP | M17: HT
B18: 4 x 100m Relay | C18: 1 | F18: 4 x 100m Relay | G18: 1 | H18: Phoebe Moncur
C19: 2 | G19: 2 | H19: Sophie Kidd
C20: 3 | G20: 3 | H20: Carly Tragham
C21: 4 | G21: 4 | H21: Amy Mollison
B23: High Jump | C23: A | F23: Pole Vault | G23: A
C24: B | G24: B
B25: Hammer | C25: A | F25: Long Jump | G25: A | H25: Phoebe Moncur
C26: B | G26: B | H26: Chloe Brown
B27: Long Jump | C27: A | D27: Kris Hernandez | F27: High Jump | G27: A | H27: Chloe Brown
C28: B | G28: B | H28: Amy Mollison
B29: Shot Put | C29: A | D29: Angus McDonald | F29: Hammer | G29: A | H29: Chloe Brown
C30: B | G30: B | H30: Shania King
B32: Non Counters
B33: Event | C33: No | D33: Name | F33: Event | G33: No | H33: Name
B49: Team Manager

Sheet IH-U17
B1: INVERNESS - U17 DECLARATION SHEET
B2: TEAM DECLARATION - 2018
B4: Division | C4: North East | F4: Club | G4: Inverness Harriers
B6: Venue | C6: Inverness | F6: Date | G6: 43212
B8: U17M | F8: U17W
B10: 100m | C10: A | D10: Matthew Baker | F10: 100m | G10: A | H10: Mairi Darroch | L10: =B10 -> 100m | M10: =F10 -> 100m
C11: B | G11: B | H11: Rachel Johnstone | L11: =B12 -> 400m | M11: =F12 -> 300m
B12: 400m | C12: A | F12: 300m | G12: A | H12: Mairi Darroch | L12: =B14 -> 800m | M12: =F14 -> 800m
C13: B | G13: B | H13: Rachel Johnstone | L13: =B16 -> 400mH | M13: =F16 -> 300mH
B14: 800m | C14: A | D14: Gordon Manson | F14: 800m | G14: A | H14: Chloe Cheyne | L14: HJ | M14: PV
C15: B | G15: B | H15: Ruby Soldan | L15: HT | M15: JT
B16: 400mH | C16: A | F16: 300mH | G16: A | L16: JT | M16: HJ
C17: B | G17: B | L17: SP
B18: 4 x 100m Relay | C18: 1 | D18: Matthew Baker | F18: 4 x 100m Relay | G18: 1 | H18: Mairi Darroch
C19: 2 | D19: Victor Jude Eze | G19: 2 | H19: Jessica Golden
C20: 3 | D20: Ewan Spink | G20: 3 | H20: Chloe Cheyne
C21: 4 | D21: Thomas Stone | G21: 4 | H21: Rachel Johnstone
B23: High Jump | C23: A | D23: Gordon Manson | F23: Pole Vault | G23: A
C24: B | G24: B
B25: Hammer | C25: A | D25: Matt MacFarlane | F25: Javelin | G25: A | H25: Fiona Flockhart
C26: B | D26: Victor Jude Eze | G26: B | H26: Rachel MacLennan
B27: Javelin | C27: A | D27: Victor Jude Eze | F27: High Jump | G27: A | H27: Ruby Soldan
C28: B | D28: Gordon Manson | G28: B | H28: Iona Ramsay
B29: Shot Put | C29: A | D29: George Russell | G29: A
C30: B | D30: Victor Jude Eze | G30: B
B32: Non Counters
B33: Event | C33: No | D33: Name | F33: Event | G33: No | H33: Name

Sheet IH-U20
B1: INVERNESS - U20 DECLARATION SHEET
B2: TEAM DECLARATION - 2018
B4: Division | C4: North East | F4: Club | G4: Inverness Harriers
B6: Venue | C6: Inverness | F6: Date | G6: 43212
B8: U20M | F8: U20W
B10: 100m | C10: A | F10: 100m | G10: A | H10: Emma Pedrana | L10: =B10 -> 100m | M10: =F10 -> 100m
C11: B | G11: B | L11: =B12 -> 400m | M11: =F12 -> 400m
B12: 400m | C12: A | F12: 400m | G12: A | L12: =B14 -> 800m | M12: =F14 -> 800m
C13: B | G13: B | L13: =B16 -> 400mH | M13: =F16 -> 400mH
B14: 800m | C14: A | F14: 800m | G14: A | L14: HJ | M14: PV
C15: B | G15: B | L15: HT | M15: LJ
B16: 400mH | C16: A | F16: 400mH | G16: A | L16: LJ | M16: HJ
C17: B | G17: B | L17: SP | M17: HT
B18: 4 x 100m Relay | C18: 1 | F18: 4 x 100m Relay | G18: 1
C19: 2 | G19: 2
C20: 3 | G20: 3
C21: 4 | G21: 4
B23: High Jump | C23: A | F23: Pole Vault | G23: A
C24: B | G24: B
B25: Hammer | C25: A | D25: Harry Zagorshi | F25: Long Jump | G25: A | H25: Rachel Johnstone
C26: B | D26: Andrew Bowsher | G26: B
B27: Long Jump | C27: A | F27: High Jump | G27: A
C28: B | G28: B
B29: Shot Put | C29: A | D29: Andrew Bowsher | F29: Hammer | G29: A | H29: Rachel Maclennan
C30: B | D30: Harry Zagorshi | G30: B | H30: Amy Collier
B32: Non Counters
B33: Event | C33: No | D33: Name | F33: Event | G33: No | H33: Name
B49: Team Manager

Sheet ISA-U17
B1: ISLAND - U17 DECLARATION SHEET
B2: TEAM DECLARATION - 2018
B4: Division | C4: North East | F4: Club | G4: Island Select Athletics
B6: Venue | C6: Inverness | F6: Date | G6: 43212
B8: U17M | F8: U17W
B10: 100m | C10: A | D10: Shaun Ritchie | F10: 100m | G10: A | H10: Katie Dinwoodie | L10: =B10 -> 100m | M10: =F10 -> 100m
C11: B | D11: Lewis Barclay | G11: B | H11: Laura Newbold | L11: =B12 -> 400m | M11: =F12 -> 300m
B12: 400m | C12: A | D12: Lewis Barclay | F12: 300m | G12: A | H12: Katie Dinwoodie | L12: =B14 -> 800m | M12: =F14 -> 800m
C13: B | D13: Shay Regan | G13: B | H13: Aimee Smith TBC / Laura Newbold | L13: =B16 -> 400mH | M13: =F16 -> 300mH
B14: 800m | C14: A | D14: Lewis Barclay | F14: 800m | G14: A | H14: Aimee Smith | L14: HJ | M14: PV
C15: B | D15: David Morrison | G15: B | H15: Amie Ringstead | L15: HT | M15: JT
B16: 400mH | C16: A | D16: Jordan MacKinnon | F16: 300mH | G16: A | H16: Amie Ringstead | L16: JT | M16: HJ
C17: B | G17: B | L17: SP
B18: 4 x 100m Relay | C18: 1 | D18: Lewis Barclay | F18: 4 x 100m Relay | G18: 1 | H18: Sian MacDonald
C19: 2 | D19: Ethan Tulloch | G19: 2 | H19: Katie Dinwoodie
C20: 3 | D20: Shay Regan | G20: 3 | H20: Angela Horne
C21: 4 | D21: Shaun Ritchie | G21: 4 | H21: Laura Newbold
B23: High Jump | C23: A | D23: Shay Regan | F23: Pole Vault | G23: A
C24: B | D24: Jordan MacKinnon | G24: B
B25: Hammer | C25: A | D25: Ethan Tulloch | F25: Javelin | G25: A | H25: Stephanie Mercer
C26: B | G26: B
B27: Javelin | C27: A | D27: Ethan Tulloch | F27: High Jump | G27: A | H27: Angela Horne
C28: B | D28: Michael Campbell | G28: B | H28: Molly MacLeod
B29: Shot Put | C29: A | D29: Michael Campbell | G29: A
C30: B | D30: Ethan Tulloch | G30: B
B32: Non Counters
B33: Event | C33: No | D33: Name | F33: Event | G33: No | H33: Name

Sheet ISA-U20
B1: ISLAND - U20 DECLARATION SHEET
B2: TEAM DECLARATION - 2018
B4: Division | C4: North East | F4: Club | G4: Island Select Athletics
B6: Venue | C6: Inverness | F6: Date | G6: 43212
B8: U20M | F8: U20W
B10: 100m | C10: A | D10: Scott MacIver | F10: 100m | G10: A | H10: Amy Davis | L10: =B10 -> 100m | M10: =F10 -> 100m
C11: B | D11: Donald MacMillan | G11: B | H11: Sian MacDonald | L11: =B12 -> 400m | M11: =F12 -> 400m
B12: 400m | C12: A | D12: Bobby Laurenson | F12: 400m | G12: A | H12: Eilidh MacLeod | L12: =B14 -> 800m | M12: =F14 -> 800m
C13: B | D13: Ross Budge | G13: B | L13: =B16 -> 400mH | M13: =F16 -> 400mH
B14: 800m | C14: A | D14: Kyle Munro | F14: 800m | G14: A | L14: HJ | M14: PV
C15: B | D15: Ailig MacDonald | G15: B | L15: HT | M15: LJ
B16: 400mH | C16: A | F16: 400mH | G16: A | L16: LJ | M16: HJ
C17: B | G17: B | L17: SP | M17: HT
B18: 4 x 100m Relay | C18: 1 | D18: Donald MacMillan | F18: 4 x 100m Relay | G18: 1 | H18: Heather MacKinnon
C19: 2 | D19: Jeremiasz Kaluzinski | G19: 2 | H19: Eilidh MacLeod
C20: 3 | D20: Bobby Laurenson | G20: 3 | H20: Molly MacLeod
C21: 4 | D21: Scott MacIver | G21: 4 | H21: Amy Davis
B23: High Jump | C23: A | D23: Jeremiasz Kaluzinski | F23: Pole Vault | G23: A
C24: B | G24: B
B25: Hammer | C25: A | F25: Long Jump | G25: A | H25: Heather MacKinnon
C26: B | G26: B | H26: Angela Horne
B27: Long Jump | C27: A | D27: Jeremiasz Kaluzinski | F27: High Jump | G27: A | H27: Amy Davis
C28: B | D28: Scott MacIver | G28: B
B29: Shot Put | C29: A | D29: Ross Budge | F29: Hammer | G29: A
C30: B | D30: Jeremiasz Kaluzinski | G30: B
B32: Non Counters
B33: Event | C33: No | D33: Name | F33: Event | G33: No | H33: Name
B49: Team Manager

Sheet MAC_PSH-U17
B1: MONTROSE & PERTH - U17 DECLARATION SHEET
B2: TEAM DECLARATION - 2018
B4: Division | C4: North East | F4: Club | G4: Montrose and District + Perth Strathtay
B6: Venue | C6: Inverness | F6: Date | G6: 43212
B8: U17M | F8: U17W
B10: 100m | C10: A | F10: 100m | G10: A | L10: =B10 -> 100m | M10: =F10 -> 100m
C11: B | G11: B | L11: =B12 -> 400m | M11: =F12 -> 300m
B12: 400m | C12: A | D12: Ben Henderson | F12: 300m | G12: A | L12: =B14 -> 800m | M12: =F14 -> 800m
C13: B | G13: B | L13: =B16 -> 400mH | M13: =F16 -> 300mH
B14: 800m | C14: A | D14: Ben Henderson | F14: 800m | G14: A | L14: HJ | M14: PV
C15: B | G15: B | L15: HT | M15: JT
B16: 400mH | C16: A | F16: 300mH | G16: A | L16: JT | M16: HJ
C17: B | G17: B | L17: SP
B18: 4 x 100m Relay | C18: 1 | F18: 4 x 100m Relay | G18: 1
C19: 2 | G19: 2
C20: 3 | G20: 3
C21: 4 | G21: 4
B23: High Jump | C23: A | F23: Pole Vault | G23: A
C24: B | G24: B
B25: Hammer | C25: A | F25: Javelin | G25: A
C26: B | G26: B
B27: Javelin | C27: A | F27: High Jump | G27: A
C28: B | G28: B
B29: Shot Put | C29: A | G29: A
C30: B | G30: B
B32: Non Counters
B33: Event | C33: No | D33: Name | F33: Event | G33: No | H33: Name

Sheet MAC_PSH-U20
B1: MONTROSE & PERTH - U20 DECLARATION SHEET
B2: TEAM DECLARATION - 2018
B4: Division | C4: North East | F4: Club | G4: Montrose and District + Perth Strathtay
B6: Venue | C6: Inverness | F6: Date | G6: 43212
B8: U20M | F8: U20W
B10: 100m | C10: A | F10: 100m | G10: A | L10: =B10 -> 100m | M10: =F10 -> 100m
C11: B | G11: B | L11: =B12 -> 400m | M11: =F12 -> 400m
B12: 400m | C12: A | F12: 400m | G12: A | L12: =B14 -> 800m | M12: =F14 -> 800m
C13: B | G13: B | L13: =B16 -> 400mH | M13: =F16 -> 400mH
B14: 800m | C14: A | F14: 800m | G14: A | L14: HJ | M14: PV
C15: B | G15: B | L15: HT | M15: LJ
B16: 400mH | C16: A | F16: 400mH | G16: A | L16: LJ | M16: HJ
C17: B | G17: B | L17: SP | M17: HT
B18: 4 x 100m Relay | C18: 1 | F18: 4 x 100m Relay | G18: 1
C19: 2 | G19: 2
C20: 3 | G20: 3
C21: 4 | G21: 4
B23: High Jump | C23: A | F23: Pole Vault | G23: A
C24: B | G24: B
B25: Hammer | C25: A | F25: Long Jump | G25: A
C26: B | G26: B
B27: Long Jump | C27: A | F27: High Jump | G27: A
C28: B | G28: B
B29: Shot Put | C29: A | F29: Hammer | G29: A
C30: B | G30: B
B32: Non Counters
B33: Event | C33: No | D33: Name | F33: Event | G33: No | H33: Name
B49: Team Manager

Sheet TN-U17
B1: TEAM NORTH - U17 DECLARATION SHEET
B2: TEAM DECLARATION - 2018
B4: Division | C4: North East | F4: Club | G4: Team North
B6: Venue | C6: Inverness | F6: Date | G6: 43212
B8: U17M | F8: U17W
B10: 100m | C10: A | D10: JOSHUA MILNE | F10: 100m | G10: A | H10: BETH GRANT | L10: =B10 -> 100m | M10: =F10 -> 100m
C11: B | D11: DAVID SCOTT | G11: B | H11: EMMA BARCLAY | L11: =B12 -> 400m | M11: =F12 -> 300m
B12: 400m | C12: A | D12: DANNY MCPAKE | F12: 300m | G12: A | H12: EMMA BARCLAY | L12: =B14 -> 800m | M12: =F14 -> 800m
C13: B | D13: DAVID SCOTT | G13: B | H13: EVE TULLOCH | L13: =B16 -> 400mH | M13: =F16 -> 300mH
B14: 800m | C14: A | D14: DANNY MCPAKE | F14: 800m | G14: A | H14: SHAUNA PERRY | L14: HJ | M14: PV
C15: B | D15: JOSHUA MILNE | G15: B | H15: NIAMH WHELAN | L15: HT | M15: JT
B16: 400mH | C16: A | F16: 300mH | G16: A | H16: EVE TULLOCH | L16: JT | M16: HJ
C17: B | G17: B | L17: SP
B18: 4 x 100m Relay | C18: 1 | D18: JOSHUA MILNE | F18: 4 x 100m Relay | G18: 1 | H18: BETH GRANT
C19: 2 | D19: DAVID SCOTT | G19: 2 | H19: EVE TULLOCH
C20: 3 | D20: DANNY MCPAKE | G20: 3 | H20: EMMA BARCLAY
C21: 4 | D21: ALEXANDER MACKAY | G21: 4 | H21: BETH MACKAY
B23: High Jump | C23: A | F23: Pole Vault | G23: A
C24: B | G24: B
B25: Hammer | C25: A | F25: Javelin | G25: A | H25: GEORGIE NEWLANDS
C26: B | G26: B
B27: Javelin | C27: A | D27: JOSHUA MILNE | F27: High Jump | G27: A | H27: EVE TULLOCH
C28: B | G28: B | H28: EMMA BARCLAY
B29: Shot Put | C29: A | D29: DAVID SCOTT | G29: A | H29: BETH GRANT
C30: B | G30: B | H30: GEORGIE NEWLANDS
B32: Non Counters
B33: Event | C33: No | D33: Name | F33: Event | G33: No | H33: Name

Sheet TN-U20
B1: TEAM NORTH - U20 DECLARATION SHEET
B2: TEAM DECLARATION - 2018
B4: Division | C4: North East | F4: Club | G4: Team North
B6: Venue | C6: Inverness | F6: Date | G6: 43212
B8: U20M | F8: U20W
B10: 100m | C10: A | D10: ANDREW STOKER | F10: 100m | G10: A | L10: =B10 -> 100m | M10: =F10 -> 100m
C11: B | D11: SAM ANDERSON | G11: B | L11: =B12 -> 400m | M11: =F12 -> 400m
B12: 400m | C12: A | D12: ANDREW STOKER | F12: 400m | G12: A | H12: GRACE WHELAN | L12: =B14 -> 800m | M12: =F14 -> 800m
C13: B | D13: SAM ANDERSON | G13: B | H13: MAIRI WEIR | L13: =B16 -> 400mH | M13: =F16 -> 400mH
B14: 800m | C14: A | F14: 800m | G14: A | H14: GRACE WHELAN | L14: HJ | M14: PV
C15: B | G15: B | L15: HT | M15: LJ
B16: 400mH | C16: A | F16: 400mH | G16: A | H16: MAIRI WEIR | L16: LJ | M16: HJ
C17: B | G17: B | L17: SP | M17: HT
B18: 4 x 100m Relay | C18: 1 | F18: 4 x 100m Relay | G18: 1
C19: 2 | G19: 2
C20: 3 | G20: 3
C21: 4 | G21: 4
B23: High Jump | C23: A | F23: Pole Vault | G23: A
C24: B | G24: B
B25: Hammer | C25: A | F25: Long Jump | G25: A | H25: MAIRI WEIR
C26: B | G26: B | H26: HEATHER WELSH
B27: Long Jump | C27: A | D27: ANDREW STOKER | F27: High Jump | G27: A | H27: HEATHER WELSH
C28: B | D28: SAM ANDERSON | G28: B
B29: Shot Put | C29: A | F29: Hammer | G29: A | H29: HEATHER WELSH
C30: B | G30: B
B32: Non Counters
B33: Event | C33: No | D33: Name | F33: Event | G33: No | H33: Name
B34: lj | C34: Guest | D34: Andrew McFarlane
B49: Team Manager

Sheet U17 Non Counters
A1: Non Counters
A2: Event | B2: No | C2: Name | D2: Club | F2: Event | G2: No | H2: Name | I2: Club
A3: ='AAAC-U17'!$B$34 -> 0 | B3: ='AAAC-U17'!$C$34 -> 0 | C3: ='AAAC-U17'!$D$34 -> 0 | D3: =IF(A3<>0,"AAAC","") | E3: U17 | F3: ='AAAC-U17'!$F$34 -> 0 | G3: ='AAAC-U17'!$G34 -> 0 | H3: ='AAAC-U17'!$H$34 -> 0 | I3: =IF(F3<>0,"AAAC","")
A4: ='AAAC-U17'!$B$35 -> 0 | B4: ='AAAC-U17'!$C$35 -> 0 | C4: ='AAAC-U17'!$D$35 -> 0 | D4: =IF(A4<>0,"AAAC","") | F4: ='AAAC-U17'!$F$35 -> 0 | G4: ='AAAC-U17'!$G35 -> 0 | H4: ='AAAC-U17'!$H$35 -> 0 | I4: =IF(F4<>0,"AAAC","")
A5: ='AAAC-U17'!$B$36 -> 0 | B5: ='AAAC-U17'!$C$36 -> 0 | C5: ='AAAC-U17'!$D$36 -> 0 | D5: =IF(A5<>0,"AAAC","") | F5: ='AAAC-U17'!$F$36 -> 0 | G5: ='AAAC-U17'!$G36 -> 0 | H5: ='AAAC-U17'!$H$36 -> 0 | I5: =IF(F5<>0,"AAAC","")
A6: ='AAAC-U17'!$B$37 -> 0 | B6: ='AAAC-U17'!$C$37 -> 0 | C6: ='AAAC-U17'!$D$37 -> 0 | D6: =IF(A6<>0,"AAAC","") | F6: ='AAAC-U17'!$F$37 -> 0 | G6: ='AAAC-U17'!$G37 -> 0 | H6: ='AAAC-U17'!$H$37 -> 0 | I6: =IF(F6<>0,"AAAC","")
A7: ='AAAC-U17'!$B$38 -> 0 | B7: ='AAAC-U17'!$C$38 -> 0 | C7: ='AAAC-U17'!$D$38 -> 0 | D7: =IF(A7<>0,"AAAC","") | F7: ='AAAC-U17'!$F$38 -> 0 | G7: ='AAAC-U17'!$G38 -> 0 | H7: ='AAAC-U17'!$H$38 -> 0 | I7: =IF(F7<>0,"AAAC","")
A8: ='AAAC-U17'!$B$39 -> 0 | B8: ='AAAC-U17'!$C$39 -> 0 | C8: ='AAAC-U17'!$D$39 -> 0 | D8: =IF(A8<>0,"AAAC","") | F8: ='AAAC-U17'!$F$39 -> 0 | G8: ='AAAC-U17'!$G39 -> 0 | H8: ='AAAC-U17'!$H$39 -> 0 | I8: =IF(F8<>0,"AAAC","")
A9: ='AAAC-U17'!$B$40 -> 0 | B9: ='AAAC-U17'!$C$40 -> 0 | C9: ='AAAC-U17'!$D$40 -> 0 | D9: =IF(A9<>0,"AAAC","") | F9: ='AAAC-U17'!$F$40 -> 0 | G9: ='AAAC-U17'!$G40 -> 0 | H9: ='AAAC-U17'!$H$40 -> 0 | I9: =IF(F9<>0,"AAAC","")
A10: ='AAAC-U17'!$B$41 -> 0 | B10: ='AAAC-U17'!$C$41 -> 0 | C10: ='AAAC-U17'!$D$41 -> 0 | D10: =IF(A10<>0,"AAAC","") | F10: ='AAAC-U17'!$F$41 -> 0 | G10: ='AAAC-U17'!$G41 -> 0 | H10: ='AAAC-U17'!$H$41 -> 0 | I10: =IF(F10<>0,"AAAC","")
A11: ='AAAC-U17'!$B$42 -> 0 | B11: ='AAAC-U17'!$C$42 -> 0 | C11: ='AAAC-U17'!$D$42 -> 0 | D11: =IF(A11<>0,"AAAC","") | F11: ='AAAC-U17'!$F$41 -> 0 | G11: ='AAAC-U17'!$G42 -> 0 | H11: ='AAAC-U17'!$H$41 -> 0 | I11: =IF(F11<>0,"AAAC","")
A12: ='AAAC-U17'!$B$43 -> 0 | B12: ='AAAC-U17'!$C$43 -> 0 | C12: ='AAAC-U17'!$D$43 -> 0 | D12: =IF(A12<>0,"AAAC","") | F12: ='AAAC-U17'!$F$41 -> 0 | G12: ='AAAC-U17'!$G43 -> 0 | H12: ='AAAC-U17'!$H$41 -> 0 | I12: =IF(F12<>0,"AAAC","")
A13: ='AAAC-U17'!$B$44 -> 0 | B13: ='AAAC-U17'!$C$44 -> 0 | C13: ='AAAC-U17'!$D$44 -> 0 | D13: =IF(A13<>0,"AAAC","") | F13: ='AAAC-U17'!$F$41 -> 0 | G13: ='AAAC-U17'!$G44 -> 0 | H13: ='AAAC-U17'!$H$41 -> 0 | I13: =IF(F13<>0,"AAAC","")
A14: ='AAAC-U17'!$B$45 -> 0 | B14: ='AAAC-U17'!$C$45 -> 0 | C14: ='AAAC-U17'!$D$45 -> 0 | D14: =IF(A14<>0,"AAAC","") | F14: ='AAAC-U17'!$F$41 -> 0 | G14: ='AAAC-U17'!$G45 -> 0 | H14: ='AAAC-U17'!$H$41 -> 0 | I14: =IF(F14<>0,"AAAC","")
A15: ='AAAC-U17'!$B$46 -> 0 | B15: ='AAAC-U17'!$C$46 -> 0 | C15: ='AAAC-U17'!$D$46 -> 0 | D15: =IF(A15<>0,"AAAC","") | F15: ='AAAC-U17'!$F$41 -> 0 | G15: ='AAAC-U17'!$G46 -> 0 | H15: ='AAAC-U17'!$H$41 -> 0 | I15: =IF(F15<>0,"AAAC","")
A16: ='AAAC-U17'!$B$47 -> 0 | B16: ='AAAC-U17'!$C$47 -> 0 | C16: ='AAAC-U17'!$D$47 -> 0 | D16: =IF(A16<>0,"AAAC","") | F16: ='AAAC-U17'!$F$47 -> 0 | G16: ='AAAC-U17'!$G47 -> 0 | H16: ='AAAC-U17'!$H$47 -> 0 | I16: =IF(F16<>0,"AAAC","")
A17: ='ADAC-U17'!$B$34 -> 0 | B17: ='ADAC-U17'!$C$34 -> 0 | C17: ='ADAC-U17'!$D$34 -> 0 | D17: =IF(A17<>0,"ADAC","") | E17: U17 | F17: ='ADAC-U17'!$F$34 -> 0 | G17: ='ADAC-U17'!$G$34 -> 0 | H17: ='ADAC-U17'!$H$34 -> 0 | I17: =IF(F17<>0,"ADAC","")
A18: ='ADAC-U17'!$B$35 -> 0 | B18: ='ADAC-U17'!$C$35 -> 0 | C18: ='ADAC-U17'!$D$35 -> 0 | D18: =IF(A18<>0,"ADAC","") | F18: ='ADAC-U17'!$F$35 -> 0 | G18: ='ADAC-U17'!$G$35 -> 0 | H18: ='ADAC-U17'!$H$35 -> 0 | I18: =IF(F18<>0,"ADAC","")
A19: ='ADAC-U17'!$B$36 -> 0 | B19: ='ADAC-U17'!$C$36 -> 0 | C19: ='ADAC-U17'!$D$36 -> 0 | D19: =IF(A19<>0,"ADAC","") | F19: ='ADAC-U17'!$F$36 -> 0 | G19: ='ADAC-U17'!$G$36 -> 0 | H19: ='ADAC-U17'!$H$36 -> 0 | I19: =IF(F19<>0,"ADAC","")
A20: ='ADAC-U17'!$B$37 -> 0 | B20: ='ADAC-U17'!$C$37 -> 0 | C20: ='ADAC-U17'!$D$37 -> 0 | D20: =IF(A20<>0,"ADAC","") | F20: ='ADAC-U17'!$F$37 -> 0 | G20: ='ADAC-U17'!$G$37 -> 0 | H20: ='ADAC-U17'!$H$37 -> 0 | I20: =IF(F20<>0,"ADAC","")
A21: ='ADAC-U17'!$B$38 -> 0 | B21: ='ADAC-U17'!$C$38 -> 0 | C21: ='ADAC-U17'!$D$38 -> 0 | D21: =IF(A21<>0,"ADAC","") | F21: ='ADAC-U17'!$F$38 -> 0 | G21: ='ADAC-U17'!$G$38 -> 0 | H21: ='ADAC-U17'!$H$38 -> 0 | I21: =IF(F21<>0,"ADAC","")
A22: ='ADAC-U17'!$B$39 -> 0 | B22: ='ADAC-U17'!$C$39 -> 0 | C22: ='ADAC-U17'!$D$39 -> 0 | D22: =IF(A22<>0,"ADAC","") | F22: ='ADAC-U17'!$F$39 -> 0 | G22: ='ADAC-U17'!$G$39 -> 0 | H22: ='ADAC-U17'!$H$39 -> 0 | I22: =IF(F22<>0,"ADAC","")
A23: ='ADAC-U17'!$B$40 -> 0 | B23: ='ADAC-U17'!$C$40 -> 0 | C23: ='ADAC-U17'!$D$40 -> 0 | D23: =IF(A23<>0,"ADAC","") | F23: ='ADAC-U17'!$F$40 -> 0 | G23: ='ADAC-U17'!$G$40 -> 0 | H23: ='ADAC-U17'!$H$40 -> 0 | I23: =IF(F23<>0,"ADAC","")
A24: ='ADAC-U17'!$B$41 -> 0 | B24: ='ADAC-U17'!$C$41 -> 0 | C24: ='ADAC-U17'!$D$41 -> 0 | D24: =IF(A24<>0,"ADAC","") | F24: ='ADAC-U17'!$F$41 -> 0 | G24: ='ADAC-U17'!$G$41 -> 0 | H24: ='ADAC-U17'!$H$41 -> 0 | I24: =IF(F24<>0,"ADAC","")
A25: ='ADAC-U17'!$B$42 -> 0 | B25: ='ADAC-U17'!$C$42 -> 0 | C25: ='ADAC-U17'!$D$42 -> 0 | D25: =IF(A25<>0,"ADAC","") | F25: ='ADAC-U17'!$F$42 -> 0 | G25: ='ADAC-U17'!$G$42 -> 0 | H25: ='ADAC-U17'!$H$42 -> 0 | I25: =IF(F25<>0,"ADAC","")
A26: ='ADAC-U17'!$B$43 -> 0 | B26: ='ADAC-U17'!$C$43 -> 0 | C26: ='ADAC-U17'!$D$43 -> 0 | D26: =IF(A26<>0,"ADAC","") | F26: ='ADAC-U17'!$F$43 -> 0 | G26: ='ADAC-U17'!$G$43 -> 0 | H26: ='ADAC-U17'!$H$43 -> 0 | I26: =IF(F26<>0,"ADAC","")
A27: ='BSAC-U17'!$B$34 -> 0 | B27: ='BSAC-U17'!$C$34 -> 0 | C27: ='BSAC-U17'!$D$34 -> 0 | D27: =IF(A27<>0,"BSAC","") | E27: U17 | F27: ='BSAC-U17'!$F$34 -> 0 | G27: ='BSAC-U17'!$G$34 -> 0 | H27: ='BSAC-U17'!$H$34 -> 0 | I27: =IF(F27<>0,"BSAC","")
A28: ='BSAC-U17'!$B$35 -> 0 | B28: ='BSAC-U17'!$C$35 -> 0 | C28: ='BSAC-U17'!$D$35 -> 0 | D28: =IF(A28<>0,"BSAC","") | F28: ='BSAC-U17'!$F$35 -> 0 | G28: ='BSAC-U17'!$G$35 -> 0 | H28: ='BSAC-U17'!$H$35 -> 0 | I28: =IF(F28<>0,"BSAC","")
A29: ='BSAC-U17'!$B$36 -> 0 | B29: ='BSAC-U17'!$C$36 -> 0 | C29: ='BSAC-U17'!$D$36 -> 0 | D29: =IF(A29<>0,"BSAC","") | F29: ='BSAC-U17'!$F$36 -> 0 | G29: ='BSAC-U17'!$G$36 -> 0 | H29: ='BSAC-U17'!$H$36 -> 0 | I29: =IF(F29<>0,"BSAC","")
A30: ='BSAC-U17'!$B$37 -> 0 | B30: ='BSAC-U17'!$C$37 -> 0 | C30: ='BSAC-U17'!$D$37 -> 0 | D30: =IF(A30<>0,"BSAC","") | F30: ='BSAC-U17'!$F$37 -> 0 | G30: ='BSAC-U17'!$G$37 -> 0 | H30: ='BSAC-U17'!$H$37 -> 0 | I30: =IF(F30<>0,"BSAC","")
A31: ='BSAC-U17'!$B$38 -> 0 | B31: ='BSAC-U17'!$C$38 -> 0 | C31: ='BSAC-U17'!$D$38 -> 0 | D31: =IF(A31<>0,"BSAC","") | F31: ='BSAC-U17'!$F$38 -> 0 | G31: ='BSAC-U17'!$G$38 -> 0 | H31: ='BSAC-U17'!$H$38 -> 0 | I31: =IF(F31<>0,"BSAC","")
A32: ='BSAC-U17'!$B$39 -> 0 | B32: ='BSAC-U17'!$C$39 -> 0 | C32: ='BSAC-U17'!$D$39 -> 0 | D32: =IF(A32<>0,"BSAC","") | F32: ='BSAC-U17'!$F$39 -> 0 | G32: ='BSAC-U17'!$G$39 -> 0 | H32: ='BSAC-U17'!$H$39 -> 0 | I32: =IF(F32<>0,"BSAC","")
A33: ='BSAC-U17'!$B$40 -> 0 | B33: ='BSAC-U17'!$C$40 -> 0 | C33: ='BSAC-U17'!$D$40 -> 0 | D33: =IF(A33<>0,"BSAC","") | F33: ='BSAC-U17'!$F$40 -> 0 | G33: ='BSAC-U17'!$G$40 -> 0 | H33: ='BSAC-U17'!$H$40 -> 0 | I33: =IF(F33<>0,"BSAC","")
A34: ='BSAC-U17'!$B$41 -> 0 | B34: ='BSAC-U17'!$C$41 -> 0 | C34: ='BSAC-U17'!$D$41 -> 0 | D34: =IF(A34<>0,"BSAC","") | F34: ='BSAC-U17'!$F$41 -> 0 | G34: ='BSAC-U17'!$G$41 -> 0 | H34: ='BSAC-U17'!$H$41 -> 0 | I34: =IF(F34<>0,"BSAC","")
A35: ='BSAC-U17'!$B$42 -> 0 | B35: ='BSAC-U17'!$C$42 -> 0 | C35: ='BSAC-U17'!$D$42 -> 0 | D35: =IF(A35<>0,"BSAC","") | F35: ='BSAC-U17'!$F$42 -> 0 | G35: ='BSAC-U17'!$G$42 -> 0 | H35: ='BSAC-U17'!$H$42 -> 0 | I35: =IF(F35<>0,"BSAC","")
A36: ='BSAC-U17'!$B$43 -> 0 | B36: ='BSAC-U17'!$C$43 -> 0 | C36: ='BSAC-U17'!$D$43 -> 0 | D36: =IF(A36<>0,"BSAC","") | F36: ='BSAC-U17'!$F$43 -> 0 | G36: ='BSAC-U17'!$G$43 -> 0 | H36: ='BSAC-U17'!$H$43 -> 0 | I36: =IF(F36<>0,"BSAC","")
A37: ='DHH-U17'!$B$34 -> 0 | B37: ='DHH-U17'!$C$34 -> 0 | C37: ='DHH-U17'!$D$34 -> 0 | D37: =IF(A37<>0,"DHH","") | E37: U17 | F37: ='DHH-U17'!$F$34 -> 0 | G37: ='DHH-U17'!$G$34 -> 0 | H37: ='DHH-U17'!$H$34 -> 0 | I37: =IF(F37<>0,"DHH","")
A38: ='DHH-U17'!$B$35 -> 0 | B38: ='DHH-U17'!$C$35 -> 0 | C38: ='DHH-U17'!$D$35 -> 0 | D38: =IF(A38<>0,"DHH","") | F38: ='DHH-U17'!$F$35 -> 0 | G38: ='DHH-U17'!$G$35 -> 0 | H38: ='DHH-U17'!$H$35 -> 0 | I38: =IF(F38<>0,"DHH","")
A39: ='DHH-U17'!$B$36 -> 0 | B39: ='DHH-U17'!$C$36 -> 0 | C39: ='DHH-U17'!$D$36 -> 0 | D39: =IF(A39<>0,"DHH","") | F39: ='DHH-U17'!$F$36 -> 0 | G39: ='DHH-U17'!$G$36 -> 0 | H39: ='DHH-U17'!$H$36 -> 0 | I39: =IF(F39<>0,"DHH","")
A40: ='DHH-U17'!$B$37 -> 0 | B40: ='DHH-U17'!$C$37 -> 0 | C40: ='DHH-U17'!$D$37 -> 0 | D40: =IF(A40<>0,"DHH","") | F40: ='DHH-U17'!$F$37 -> 0 | G40: ='DHH-U17'!$G$37 -> 0 | H40: ='DHH-U17'!$H$37 -> 0 | I40: =IF(F40<>0,"DHH","")
A41: ='DHH-U17'!$B$38 -> 0 | B41: ='DHH-U17'!$C$38 -> 0 | C41: ='DHH-U17'!$D$38 -> 0 | D41: =IF(A41<>0,"DHH","") | F41: ='DHH-U17'!$F$38 -> 0 | G41: ='DHH-U17'!$G$38 -> 0 | H41: ='DHH-U17'!$H$38 -> 0 | I41: =IF(F41<>0,"DHH","")
A42: ='DHH-U17'!$B$39 -> 0 | B42: ='DHH-U17'!$C$39 -> 0 | C42: ='DHH-U17'!$D$39 -> 0 | D42: =IF(A42<>0,"DHH","") | F42: ='DHH-U17'!$F$39 -> 0 | G42: ='DHH-U17'!$G$39 -> 0 | H42: ='DHH-U17'!$H$39 -> 0 | I42: =IF(F42<>0,"DHH","")
A43: ='DHH-U17'!$B$40 -> 0 | B43: ='DHH-U17'!$C$40 -> 0 | C43: ='DHH-U17'!$D$40 -> 0 | D43: =IF(A43<>0,"DHH","") | F43: ='DHH-U17'!$F$40 -> 0 | G43: ='DHH-U17'!$G$40 -> 0 | H43: ='DHH-U17'!$H$40 -> 0 | I43: =IF(F43<>0,"DHH","")
A44: ='DHH-U17'!$B$41 -> 0 | B44: ='DHH-U17'!$C$41 -> 0 | C44: ='DHH-U17'!$D$41 -> 0 | D44: =IF(A44<>0,"DHH","") | F44: ='DHH-U17'!$F$41 -> 0 | G44: ='DHH-U17'!$G$41 -> 0 | H44: ='DHH-U17'!$H$41 -> 0 | I44: =IF(F44<>0,"DHH","")
A45: ='DHH-U17'!$B$42 -> 0 | B45: ='DHH-U17'!$C$42 -> 0 | C45: ='DHH-U17'!$D$42 -> 0 | D45: =IF(A45<>0,"DHH","") | F45: ='DHH-U17'!$F$42 -> 0 | G45: ='DHH-U17'!$G$42 -> 0 | H45: ='DHH-U17'!$H$42 -> 0 | I45: =IF(F45<>0,"DHH","")
A46: ='DHH-U17'!$B$43 -> 0 | B46: ='DHH-U17'!$C$43 -> 0 | C46: ='DHH-U17'!$D$43 -> 0 | D46: =IF(A46<>0,"DHH","") | F46: ='DHH-U17'!$F$43 -> 0 | G46: ='DHH-U17'!$G$43 -> 0 | H46: ='DHH-U17'!$H$43 -> 0 | I46: =IF(F46<>0,"BSAC","")
A47: ='ISA-U17'!$B$34 -> 0 | B47: ='ISA-U17'!$C$34 -> 0 | C47: ='ISA-U17'!$D$34 -> 0 | D47: =IF(A47<>0,"ISA","") | E47: U17 | F47: ='ISA-U17'!$F$34 -> 0 | G47: ='ISA-U17'!$G$34 -> 0 | H47: ='ISA-U17'!$H$34 -> 0 | I47: =IF(F47<>0,"ISA","")
A48: ='ISA-U17'!$B$35 -> 0 | B48: ='ISA-U17'!$C$35 -> 0 | C48: ='ISA-U17'!$D$35 -> 0 | D48: =IF(A48<>0,"ISA","") | F48: ='ISA-U17'!$F$35 -> 0 | G48: ='ISA-U17'!$G$35 -> 0 | H48: ='ISA-U17'!$H$35 -> 0 | I48: =IF(F48<>0,"ISA","")
A49: ='ISA-U17'!$B$36 -> 0 | B49: ='ISA-U17'!$C$36 -> 0 | C49: ='ISA-U17'!$D$36 -> 0 | D49: =IF(A49<>0,"ISA","") | F49: ='ISA-U17'!$F$36 -> 0 | G49: ='ISA-U17'!$G$36 -> 0 | H49: ='ISA-U17'!$H$36 -> 0 | I49: =IF(F49<>0,"ISA","")
A50: ='ISA-U17'!$B$37 -> 0 | B50: ='ISA-U17'!$C$37 -> 0 | C50: ='ISA-U17'!$D$37 -> 0 | D50: =IF(A50<>0,"ISA","") | F50: ='ISA-U17'!$F$37 -> 0 | G50: ='ISA-U17'!$G$37 -> 0 | H50: ='ISA-U17'!$H$37 -> 0 | I50: =IF(F50<>0,"ISA","")
A51: ='ISA-U17'!$B$38 -> 0 | B51: ='ISA-U17'!$C$38 -> 0 | C51: ='ISA-U17'!$D$38 -> 0 | D51: =IF(A51<>0,"ISA","") | F51: ='ISA-U17'!$F$38 -> 0 | G51: ='ISA-U17'!$G$38 -> 0 | H51: ='ISA-U17'!$H$38 -> 0 | I51: =IF(F51<>0,"ISA","")
A52: ='ISA-U17'!$B$39 -> 0 | B52: ='ISA-U17'!$C$39 -> 0 | C52: ='ISA-U17'!$D$39 -> 0 | D52: =IF(A52<>0,"ISA","") | F52: ='ISA-U17'!$F$39 -> 0 | G52: ='ISA-U17'!$G$39 -> 0 | H52: ='ISA-U17'!$H$39 -> 0 | I52: =IF(F52<>0,"ISA","")
A53: ='ISA-U17'!$B$40 -> 0 | B53: ='ISA-U17'!$C$40 -> 0 | C53: ='ISA-U17'!$D$40 -> 0 | D53: =IF(A53<>0,"ISA","") | F53: ='ISA-U17'!$F$40 -> 0 | G53: ='ISA-U17'!$G$40 -> 0 | H53: ='ISA-U17'!$H$40 -> 0 | I53: =IF(F53<>0,"ISA","")
A54: ='ISA-U17'!$B$41 -> 0 | B54: ='ISA-U17'!$C$41 -> 0 | C54: ='ISA-U17'!$D$41 -> 0 | D54: =IF(A54<>0,"ISA","") | F54: ='ISA-U17'!$F$41 -> 0 | G54: ='ISA-U17'!$G$41 -> 0 | H54: ='ISA-U17'!$H$41 -> 0 | I54: =IF(F54<>0,"ISA","")
A55: ='ISA-U17'!$B$42 -> 0 | B55: ='ISA-U17'!$C$42 -> 0 | C55: ='ISA-U17'!$D$42 -> 0 | D55: =IF(A55<>0,"ISA","") | F55: ='ISA-U17'!$F$42 -> 0 | G55: ='ISA-U17'!$G$42 -> 0 | H55: ='ISA-U17'!$H$42 -> 0 | I55: =IF(F55<>0,"ISA","")
A56: ='ISA-U17'!$B$43 -> 0 | B56: ='ISA-U17'!$C$43 -> 0 | C56: ='ISA-U17'!$D$43 -> 0 | D56: =IF(A56<>0,"ISA","") | F56: ='ISA-U17'!$F$43 -> 0 | G56: ='ISA-U17'!$G$43 -> 0 | H56: ='ISA-U17'!$H$43 -> 0 | I56: =IF(F56<>0,"BSAC","")
A57: ='IH-U17'!$B$34 -> 0 | B57: ='IH-U17'!$C$34 -> 0 | C57: ='IH-U17'!$D$34 -> 0 | D57: =IF(A57<>0,"IH","") | E57: U17 | F57: ='IH-U17'!$F$34 -> 0 | G57: ='IH-U17'!$G$34 -> 0 | H57: ='IH-U17'!$H$34 -> 0 | I57: =IF(F57<>0,"IH","")
A58: ='IH-U17'!$B$35 -> 0 | B58: ='IH-U17'!$C$35 -> 0 | C58: ='IH-U17'!$D$35 -> 0 | D58: =IF(A58<>0,"IH","") | F58: ='IH-U17'!$F$35 -> 0 | G58: ='IH-U17'!$G$35 -> 0 | H58: ='IH-U17'!$H$35 -> 0 | I58: =IF(F58<>0,"IH","")
A59: ='IH-U17'!$B$36 -> 0 | B59: ='IH-U17'!$C$36 -> 0 | C59: ='IH-U17'!$D$36 -> 0 | D59: =IF(A59<>0,"IH","") | F59: ='IH-U17'!$F$36 -> 0 | G59: ='IH-U17'!$G$36 -> 0 | H59: ='IH-U17'!$H$36 -> 0 | I59: =IF(F59<>0,"IH","")
A60: ='IH-U17'!$B$37 -> 0 | B60: ='IH-U17'!$C$37 -> 0 | C60: ='IH-U17'!$D$37 -> 0 | D60: =IF(A60<>0,"IH","") | F60: ='IH-U17'!$F$37 -> 0 | G60: ='IH-U17'!$G$37 -> 0 | H60: ='IH-U17'!$H$37 -> 0 | I60: =IF(F60<>0,"IH","")
A61: ='IH-U17'!$B$38 -> 0 | B61: ='IH-U17'!$C$38 -> 0 | C61: ='IH-U17'!$D$38 -> 0 | D61: =IF(A61<>0,"IH","") | F61: ='IH-U17'!$F$38 -> 0 | G61: ='IH-U17'!$G$38 -> 0 | H61: ='IH-U17'!$H$38 -> 0 | I61: =IF(F61<>0,"IH","")
A62: ='IH-U17'!$B$39 -> 0 | B62: ='IH-U17'!$C$39 -> 0 | C62: ='IH-U17'!$D$39 -> 0 | D62: =IF(A62<>0,"IH","") | F62: ='IH-U17'!$F$39 -> 0 | G62: ='IH-U17'!$G$39 -> 0 | H62: ='IH-U17'!$H$39 -> 0 | I62: =IF(F62<>0,"IH","")
A63: ='IH-U17'!$B$40 -> 0 | B63: ='IH-U17'!$C$40 -> 0 | C63: ='IH-U17'!$D$40 -> 0 | D63: =IF(A63<>0,"IH","") | F63: ='IH-U17'!$F$40 -> 0 | G63: ='IH-U17'!$G$40 -> 0 | H63: ='IH-U17'!$H$40 -> 0 | I63: =IF(F63<>0,"IH","")
A64: ='IH-U17'!$B$41 -> 0 | B64: ='IH-U17'!$C$41 -> 0 | C64: ='IH-U17'!$D$41 -> 0 | D64: =IF(A64<>0,"IH","") | F64: ='IH-U17'!$F$41 -> 0 | G64: ='IH-U17'!$G$41 -> 0 | H64: ='IH-U17'!$H$41 -> 0 | I64: =IF(F64<>0,"IH","")
A65: ='IH-U17'!$B$42 -> 0 | B65: ='IH-U17'!$C$42 -> 0 | C65: ='IH-U17'!$D$42 -> 0 | D65: =IF(A65<>0,"IH","") | F65: ='IH-U17'!$F$42 -> 0 | G65: ='IH-U17'!$G$42 -> 0 | H65: ='IH-U17'!$H$42 -> 0 | I65: =IF(F65<>0,"IH","")
A66: ='IH-U17'!$B$43 -> 0 | B66: ='IH-U17'!$C$43 -> 0 | C66: ='IH-U17'!$D$43 -> 0 | D66: =IF(A66<>0,"IH","") | F66: ='IH-U17'!$F$43 -> 0 | G66: ='IH-U17'!$G$43 -> 0 | H66: ='IH-U17'!$H$43 -> 0 | I66: =IF(F66<>0,"BSAC","")
A67: ='MAC_PSH-U17'!$B$34 -> 0 | B67: ='MAC_PSH-U17'!$C$34 -> 0 | C67: ='MAC_PSH-U17'!$D$34 -> 0 | D67: =IF(A67<>0,"MAC_PSH","") | E67: U17 | F67: ='MAC_PSH-U17'!$F$34 -> 0 | G67: ='MAC_PSH-U17'!$G$34 -> 0 | H67: ='MAC_PSH-U17'!$H$34 -> 0 | I67: =IF(F67<>0,"MAC_PSH","")
A68: ='MAC_PSH-U17'!$B$35 -> 0 | B68: ='MAC_PSH-U17'!$C$35 -> 0 | C68: ='MAC_PSH-U17'!$D$35 -> 0 | D68: =IF(A68<>0,"MAC_PSH","") | F68: ='MAC_PSH-U17'!$F$35 -> 0 | G68: ='MAC_PSH-U17'!$G$35 -> 0 | H68: ='MAC_PSH-U17'!$H$35 -> 0 | I68: =IF(F68<>0,"MAC_PSH","")
A69: ='MAC_PSH-U17'!$B$36 -> 0 | B69: ='MAC_PSH-U17'!$C$36 -> 0 | C69: ='MAC_PSH-U17'!$D$36 -> 0 | D69: =IF(A69<>0,"MAC_PSH","") | F69: ='MAC_PSH-U17'!$F$36 -> 0 | G69: ='MAC_PSH-U17'!$G$36 -> 0 | H69: ='MAC_PSH-U17'!$H$36 -> 0 | I69: =IF(F69<>0,"MAC_PSH","")
A70: ='MAC_PSH-U17'!$B$37 -> 0 | B70: ='MAC_PSH-U17'!$C$37 -> 0 | C70: ='MAC_PSH-U17'!$D$37 -> 0 | D70: =IF(A70<>0,"MAC_PSH","") | F70: ='MAC_PSH-U17'!$F$37 -> 0 | G70: ='MAC_PSH-U17'!$G$37 -> 0 | H70: ='MAC_PSH-U17'!$H$37 -> 0 | I70: =IF(F70<>0,"MAC_PSH","")
A71: ='MAC_PSH-U17'!$B$38 -> 0 | B71: ='MAC_PSH-U17'!$C$38 -> 0 | C71: ='MAC_PSH-U17'!$D$38 -> 0 | D71: =IF(A71<>0,"MAC_PSH","") | F71: ='MAC_PSH-U17'!$F$38 -> 0 | G71: ='MAC_PSH-U17'!$G$38 -> 0 | H71: ='MAC_PSH-U17'!$H$38 -> 0 | I71: =IF(F71<>0,"MAC_PSH","")
A72: ='MAC_PSH-U17'!$B$39 -> 0 | B72: ='MAC_PSH-U17'!$C$39 -> 0 | C72: ='MAC_PSH-U17'!$D$39 -> 0 | D72: =IF(A72<>0,"MAC_PSH","") | F72: ='MAC_PSH-U17'!$F$39 -> 0 | G72: ='MAC_PSH-U17'!$G$39 -> 0 | H72: ='MAC_PSH-U17'!$H$39 -> 0 | I72: =IF(F72<>0,"MAC_PSH","")
A73: ='MAC_PSH-U17'!$B$40 -> 0 | B73: ='MAC_PSH-U17'!$C$40 -> 0 | C73: ='MAC_PSH-U17'!$D$40 -> 0 | D73: =IF(A73<>0,"MAC_PSH","") | F73: ='MAC_PSH-U17'!$F$40 -> 0 | G73: ='MAC_PSH-U17'!$G$40 -> 0 | H73: ='MAC_PSH-U17'!$H$40 -> 0 | I73: =IF(F73<>0,"MAC_PSH","")
A74: ='MAC_PSH-U17'!$B$41 -> 0 | B74: ='MAC_PSH-U17'!$C$41 -> 0 | C74: ='MAC_PSH-U17'!$D$41 -> 0 | D74: =IF(A74<>0,"MAC_PSH","") | F74: ='MAC_PSH-U17'!$F$41 -> 0 | G74: ='MAC_PSH-U17'!$G$41 -> 0 | H74: ='MAC_PSH-U17'!$H$41 -> 0 | I74: =IF(F74<>0,"MAC_PSH","")
A75: ='MAC_PSH-U17'!$B$42 -> 0 | B75: ='MAC_PSH-U17'!$C$42 -> 0 | C75: ='MAC_PSH-U17'!$D$42 -> 0 | D75: =IF(A75<>0,"MAC_PSH","") | F75: ='MAC_PSH-U17'!$F$42 -> 0 | G75: ='MAC_PSH-U17'!$G$42 -> 0 | H75: ='MAC_PSH-U17'!$H$42 -> 0 | I75: =IF(F75<>0,"MAC_PSH","")
A76: ='MAC_PSH-U17'!$B$43 -> 0 | B76: ='MAC_PSH-U17'!$C$43 -> 0 | C76: ='MAC_PSH-U17'!$D$43 -> 0 | D76: =IF(A76<>0,"MAC_PSH","") | F76: ='MAC_PSH-U17'!$F$43 -> 0 | G76: ='MAC_PSH-U17'!$G$43 -> 0 | H76: ='MAC_PSH-U17'!$H$43 -> 0 | I76: =IF(F76<>0,"BSAC","")
A77: ='TN-U17'!$B$34 -> 0 | B77: ='TN-U17'!$C$34 -> 0 | C77: ='TN-U17'!$D$34 -> 0 | D77: =IF(A77<>0,"TN","") | E77: U17 | F77: ='TN-U17'!$F$34 -> 0 | G77: ='TN-U17'!$G$34 -> 0 | H77: ='TN-U17'!$H$34 -> 0 | I77: =IF(F77<>0,"TN","")
A78: ='TN-U17'!$B$35 -> 0 | B78: ='TN-U17'!$C$35 -> 0 | C78: ='TN-U17'!$D$35 -> 0 | D78: =IF(A78<>0,"TN","") | F78: ='TN-U17'!$F$35 -> 0 | G78: ='TN-U17'!$G$35 -> 0 | H78: ='TN-U17'!$H$35 -> 0 | I78: =IF(F78<>0,"TN","")
A79: ='TN-U17'!$B$36 -> 0 | B79: ='TN-U17'!$C$36 -> 0 | C79: ='TN-U17'!$D$36 -> 0 | D79: =IF(A79<>0,"TN","") | F79: ='TN-U17'!$F$36 -> 0 | G79: ='TN-U17'!$G$36 -> 0 | H79: ='TN-U17'!$H$36 -> 0 | I79: =IF(F79<>0,"TN","")
A80: ='TN-U17'!$B$37 -> 0 | B80: ='TN-U17'!$C$37 -> 0 | C80: ='TN-U17'!$D$37 -> 0 | D80: =IF(A80<>0,"TN","") | F80: ='TN-U17'!$F$37 -> 0 | G80: ='TN-U17'!$G$37 -> 0 | H80: ='TN-U17'!$H$37 -> 0 | I80: =IF(F80<>0,"TN","")
A81: ='TN-U17'!$B$38 -> 0 | B81: ='TN-U17'!$C$38 -> 0 | C81: ='TN-U17'!$D$38 -> 0 | D81: =IF(A81<>0,"TN","") | F81: ='TN-U17'!$F$38 -> 0 | G81: ='TN-U17'!$G$38 -> 0 | H81: ='TN-U17'!$H$38 -> 0 | I81: =IF(F81<>0,"TN","")
A82: ='TN-U17'!$B$39 -> 0 | B82: ='TN-U17'!$C$39 -> 0 | C82: ='TN-U17'!$D$39 -> 0 | D82: =IF(A82<>0,"TN","") | F82: ='TN-U17'!$F$39 -> 0 | G82: ='TN-U17'!$G$39 -> 0 | H82: ='TN-U17'!$H$39 -> 0 | I82: =IF(F82<>0,"TN","")
A83: ='TN-U17'!$B$40 -> 0 | B83: ='TN-U17'!$C$40 -> 0 | C83: ='TN-U17'!$D$40 -> 0 | D83: =IF(A83<>0,"TN","") | F83: ='TN-U17'!$F$40 -> 0 | G83: ='TN-U17'!$G$40 -> 0 | H83: ='TN-U17'!$H$40 -> 0 | I83: =IF(F83<>0,"TN","")
A84: ='TN-U17'!$B$41 -> 0 | B84: ='TN-U17'!$C$41 -> 0 | C84: ='TN-U17'!$D$41 -> 0 | D84: =IF(A84<>0,"TN","") | F84: ='TN-U17'!$F$41 -> 0 | G84: ='TN-U17'!$G$41 -> 0 | H84: ='TN-U17'!$H$41 -> 0 | I84: =IF(F84<>0,"TN","")
A85: ='TN-U17'!$B$42 -> 0 | B85: ='TN-U17'!$C$42 -> 0 | C85: ='TN-U17'!$D$42 -> 0 | D85: =IF(A85<>0,"TN","") | F85: ='TN-U17'!$F$42 -> 0 | G85: ='TN-U17'!$G$42 -> 0 | H85: ='TN-U17'!$H$42 -> 0 | I85: =IF(F85<>0,"TN","")
A86: ='TN-U17'!$B$43 -> 0 | B86: ='TN-U17'!$C$43 -> 0 | C86: ='TN-U17'!$D$43 -> 0 | D86: =IF(A86<>0,"TN","") | F86: ='TN-U17'!$F$43 -> 0 | G86: ='TN-U17'!$G$43 -> 0 | H86: ='TN-U17'!$H$43 -> 0 | I86: =IF(F86<>0,"BSAC","")

Sheet U20 Non Counters
A1: Non Counters
A2: Event | B2: No | C2: Name | D2: Club | F2: Event | G2: No | H2: Name | I2: Club
A3: ='AAAC-U20'!$B$34 -> 0 | B3: ='AAAC-U20'!$C$34 -> 0 | C3: ='AAAC-U20'!$D$34 -> 0 | D3: =IF(A3<>0,"AAAC","") | E3: U20 | F3: ='AAAC-U20'!$F$34 -> 0 | G3: ='AAAC-U20'!$G$34 -> 0 | H3: ='AAAC-U20'!$H$34 -> 0 | I3: =IF(F3<>0,"AAAC","")
A4: ='AAAC-U20'!$B$35 -> 0 | B4: ='AAAC-U20'!$C$35 -> 0 | C4: ='AAAC-U20'!$D$35 -> 0 | D4: =IF(A4<>0,"AAAC","") | F4: ='AAAC-U20'!$F$35 -> 0 | G4: ='AAAC-U20'!$G$35 -> 0 | H4: ='AAAC-U20'!$H$35 -> 0 | I4: =IF(F4<>0,"AAAC","")
A5: ='AAAC-U20'!$B$36 -> 0 | B5: ='AAAC-U20'!$C$36 -> 0 | C5: ='AAAC-U20'!$D$36 -> 0 | D5: =IF(A5<>0,"AAAC","") | F5: ='AAAC-U20'!$F$36 -> 0 | G5: ='AAAC-U20'!$G$36 -> 0 | H5: ='AAAC-U20'!$H$36 -> 0 | I5: =IF(F5<>0,"AAAC","")
A6: ='AAAC-U20'!$B$37 -> 0 | B6: ='AAAC-U20'!$C$37 -> 0 | C6: ='AAAC-U20'!$D$37 -> 0 | D6: =IF(A6<>0,"AAAC","") | F6: ='AAAC-U20'!$F$37 -> 0 | G6: ='AAAC-U20'!$G$37 -> 0 | H6: ='AAAC-U20'!$H$37 -> 0 | I6: =IF(F6<>0,"AAAC","")
A7: ='AAAC-U20'!$B$38 -> 0 | B7: ='AAAC-U20'!$C$38 -> 0 | C7: ='AAAC-U20'!$D$38 -> 0 | D7: =IF(A7<>0,"AAAC","") | F7: ='AAAC-U20'!$F$38 -> 0 | G7: ='AAAC-U20'!$G$38 -> 0 | H7: ='AAAC-U20'!$H$38 -> 0 | I7: =IF(F7<>0,"AAAC","")
A8: ='AAAC-U20'!$B$39 -> 0 | B8: ='AAAC-U20'!$C$39 -> 0 | C8: ='AAAC-U20'!$D$39 -> 0 | D8: =IF(A8<>0,"AAAC","") | F8: ='AAAC-U20'!$F$39 -> 0 | G8: ='AAAC-U20'!$G$39 -> 0 | H8: ='AAAC-U20'!$H$39 -> 0 | I8: =IF(F8<>0,"AAAC","")
A9: ='AAAC-U20'!$B$40 -> 0 | B9: ='AAAC-U20'!$C$40 -> 0 | C9: ='AAAC-U20'!$D$40 -> 0 | D9: =IF(A9<>0,"AAAC","") | F9: ='AAAC-U20'!$F$40 -> 0 | G9: ='AAAC-U20'!$G$40 -> 0 | H9: ='AAAC-U20'!$H$40 -> 0 | I9: =IF(F9<>0,"AAAC","")
A10: ='AAAC-U20'!$B$41 -> 0 | B10: ='AAAC-U20'!$C$41 -> 0 | C10: ='AAAC-U20'!$D$41 -> 0 | D10: =IF(A10<>0,"AAAC","") | F10: ='AAAC-U20'!$F$41 -> 0 | G10: ='AAAC-U20'!$G$41 -> 0 | H10: ='AAAC-U20'!$H$41 -> 0 | I10: =IF(F10<>0,"AAAC","")
A11: ='AAAC-U20'!$B$42 -> 0 | B11: ='AAAC-U20'!$C$42 -> 0 | C11: ='AAAC-U20'!$D$42 -> 0 | D11: =IF(A11<>0,"AAAC","") | F11: ='AAAC-U20'!$F$42 -> 0 | G11: ='AAAC-U20'!$G$42 -> 0 | H11: ='AAAC-U20'!$H$42 -> 0 | I11: =IF(F11<>0,"AAAC","")
A12: ='AAAC-U20'!$B$43 -> 0 | B12: ='AAAC-U20'!$C$43 -> 0 | C12: ='AAAC-U20'!$D$43 -> 0 | D12: =IF(A12<>0,"AAAC","") | F12: ='AAAC-U20'!$F$42 -> 0 | G12: ='AAAC-U20'!$G$42 -> 0 | H12: ='AAAC-U20'!$H$42 -> 0 | I12: =IF(F12<>0,"AAAC","")
A13: ='AAAC-U20'!$B$44 -> 0 | B13: ='AAAC-U20'!$C$44 -> 0 | C13: ='AAAC-U20'!$D$44 -> 0 | D13: =IF(A13<>0,"AAAC","") | F13: ='AAAC-U20'!$F$42 -> 0 | G13: ='AAAC-U20'!$G$42 -> 0 | H13: ='AAAC-U20'!$H$42 -> 0 | I13: =IF(F13<>0,"AAAC","")
A14: ='AAAC-U20'!$B$45 -> 0 | B14: ='AAAC-U20'!$C$45 -> 0 | C14: ='AAAC-U20'!$D$45 -> 0 | D14: =IF(A14<>0,"AAAC","") | F14: ='AAAC-U20'!$F$42 -> 0 | G14: ='AAAC-U20'!$G$42 -> 0 | H14: ='AAAC-U20'!$H$42 -> 0 | I14: =IF(F14<>0,"AAAC","")
A15: ='AAAC-U20'!$B$46 -> 0 | B15: ='AAAC-U20'!$C$46 -> 0 | C15: ='AAAC-U20'!$D$46 -> 0 | D15: =IF(A15<>0,"AAAC","") | F15: ='AAAC-U20'!$F$42 -> 0 | G15: ='AAAC-U20'!$G$42 -> 0 | H15: ='AAAC-U20'!$H$42 -> 0 | I15: =IF(F15<>0,"AAAC","")
A16: ='AAAC-U20'!$B$47 -> 0 | B16: ='AAAC-U20'!$C$47 -> 0 | C16: ='AAAC-U20'!$D$47 -> 0 | D16: =IF(A16<>0,"AAAC","") | F16: ='AAAC-U20'!$F$47 -> 0 | G16: ='AAAC-U20'!$G$47 -> 0 | H16: ='AAAC-U20'!$H$47 -> 0 | I16: =IF(F16<>0,"AAAC","")
A17: ='ADAC-U20'!$B$34 -> 0 | B17: ='ADAC-U20'!$C$34 -> 0 | C17: ='ADAC-U20'!$D$34 -> 0 | D17: =IF(A17<>0,"ADAC","") | E17: U20 | F17: ='ADAC-U20'!$F$34 -> 0 | G17: ='ADAC-U20'!$G$34 -> 0 | H17: ='ADAC-U20'!$H$34 -> 0 | I17: =IF(F17<>0,"ADAC","")
A18: ='ADAC-U20'!$B$35 -> 0 | B18: ='ADAC-U20'!$C$35 -> 0 | C18: ='ADAC-U20'!$D$35 -> 0 | D18: =IF(A18<>0,"ADAC","") | F18: ='ADAC-U20'!$F$35 -> 0 | G18: ='ADAC-U20'!$G$35 -> 0 | H18: ='ADAC-U20'!$H$35 -> 0 | I18: =IF(F18<>0,"ADAC","")
A19: ='ADAC-U20'!$B$36 -> 0 | B19: ='ADAC-U20'!$C$36 -> 0 | C19: ='ADAC-U20'!$D$36 -> 0 | D19: =IF(A19<>0,"ADAC","") | F19: ='ADAC-U20'!$F$36 -> 0 | G19: ='ADAC-U20'!$G$36 -> 0 | H19: ='ADAC-U20'!$H$36 -> 0 | I19: =IF(F19<>0,"ADAC","")
A20: ='ADAC-U20'!$B$37 -> 0 | B20: ='ADAC-U20'!$C$37 -> 0 | C20: ='ADAC-U20'!$D$37 -> 0 | D20: =IF(A20<>0,"ADAC","") | F20: ='ADAC-U20'!$F$37 -> 0 | G20: ='ADAC-U20'!$G$37 -> 0 | H20: ='ADAC-U20'!$H$37 -> 0 | I20: =IF(F20<>0,"ADAC","")
A21: ='ADAC-U20'!$B$38 -> 0 | B21: ='ADAC-U20'!$C$38 -> 0 | C21: ='ADAC-U20'!$D$38 -> 0 | D21: =IF(A21<>0,"ADAC","") | F21: ='ADAC-U20'!$F$38 -> 0 | G21: ='ADAC-U20'!$G$38 -> 0 | H21: ='ADAC-U20'!$H$38 -> 0 | I21: =IF(F21<>0,"ADAC","")
A22: ='ADAC-U20'!$B$39 -> 0 | B22: ='ADAC-U20'!$C$39 -> 0 | C22: ='ADAC-U20'!$D$39 -> 0 | D22: =IF(A22<>0,"ADAC","") | F22: ='ADAC-U20'!$F$39 -> 0 | G22: ='ADAC-U20'!$G$39 -> 0 | H22: ='ADAC-U20'!$H$39 -> 0 | I22: =IF(F22<>0,"ADAC","")
A23: ='ADAC-U20'!$B$40 -> 0 | B23: ='ADAC-U20'!$C$40 -> 0 | C23: ='ADAC-U20'!$D$40 -> 0 | D23: =IF(A23<>0,"ADAC","") | F23: ='ADAC-U20'!$F$40 -> 0 | G23: ='ADAC-U20'!$G$40 -> 0 | H23: ='ADAC-U20'!$H$40 -> 0 | I23: =IF(F23<>0,"ADAC","")
A24: ='ADAC-U20'!$B$41 -> 0 | B24: ='ADAC-U20'!$C$41 -> 0 | C24: ='ADAC-U20'!$D$41 -> 0 | D24: =IF(A24<>0,"ADAC","") | F24: ='ADAC-U20'!$F$41 -> 0 | G24: ='ADAC-U20'!$G$41 -> 0 | H24: ='ADAC-U20'!$H$41 -> 0 | I24: =IF(F24<>0,"ADAC","")
A25: ='ADAC-U20'!$B$42 -> 0 | B25: ='ADAC-U20'!$C$42 -> 0 | C25: ='ADAC-U20'!$D$42 -> 0 | D25: =IF(A25<>0,"ADAC","") | F25: ='ADAC-U20'!$F$42 -> 0 | G25: ='ADAC-U20'!$G$42 -> 0 | H25: ='ADAC-U20'!$H$42 -> 0 | I25: =IF(F25<>0,"ADAC","")
A26: ='ADAC-U20'!$B$43 -> 0 | B26: ='ADAC-U20'!$C$43 -> 0 | C26: ='ADAC-U20'!$D$43 -> 0 | D26: =IF(A26<>0,"ADAC","") | F26: ='ADAC-U20'!$F$43 -> 0 | G26: ='ADAC-U20'!$G$43 -> 0 | H26: ='ADAC-U20'!$H$43 -> 0 | I26: =IF(F26<>0,"ADAC","")
A27: ='BSAC-U20'!$B$34 -> 0 | B27: ='BSAC-U20'!$C$34 -> 0 | C27: ='BSAC-U20'!$D$34 -> 0 | D27: =IF(A27<>0,"BSAC","") | E27: U20 | F27: ='BSAC-U20'!$F$34 -> 0 | G27: ='BSAC-U20'!$G$34 -> 0 | H27: ='BSAC-U20'!$H$34 -> 0 | I27: =IF(F27<>0,"BSAC","")
A28: ='BSAC-U20'!$B$35 -> 0 | B28: ='BSAC-U20'!$C$35 -> 0 | C28: ='BSAC-U20'!$D$35 -> 0 | D28: =IF(A28<>0,"BSAC","") | F28: ='BSAC-U20'!$F$35 -> 0 | G28: ='BSAC-U20'!$G$35 -> 0 | H28: ='BSAC-U20'!$H$35 -> 0 | I28: =IF(F28<>0,"BSAC","")
A29: ='BSAC-U20'!$B$36 -> 0 | B29: ='BSAC-U20'!$C$36 -> 0 | C29: ='BSAC-U20'!$D$36 -> 0 | D29: =IF(A29<>0,"BSAC","") | F29: ='BSAC-U20'!$F$36 -> 0 | G29: ='BSAC-U20'!$G$36 -> 0 | H29: ='BSAC-U20'!$H$36 -> 0 | I29: =IF(F29<>0,"BSAC","")
A30: ='BSAC-U20'!$B$37 -> 0 | B30: ='BSAC-U20'!$C$37 -> 0 | C30: ='BSAC-U20'!$D$37 -> 0 | D30: =IF(A30<>0,"BSAC","") | F30: ='BSAC-U20'!$F$37 -> 0 | G30: ='BSAC-U20'!$G$37 -> 0 | H30: ='BSAC-U20'!$H$37 -> 0 | I30: =IF(F30<>0,"BSAC","")
A31: ='BSAC-U20'!$B$38 -> 0 | B31: ='BSAC-U20'!$C$38 -> 0 | C31: ='BSAC-U20'!$D$38 -> 0 | D31: =IF(A31<>0,"BSAC","") | F31: ='BSAC-U20'!$F$38 -> 0 | G31: ='BSAC-U20'!$G$38 -> 0 | H31: ='BSAC-U20'!$H$38 -> 0 | I31: =IF(F31<>0,"BSAC","")
A32: ='BSAC-U20'!$B$39 -> 0 | B32: ='BSAC-U20'!$C$39 -> 0 | C32: ='BSAC-U20'!$D$39 -> 0 | D32: =IF(A32<>0,"BSAC","") | F32: ='BSAC-U20'!$F$39 -> 0 | G32: ='BSAC-U20'!$G$39 -> 0 | H32: ='BSAC-U20'!$H$39 -> 0 | I32: =IF(F32<>0,"BSAC","")
A33: ='BSAC-U20'!$B$40 -> 0 | B33: ='BSAC-U20'!$C$40 -> 0 | C33: ='BSAC-U20'!$D$40 -> 0 | D33: =IF(A33<>0,"BSAC","") | F33: ='BSAC-U20'!$F$40 -> 0 | G33: ='BSAC-U20'!$G$40 -> 0 | H33: ='BSAC-U20'!$H$40 -> 0 | I33: =IF(F33<>0,"BSAC","")
A34: ='BSAC-U20'!$B$41 -> 0 | B34: ='BSAC-U20'!$C$41 -> 0 | C34: ='BSAC-U20'!$D$41 -> 0 | D34: =IF(A34<>0,"BSAC","") | F34: ='BSAC-U20'!$F$41 -> 0 | G34: ='BSAC-U20'!$G$41 -> 0 | H34: ='BSAC-U20'!$H$41 -> 0 | I34: =IF(F34<>0,"BSAC","")
A35: ='BSAC-U20'!$B$42 -> 0 | B35: ='BSAC-U20'!$C$42 -> 0 | C35: ='BSAC-U20'!$D$42 -> 0 | D35: =IF(A35<>0,"BSAC","") | F35: ='BSAC-U20'!$F$42 -> 0 | G35: ='BSAC-U20'!$G$42 -> 0 | H35: ='BSAC-U20'!$H$42 -> 0 | I35: =IF(F35<>0,"BSAC","")
A36: ='BSAC-U20'!$B$43 -> 0 | B36: ='BSAC-U20'!$C$43 -> 0 | C36: ='BSAC-U20'!$D$43 -> 0 | D36: =IF(A36<>0,"BSAC","") | F36: ='BSAC-U20'!$F$43 -> 0 | G36: ='BSAC-U20'!$G$43 -> 0 | H36: ='BSAC-U20'!$H$43 -> 0 | I36: =IF(F36<>0,"BSAC","")
A37: ='DHH-U20'!$B$34 -> 0 | B37: ='DHH-U20'!$C$34 -> 0 | C37: ='DHH-U20'!$D$34 -> 0 | D37: =IF(A37<>0,"DHH","") | E37: U20 | F37: ='DHH-U20'!$F$34 -> 0 | G37: ='DHH-U20'!$G$34 -> 0 | H37: ='DHH-U20'!$H$34 -> 0 | I37: =IF(F37<>0,"DHH","")
A38: ='DHH-U20'!$B$35 -> 0 | B38: ='DHH-U20'!$C$35 -> 0 | C38: ='DHH-U20'!$D$35 -> 0 | D38: =IF(A38<>0,"DHH","") | F38: ='DHH-U20'!$F$35 -> 0 | G38: ='DHH-U20'!$G$35 -> 0 | H38: ='DHH-U20'!$H$35 -> 0 | I38: =IF(F38<>0,"DHH","")
A39: ='DHH-U20'!$B$36 -> 0 | B39: ='DHH-U20'!$C$36 -> 0 | C39: ='DHH-U20'!$D$36 -> 0 | D39: =IF(A39<>0,"DHH","") | F39: ='DHH-U20'!$F$36 -> 0 | G39: ='DHH-U20'!$G$36 -> 0 | H39: ='DHH-U20'!$H$36 -> 0 | I39: =IF(F39<>0,"DHH","")
A40: ='DHH-U20'!$B$37 -> 0 | B40: ='DHH-U20'!$C$37 -> 0 | C40: ='DHH-U20'!$D$37 -> 0 | D40: =IF(A40<>0,"DHH","") | F40: ='DHH-U20'!$F$37 -> 0 | G40: ='DHH-U20'!$G$37 -> 0 | H40: ='DHH-U20'!$H$37 -> 0 | I40: =IF(F40<>0,"DHH","")
A41: ='DHH-U20'!$B$38 -> 0 | B41: ='DHH-U20'!$C$38 -> 0 | C41: ='DHH-U20'!$D$38 -> 0 | D41: =IF(A41<>0,"DHH","") | F41: ='DHH-U20'!$F$38 -> 0 | G41: ='DHH-U20'!$G$38 -> 0 | H41: ='DHH-U20'!$H$38 -> 0 | I41: =IF(F41<>0,"DHH","")
A42: ='DHH-U20'!$B$39 -> 0 | B42: ='DHH-U20'!$C$39 -> 0 | C42: ='DHH-U20'!$D$39 -> 0 | D42: =IF(A42<>0,"DHH","") | F42: ='DHH-U20'!$F$39 -> 0 | G42: ='DHH-U20'!$G$39 -> 0 | H42: ='DHH-U20'!$H$39 -> 0 | I42: =IF(F42<>0,"DHH","")
A43: ='DHH-U20'!$B$40 -> 0 | B43: ='DHH-U20'!$C$40 -> 0 | C43: ='DHH-U20'!$D$40 -> 0 | D43: =IF(A43<>0,"DHH","") | F43: ='DHH-U20'!$F$40 -> 0 | G43: ='DHH-U20'!$G$40 -> 0 | H43: ='DHH-U20'!$H$40 -> 0 | I43: =IF(F43<>0,"DHH","")
A44: ='DHH-U20'!$B$41 -> 0 | B44: ='DHH-U20'!$C$41 -> 0 | C44: ='DHH-U20'!$D$41 -> 0 | D44: =IF(A44<>0,"DHH","") | F44: ='DHH-U20'!$F$41 -> 0 | G44: ='DHH-U20'!$G$41 -> 0 | H44: ='DHH-U20'!$H$41 -> 0 | I44: =IF(F44<>0,"DHH","")
A45: ='DHH-U20'!$B$42 -> 0 | B45: ='DHH-U20'!$C$42 -> 0 | C45: ='DHH-U20'!$D$42 -> 0 | D45: =IF(A45<>0,"DHH","") | F45: ='DHH-U20'!$F$42 -> 0 | G45: ='DHH-U20'!$G$42 -> 0 | H45: ='DHH-U20'!$H$42 -> 0 | I45: =IF(F45<>0,"DHH","")
A46: ='DHH-U20'!$B$43 -> 0 | B46: ='DHH-U20'!$C$43 -> 0 | C46: ='DHH-U20'!$D$43 -> 0 | D46: =IF(A46<>0,"DHH","") | F46: ='DHH-U20'!$F$43 -> 0 | G46: ='DHH-U20'!$G$43 -> 0 | H46: ='DHH-U20'!$H$43 -> 0 | I46: =IF(F46<>0,"BSAC","")
A47: ='ISA-U20'!$B$34 -> 0 | B47: ='ISA-U20'!$C$34 -> 0 | C47: ='ISA-U20'!$D$34 -> 0 | D47: =IF(A47<>0,"ISA","") | E47: U20 | F47: ='ISA-U20'!$F$34 -> 0 | G47: ='ISA-U20'!$G$34 -> 0 | H47: ='ISA-U20'!$H$34 -> 0 | I47: =IF(F47<>0,"ISA","")
A48: ='ISA-U20'!$B$35 -> 0 | B48: ='ISA-U20'!$C$35 -> 0 | C48: ='ISA-U20'!$D$35 -> 0 | D48: =IF(A48<>0,"ISA","") | F48: ='ISA-U20'!$F$35 -> 0 | G48: ='ISA-U20'!$G$35 -> 0 | H48: ='ISA-U20'!$H$35 -> 0 | I48: =IF(F48<>0,"ISA","")
A49: ='ISA-U20'!$B$36 -> 0 | B49: ='ISA-U20'!$C$36 -> 0 | C49: ='ISA-U20'!$D$36 -> 0 | D49: =IF(A49<>0,"ISA","") | F49: ='ISA-U20'!$F$36 -> 0 | G49: ='ISA-U20'!$G$36 -> 0 | H49: ='ISA-U20'!$H$36 -> 0 | I49: =IF(F49<>0,"ISA","")
A50: ='ISA-U20'!$B$37 -> 0 | B50: ='ISA-U20'!$C$37 -> 0 | C50: ='ISA-U20'!$D$37 -> 0 | D50: =IF(A50<>0,"ISA","") | F50: ='ISA-U20'!$F$37 -> 0 | G50: ='ISA-U20'!$G$37 -> 0 | H50: ='ISA-U20'!$H$37 -> 0 | I50: =IF(F50<>0,"ISA","")
A51: ='ISA-U20'!$B$38 -> 0 | B51: ='ISA-U20'!$C$38 -> 0 | C51: ='ISA-U20'!$D$38 -> 0 | D51: =IF(A51<>0,"ISA","") | F51: ='ISA-U20'!$F$38 -> 0 | G51: ='ISA-U20'!$G$38 -> 0 | H51: ='ISA-U20'!$H$38 -> 0 | I51: =IF(F51<>0,"ISA","")
A52: ='ISA-U20'!$B$39 -> 0 | B52: ='ISA-U20'!$C$39 -> 0 | C52: ='ISA-U20'!$D$39 -> 0 | D52: =IF(A52<>0,"ISA","") | F52: ='ISA-U20'!$F$39 -> 0 | G52: ='ISA-U20'!$G$39 -> 0 | H52: ='ISA-U20'!$H$39 -> 0 | I52: =IF(F52<>0,"ISA","")
A53: ='ISA-U20'!$B$40 -> 0 | B53: ='ISA-U20'!$C$40 -> 0 | C53: ='ISA-U20'!$D$40 -> 0 | D53: =IF(A53<>0,"ISA","") | F53: ='ISA-U20'!$F$40 -> 0 | G53: ='ISA-U20'!$G$40 -> 0 | H53: ='ISA-U20'!$H$40 -> 0 | I53: =IF(F53<>0,"ISA","")
A54: ='ISA-U20'!$B$41 -> 0 | B54: ='ISA-U20'!$C$41 -> 0 | C54: ='ISA-U20'!$D$41 -> 0 | D54: =IF(A54<>0,"ISA","") | F54: ='ISA-U20'!$F$41 -> 0 | G54: ='ISA-U20'!$G$41 -> 0 | H54: ='ISA-U20'!$H$41 -> 0 | I54: =IF(F54<>0,"ISA","")
A55: ='ISA-U20'!$B$42 -> 0 | B55: ='ISA-U20'!$C$42 -> 0 | C55: ='ISA-U20'!$D$42 -> 0 | D55: =IF(A55<>0,"ISA","") | F55: ='ISA-U20'!$F$42 -> 0 | G55: ='ISA-U20'!$G$42 -> 0 | H55: ='ISA-U20'!$H$42 -> 0 | I55: =IF(F55<>0,"ISA","")
A56: ='ISA-U20'!$B$43 -> 0 | B56: ='ISA-U20'!$C$43 -> 0 | C56: ='ISA-U20'!$D$43 -> 0 | D56: =IF(A56<>0,"ISA","") | F56: ='ISA-U20'!$F$43 -> 0 | G56: ='ISA-U20'!$G$43 -> 0 | H56: ='ISA-U20'!$H$43 -> 0 | I56: =IF(F56<>0,"BSAC","")
A57: ='IH-U20'!$B$34 -> 0 | B57: ='IH-U20'!$C$34 -> 0 | C57: ='IH-U20'!$D$34 -> 0 | D57: =IF(A57<>0,"IH","") | E57: U20 | F57: ='IH-U20'!$F$34 -> 0 | G57: ='IH-U20'!$G$34 -> 0 | H57: ='IH-U20'!$H$34 -> 0 | I57: =IF(F57<>0,"IH","")
A58: ='IH-U20'!$B$35 -> 0 | B58: ='IH-U20'!$C$35 -> 0 | C58: ='IH-U20'!$D$35 -> 0 | D58: =IF(A58<>0,"IH","") | F58: ='IH-U20'!$F$35 -> 0 | G58: ='IH-U20'!$G$35 -> 0 | H58: ='IH-U20'!$H$35 -> 0 | I58: =IF(F58<>0,"IH","")
A59: ='IH-U20'!$B$36 -> 0 | B59: ='IH-U20'!$C$36 -> 0 | C59: ='IH-U20'!$D$36 -> 0 | D59: =IF(A59<>0,"IH","") | F59: ='IH-U20'!$F$36 -> 0 | G59: ='IH-U20'!$G$36 -> 0 | H59: ='IH-U20'!$H$36 -> 0 | I59: =IF(F59<>0,"IH","")
A60: ='IH-U20'!$B$37 -> 0 | B60: ='IH-U20'!$C$37 -> 0 | C60: ='IH-U20'!$D$37 -> 0 | D60: =IF(A60<>0,"IH","") | F60: ='IH-U20'!$F$37 -> 0 | G60: ='IH-U20'!$G$37 -> 0 | H60: ='IH-U20'!$H$37 -> 0 | I60: =IF(F60<>0,"IH","")
A61: ='IH-U20'!$B$38 -> 0 | B61: ='IH-U20'!$C$38 -> 0 | C61: ='IH-U20'!$D$38 -> 0 | D61: =IF(A61<>0,"IH","") | F61: ='IH-U20'!$F$38 -> 0 | G61: ='IH-U20'!$G$38 -> 0 | H61: ='IH-U20'!$H$38 -> 0 | I61: =IF(F61<>0,"IH","")
A62: ='IH-U20'!$B$39 -> 0 | B62: ='IH-U20'!$C$39 -> 0 | C62: ='IH-U20'!$D$39 -> 0 | D62: =IF(A62<>0,"IH","") | F62: ='IH-U20'!$F$39 -> 0 | G62: ='IH-U20'!$G$39 -> 0 | H62: ='IH-U20'!$H$39 -> 0 | I62: =IF(F62<>0,"IH","")
A63: ='IH-U20'!$B$40 -> 0 | B63: ='IH-U20'!$C$40 -> 0 | C63: ='IH-U20'!$D$40 -> 0 | D63: =IF(A63<>0,"IH","") | F63: ='IH-U20'!$F$40 -> 0 | G63: ='IH-U20'!$G$40 -> 0 | H63: ='IH-U20'!$H$40 -> 0 | I63: =IF(F63<>0,"IH","")
A64: ='IH-U20'!$B$41 -> 0 | B64: ='IH-U20'!$C$41 -> 0 | C64: ='IH-U20'!$D$41 -> 0 | D64: =IF(A64<>0,"IH","") | F64: ='IH-U20'!$F$41 -> 0 | G64: ='IH-U20'!$G$41 -> 0 | H64: ='IH-U20'!$H$41 -> 0 | I64: =IF(F64<>0,"IH","")
A65: ='IH-U20'!$B$42 -> 0 | B65: ='IH-U20'!$C$42 -> 0 | C65: ='IH-U20'!$D$42 -> 0 | D65: =IF(A65<>0,"IH","") | F65: ='IH-U20'!$F$42 -> 0 | G65: ='IH-U20'!$G$42 -> 0 | H65: ='IH-U20'!$H$42 -> 0 | I65: =IF(F65<>0,"IH","")
A66: ='IH-U20'!$B$43 -> 0 | B66: ='IH-U20'!$C$43 -> 0 | C66: ='IH-U20'!$D$43 -> 0 | D66: =IF(A66<>0,"IH","") | F66: ='IH-U20'!$F$43 -> 0 | G66: ='IH-U20'!$G$43 -> 0 | H66: ='IH-U20'!$H$43 -> 0 | I66: =IF(F66<>0,"BSAC","")
A67: ='MAC_PSH-U20'!$B$34 -> 0 | B67: ='MAC_PSH-U20'!$C$34 -> 0 | C67: ='MAC_PSH-U20'!$D$34 -> 0 | D67: =IF(A67<>0,"MAC_PSH","") | E67: U20 | F67: ='MAC_PSH-U20'!$F$34 -> 0 | G67: ='MAC_PSH-U20'!$G$34 -> 0 | H67: ='MAC_PSH-U20'!$H$34 -> 0 | I67: =IF(F67<>0,"MAC_PSH","")
A68: ='MAC_PSH-U20'!$B$35 -> 0 | B68: ='MAC_PSH-U20'!$C$35 -> 0 | C68: ='MAC_PSH-U20'!$D$35 -> 0 | D68: =IF(A68<>0,"MAC_PSH","") | F68: ='MAC_PSH-U20'!$F$35 -> 0 | G68: ='MAC_PSH-U20'!$G$35 -> 0 | H68: ='MAC_PSH-U20'!$H$35 -> 0 | I68: =IF(F68<>0,"MAC_PSH","")
A69: ='MAC_PSH-U20'!$B$36 -> 0 | B69: ='MAC_PSH-U20'!$C$36 -> 0 | C69: ='MAC_PSH-U20'!$D$36 -> 0 | D69: =IF(A69<>0,"MAC_PSH","") | F69: ='MAC_PSH-U20'!$F$36 -> 0 | G69: ='MAC_PSH-U20'!$G$36 -> 0 | H69: ='MAC_PSH-U20'!$H$36 -> 0 | I69: =IF(F69<>0,"MAC_PSH","")
A70: ='MAC_PSH-U20'!$B$37 -> 0 | B70: ='MAC_PSH-U20'!$C$37 -> 0 | C70: ='MAC_PSH-U20'!$D$37 -> 0 | D70: =IF(A70<>0,"MAC_PSH","") | F70: ='MAC_PSH-U20'!$F$37 -> 0 | G70: ='MAC_PSH-U20'!$G$37 -> 0 | H70: ='MAC_PSH-U20'!$H$37 -> 0 | I70: =IF(F70<>0,"MAC_PSH","")
A71: ='MAC_PSH-U20'!$B$38 -> 0 | B71: ='MAC_PSH-U20'!$C$38 -> 0 | C71: ='MAC_PSH-U20'!$D$38 -> 0 | D71: =IF(A71<>0,"MAC_PSH","") | F71: ='MAC_PSH-U20'!$F$38 -> 0 | G71: ='MAC_PSH-U20'!$G$38 -> 0 | H71: ='MAC_PSH-U20'!$H$38 -> 0 | I71: =IF(F71<>0,"MAC_PSH","")
A72: ='MAC_PSH-U20'!$B$39 -> 0 | B72: ='MAC_PSH-U20'!$C$39 -> 0 | C72: ='MAC_PSH-U20'!$D$39 -> 0 | D72: =IF(A72<>0,"MAC_PSH","") | F72: ='MAC_PSH-U20'!$F$39 -> 0 | G72: ='MAC_PSH-U20'!$G$39 -> 0 | H72: ='MAC_PSH-U20'!$H$39 -> 0 | I72: =IF(F72<>0,"MAC_PSH","")
A73: ='MAC_PSH-U20'!$B$40 -> 0 | B73: ='MAC_PSH-U20'!$C$40 -> 0 | C73: ='MAC_PSH-U20'!$D$40 -> 0 | D73: =IF(A73<>0,"MAC_PSH","") | F73: ='MAC_PSH-U20'!$F$40 -> 0 | G73: ='MAC_PSH-U20'!$G$40 -> 0 | H73: ='MAC_PSH-U20'!$H$40 -> 0 | I73: =IF(F73<>0,"MAC_PSH","")
A74: ='MAC_PSH-U20'!$B$41 -> 0 | B74: ='MAC_PSH-U20'!$C$41 -> 0 | C74: ='MAC_PSH-U20'!$D$41 -> 0 | D74: =IF(A74<>0,"MAC_PSH","") | F74: ='MAC_PSH-U20'!$F$41 -> 0 | G74: ='MAC_PSH-U20'!$G$41 -> 0 | H74: ='MAC_PSH-U20'!$H$41 -> 0 | I74: =IF(F74<>0,"MAC_PSH","")
A75: ='MAC_PSH-U20'!$B$42 -> 0 | B75: ='MAC_PSH-U20'!$C$42 -> 0 | C75: ='MAC_PSH-U20'!$D$42 -> 0 | D75: =IF(A75<>0,"MAC_PSH","") | F75: ='MAC_PSH-U20'!$F$42 -> 0 | G75: ='MAC_PSH-U20'!$G$42 -> 0 | H75: ='MAC_PSH-U20'!$H$42 -> 0 | I75: =IF(F75<>0,"MAC_PSH","")
A76: ='MAC_PSH-U20'!$B$43 -> 0 | B76: ='MAC_PSH-U20'!$C$43 -> 0 | C76: ='MAC_PSH-U20'!$D$43 -> 0 | D76: =IF(A76<>0,"MAC_PSH","") | F76: ='MAC_PSH-U20'!$F$43 -> 0 | G76: ='MAC_PSH-U20'!$G$43 -> 0 | H76: ='MAC_PSH-U20'!$H$43 -> 0 | I76: =IF(F76<>0,"BSAC","")
A77: ='TN-U20'!$B$34 -> lj | B77: ='TN-U20'!$C$34 -> Guest | C77: ='TN-U20'!$D$34 -> Andrew McFarlane | D77: =IF(A77<>0,"TN","") -> TN | E77: U20 | F77: ='TN-U20'!$F$34 -> 0 | G77: ='TN-U20'!$G$34 -> 0 | H77: ='TN-U20'!$H$34 -> 0 | I77: =IF(F77<>0,"TN","")
A78: ='TN-U20'!$B$35 -> 0 | B78: ='TN-U20'!$C$35 -> 0 | C78: ='TN-U20'!$D$35 -> 0 | D78: =IF(A78<>0,"TN","") | F78: ='TN-U20'!$F$35 -> 0 | G78: ='TN-U20'!$G$35 -> 0 | H78: ='TN-U20'!$H$35 -> 0 | I78: =IF(F78<>0,"TN","")
A79: ='TN-U20'!$B$36 -> 0 | B79: ='TN-U20'!$C$36 -> 0 | C79: ='TN-U20'!$D$36 -> 0 | D79: =IF(A79<>0,"TN","") | F79: ='TN-U20'!$F$36 -> 0 | G79: ='TN-U20'!$G$36 -> 0 | H79: ='TN-U20'!$H$36 -> 0 | I79: =IF(F79<>0,"TN","")
A80: ='TN-U20'!$B$37 -> 0 | B80: ='TN-U20'!$C$37 -> 0 | C80: ='TN-U20'!$D$37 -> 0 | D80: =IF(A80<>0,"TN","") | F80: ='TN-U20'!$F$37 -> 0 | G80: ='TN-U20'!$G$37 -> 0 | H80: ='TN-U20'!$H$37 -> 0 | I80: =IF(F80<>0,"TN","")
A81: ='TN-U20'!$B$38 -> 0 | B81: ='TN-U20'!$C$38 -> 0 | C81: ='TN-U20'!$D$38 -> 0 | D81: =IF(A81<>0,"TN","") | F81: ='TN-U20'!$F$38 -> 0 | G81: ='TN-U20'!$G$38 -> 0 | H81: ='TN-U20'!$H$38 -> 0 | I81: =IF(F81<>0,"TN","")
A82: ='TN-U20'!$B$39 -> 0 | B82: ='TN-U20'!$C$39 -> 0 | C82: ='TN-U20'!$D$39 -> 0 | D82: =IF(A82<>0,"TN","") | F82: ='TN-U20'!$F$39 -> 0 | G82: ='TN-U20'!$G$39 -> 0 | H82: ='TN-U20'!$H$39 -> 0 | I82: =IF(F82<>0,"TN","")
A83: ='TN-U20'!$B$40 -> 0 | B83: ='TN-U20'!$C$40 -> 0 | C83: ='TN-U20'!$D$40 -> 0 | D83: =IF(A83<>0,"TN","") | F83: ='TN-U20'!$F$40 -> 0 | G83: ='TN-U20'!$G$40 -> 0 | H83: ='TN-U20'!$H$40 -> 0 | I83: =IF(F83<>0,"TN","")
A84: ='TN-U20'!$B$41 -> 0 | B84: ='TN-U20'!$C$41 -> 0 | C84: ='TN-U20'!$D$41 -> 0 | D84: =IF(A84<>0,"TN","") | F84: ='TN-U20'!$F$41 -> 0 | G84: ='TN-U20'!$G$41 -> 0 | H84: ='TN-U20'!$H$41 -> 0 | I84: =IF(F84<>0,"TN","")
A85: ='TN-U20'!$B$42 -> 0 | B85: ='TN-U20'!$C$42 -> 0 | C85: ='TN-U20'!$D$42 -> 0 | D85: =IF(A85<>0,"TN","") | F85: ='TN-U20'!$F$42 -> 0 | G85: ='TN-U20'!$G$42 -> 0 | H85: ='TN-U20'!$H$42 -> 0 | I85: =IF(F85<>0,"TN","")
A86: ='TN-U20'!$B$43 -> 0 | B86: ='TN-U20'!$C$43 -> 0 | C86: ='TN-U20'!$D$43 -> 0 | D86: =IF(A86<>0,"TN","") | F86: ='TN-U20'!$F$43 -> 0 | G86: ='TN-U20'!$G$43 -> 0 | H86: ='TN-U20'!$H$43 -> 0 | I86: =IF(F86<>0,"BSAC","")

Sheet Start lists
C1: U17 & U20 Challenge Match Start Lists | N1: 22nd June 2014
C3: TRACK EVENTS - START LISTS
A6: =LEFT(B6,3) -> U17 | B6: U17W | C6: 300mH | D6: A string | E6: =IF('Lane Draws'!$B$12-COUNTIF('Lane Draws'!$B$2:$G$9,">88")=0,0,CONCATENATE('Lane Draws'!$B$12-COUNTIF('Lane Draws'!$B$2:$G$9,">88"), " Non Counters to put in lanes")) -> 0 | H6: =LEFT(I6,3) -> U17 | I6: =B6 -> U17W | J6: 300mH | K6: B string | L6: =IF('Lane Draws'!$B$12-COUNTIF('Lane Draws'!$B$2:$G$9,">88")=0,0,CONCATENATE('Lane Draws'!$B$12-COUNTIF('Lane Draws'!$B$2:$G$9,">88"), " Non Counters to put in lanes")) -> 0
A7: Lane | B7: Num | C7: Club | D7: Athlete | E7: Time | F7: Pos | H7: Lane | I7: Num | J7: Club | K7: Athlete | L7: Time | M7: Pos | N7: Points
A8: 1 | B8: ='Lane Draws'!B2 -> 7 | C8: =IFERROR(IF(B8="","",VLOOKUP(B8,Teams!$A$12:$B$29,2,FALSE)),CONCATENATE("NC-",VLOOKUP(B8,'U17 Non Counters'!$G$3:$I$200,3,FALSE))) -> MAC_PSH | D8: =IFERROR(INDIRECT("'"&C8&"-"&$A6&"'!H"&IF(RIGHT(B6,1)="W",MATCH('Start lists'!C6,'TN-U17'!F:F,0),MATCH('Start lists'!C6,'TN-U17'!B:B,0))+IF(LEFT(D6,1)="A",0,1)&""),IF(RIGHT(A6,2)="17",IF(RIGHT(B6,1)="W",VLOOKUP(B8,'U17 Non Counters'!$G$3:$I$200,2,FALSE),VLOOKUP(B8,'U17 Non Counters'!$B$3:$D$200,2,FALSE)),IF(RIGHT(B6,1)="W",VLOOKUP(B8,'U20 Non Counters'!$G$3:$I$200,2,FALSE),VLOOKUP(B8,'U20 Non Counters'!$B$3:$D$200,2,FALSE)))) -> 0 | H8: 1 | I8: ='Lane Draws'!E2 -> 77 | J8: =IFERROR(IF(I8="","",VLOOKUP(I8,Teams!$A$12:$B$29,2,FALSE)),CONCATENATE("NC-",VLOOKUP(I8,'U17 Non Counters'!$G$3:$I$200,3,FALSE))) -> MAC_PSH | K8: =IFERROR(INDIRECT("'"&J8&"-"&H6&"'!H"&IF(RIGHT(I6,1)="W",MATCH('Start lists'!J6,'TN-U17'!F:F,0),MATCH('Start lists'!J6,'TN-U17'!J:J,0))+IF(LEFT(K6,1)="A",0,1)&""),IF(RIGHT(H6,2)="17",IF(RIGHT(I6,1)="W",VLOOKUP(I8,'U17 Non Counters'!$G$3:$I$200,2,FALSE),VLOOKUP(I8,'U17 Non Counters'!$B$3:$D$200,2,FALSE)),IF(RIGHT(I6,1)="W",VLOOKUP(I8,'U20 Non Counters'!$G$3:$I$200,2,FALSE),VLOOKUP(I8,'U20 Non Counters'!$B$3:$D$200,2,FALSE)))) -> 0
A9: 2 | B9: ='Lane Draws'!B3 -> 6 | C9: =IFERROR(IF(B9="","",VLOOKUP(B9,Teams!$A$12:$B$29,2,FALSE)),CONCATENATE("NC-",VLOOKUP(B9,'U17 Non Counters'!$G$3:$I$200,3,FALSE))) -> ISA | D9: =IFERROR(INDIRECT("'"&C9&"-"&$A6&"'!H"&IF(RIGHT(B6,1)="W",MATCH('Start lists'!C6,'TN-U17'!F:F,0),MATCH('Start lists'!C6,'TN-U17'!B:B,0))+IF(LEFT(D6,1)="A",0,1)&""),IF(RIGHT(A6,2)="17",IF(RIGHT(B6,1)="W",VLOOKUP(B9,'U17 Non Counters'!$G$3:$I$200,2,FALSE),VLOOKUP(B9,'U17 Non Counters'!$B$3:$D$200,2,FALSE)),IF(RIGHT(B6,1)="W",VLOOKUP(B9,'U20 Non Counters'!$G$3:$I$200,2,FALSE),VLOOKUP(B9,'U20 Non Counters'!$B$3:$D$200,2,FALSE)))) -> Amie Ringstead | H9: 2 | I9: ='Lane Draws'!E3 -> 66 | J9: =IFERROR(IF(I9="","",VLOOKUP(I9,Teams!$A$12:$B$29,2,FALSE)),CONCATENATE("NC-",VLOOKUP(I9,'U17 Non Counters'!$G$3:$I$200,3,FALSE))) -> ISA | K9: =IFERROR(INDIRECT("'"&J9&"-"&H6&"'!H"&IF(RIGHT(I6,1)="W",MATCH('Start lists'!J6,'TN-U17'!F:F,0),MATCH('Start lists'!J6,'TN-U17'!J:J,0))+IF(LEFT(K6,1)="A",0,1)&""),IF(RIGHT(H6,2)="17",IF(RIGHT(I6,1)="W",VLOOKUP(I9,'U17 Non Counters'!$G$3:$I$200,2,FALSE),VLOOKUP(I9,'U17 Non Counters'!$B$3:$D$200,2,FALSE)),IF(RIGHT(I6,1)="W",VLOOKUP(I9,'U20 Non Counters'!$G$3:$I$200,2,FALSE),VLOOKUP(I9,'U20 Non Counters'!$B$3:$D$200,2,FALSE)))) -> 0
A10: 3 | B10: ='Lane Draws'!B4 -> 4 | C10: =IFERROR(IF(B10="","",VLOOKUP(B10,Teams!$A$12:$B$29,2,FALSE)),CONCATENATE("NC-",VLOOKUP(B10,'U17 Non Counters'!$G$3:$I$200,3,FALSE))) -> DHH | D10: =IFERROR(INDIRECT("'"&C10&"-"&$A6&"'!H"&IF(RIGHT(B6,1)="W",MATCH('Start lists'!C6,'TN-U17'!F:F,0),MATCH('Start lists'!C6,'TN-U17'!B:B,0))+IF(LEFT(D6,1)="A",0,1)&""),IF(RIGHT(A6,2)="17",IF(RIGHT(B6,1)="W",VLOOKUP(B10,'U17 Non Counters'!$G$3:$I$200,2,FALSE),VLOOKUP(B10,'U17 Non Counters'!$B$3:$D$200,2,FALSE)),IF(RIGHT(B6,1)="W",VLOOKUP(B10,'U20 Non Counters'!$G$3:$I$200,2,FALSE),VLOOKUP(B10,'U20 Non Counters'!$B$3:$D$200,2,FALSE)))) -> Iona Esslemont | H10: 3 | I10: ='Lane Draws'!E4 -> 44 | J10: =IFERROR(IF(I10="","",VLOOKUP(I10,Teams!$A$12:$B$29,2,FALSE)),CONCATENATE("NC-",VLOOKUP(I10,'U17 Non Counters'!$G$3:$I$200,3,FALSE))) -> DHH | K10: =IFERROR(INDIRECT("'"&J10&"-"&H6&"'!H"&IF(RIGHT(I6,1)="W",MATCH('Start lists'!J6,'TN-U17'!F:F,0),MATCH('Start lists'!J6,'TN-U17'!J:J,0))+IF(LEFT(K6,1)="A",0,1)&""),IF(RIGHT(H6,2)="17",IF(RIGHT(I6,1)="W",VLOOKUP(I10,'U17 Non Counters'!$G$3:$I$200,2,FALSE),VLOOKUP(I10,'U17 Non Counters'!$B$3:$D$200,2,FALSE)),IF(RIGHT(I6,1)="W",VLOOKUP(I10,'U20 Non Counters'!$G$3:$I$200,2,FALSE),VLOOKUP(I10,'U20 Non Counters'!$B$3:$D$200,2,FALSE)))) -> 0
A11: 4 | B11: ='Lane Draws'!B5 -> 2 | C11: =IFERROR(IF(B11="","",VLOOKUP(B11,Teams!$A$12:$B$29,2,FALSE)),CONCATENATE("NC-",VLOOKUP(B11,'U17 Non Counters'!$G$3:$I$200,3,FALSE))) -> ADAC | D11: =IFERROR(INDIRECT("'"&C11&"-"&$A6&"'!H"&IF(RIGHT(B6,1)="W",MATCH('Start lists'!C6,'TN-U17'!F:F,0),MATCH('Start lists'!C6,'TN-U17'!B:B,0))+IF(LEFT(D6,1)="A",0,1)&""),IF(RIGHT(A6,2)="17",IF(RIGHT(B6,1)="W",VLOOKUP(B11,'U17 Non Counters'!$G$3:$I$200,2,FALSE),VLOOKUP(B11,'U17 Non Counters'!$B$3:$D$200,2,FALSE)),IF(RIGHT(B6,1)="W",VLOOKUP(B11,'U20 Non Counters'!$G$3:$I$200,2,FALSE),VLOOKUP(B11,'U20 Non Counters'!$B$3:$D$200,2,FALSE)))) -> Lucy Nicoll | H11: 4 | I11: ='Lane Draws'!E5 -> 22 | J11: =IFERROR(IF(I11="","",VLOOKUP(I11,Teams!$A$12:$B$29,2,FALSE)),CONCATENATE("NC-",VLOOKUP(I11,'U17 Non Counters'!$G$3:$I$200,3,FALSE))) -> ADAC | K11: =IFERROR(INDIRECT("'"&J11&"-"&H6&"'!H"&IF(RIGHT(I6,1)="W",MATCH('Start lists'!J6,'TN-U17'!F:F,0),MATCH('Start lists'!J6,'TN-U17'!J:J,0))+IF(LEFT(K6,1)="A",0,1)&""),IF(RIGHT(H6,2)="17",IF(RIGHT(I6,1)="W",VLOOKUP(I11,'U17 Non Counters'!$G$3:$I$200,2,FALSE),VLOOKUP(I11,'U17 Non Counters'!$B$3:$D$200,2,FALSE)),IF(RIGHT(I6,1)="W",VLOOKUP(I11,'U20 Non Counters'!$G$3:$I$200,2,FALSE),VLOOKUP(I11,'U20 Non Counters'!$B$3:$D$200,2,FALSE)))) -> 0
A12: 5 | B12: ='Lane Draws'!B6 -> 5 | C12: =IFERROR(IF(B12="","",VLOOKUP(B12,Teams!$A$12:$B$29,2,FALSE)),CONCATENATE("NC-",VLOOKUP(B12,'U17 Non Counters'!$G$3:$I$200,3,FALSE))) -> IH | D12: =IFERROR(INDIRECT("'"&C12&"-"&$A6&"'!H"&IF(RIGHT(B6,1)="W",MATCH('Start lists'!C6,'TN-U17'!F:F,0),MATCH('Start lists'!C6,'TN-U17'!B:B,0))+IF(LEFT(D6,1)="A",0,1)&""),IF(RIGHT(A6,2)="17",IF(RIGHT(B6,1)="W",VLOOKUP(B12,'U17 Non Counters'!$G$3:$I$200,2,FALSE),VLOOKUP(B12,'U17 Non Counters'!$B$3:$D$200,2,FALSE)),IF(RIGHT(B6,1)="W",VLOOKUP(B12,'U20 Non Counters'!$G$3:$I$200,2,FALSE),VLOOKUP(B12,'U20 Non Counters'!$B$3:$D$200,2,FALSE)))) -> 0 | H12: 5 | I12: ='Lane Draws'!E6 -> 55 | J12: =IFERROR(IF(I12="","",VLOOKUP(I12,Teams!$A$12:$B$29,2,FALSE)),CONCATENATE("NC-",VLOOKUP(I12,'U17 Non Counters'!$G$3:$I$200,3,FALSE))) -> IH | K12: =IFERROR(INDIRECT("'"&J12&"-"&H6&"'!H"&IF(RIGHT(I6,1)="W",MATCH('Start lists'!J6,'TN-U17'!F:F,0),MATCH('Start lists'!J6,'TN-U17'!J:J,0))+IF(LEFT(K6,1)="A",0,1)&""),IF(RIGHT(H6,2)="17",IF(RIGHT(I6,1)="W",VLOOKUP(I12,'U17 Non Counters'!$G$3:$I$200,2,FALSE),VLOOKUP(I12,'U17 Non Counters'!$B$3:$D$200,2,FALSE)),IF(RIGHT(I6,1)="W",VLOOKUP(I12,'U20 Non Counters'!$G$3:$I$200,2,FALSE),VLOOKUP(I12,'U20 Non Counters'!$B$3:$D$200,2,FALSE)))) -> 0
A13: 6 | B13: ='Lane Draws'!B7 -> 1 | C13: =IFERROR(IF(B13="","",VLOOKUP(B13,Teams!$A$12:$B$29,2,FALSE)),CONCATENATE("NC-",VLOOKUP(B13,'U17 Non Counters'!$G$3:$I$200,3,FALSE))) -> AAAC | D13: =IFERROR(INDIRECT("'"&C13&"-"&$A6&"'!H"&IF(RIGHT(B6,1)="W",MATCH('Start lists'!C6,'TN-U17'!F:F,0),MATCH('Start lists'!C6,'TN-U17'!B:B,0))+IF(LEFT(D6,1)="A",0,1)&""),IF(RIGHT(A6,2)="17",IF(RIGHT(B6,1)="W",VLOOKUP(B13,'U17 Non Counters'!$G$3:$I$200,2,FALSE),VLOOKUP(B13,'U17 Non Counters'!$B$3:$D$200,2,FALSE)),IF(RIGHT(B6,1)="W",VLOOKUP(B13,'U20 Non Counters'!$G$3:$I$200,2,FALSE),VLOOKUP(B13,'U20 Non Counters'!$B$3:$D$200,2,FALSE)))) -> Jane Davidson | H13: 6 | I13: ='Lane Draws'!E7 -> 11 | J13: =IFERROR(IF(I13="","",VLOOKUP(I13,Teams!$A$12:$B$29,2,FALSE)),CONCATENATE("NC-",VLOOKUP(I13,'U17 Non Counters'!$G$3:$I$200,3,FALSE))) -> AAAC | K13: =IFERROR(INDIRECT("'"&J13&"-"&H6&"'!H"&IF(RIGHT(I6,1)="W",MATCH('Start lists'!J6,'TN-U17'!F:F,0),MATCH('Start lists'!J6,'TN-U17'!J:J,0))+IF(LEFT(K6,1)="A",0,1)&""),IF(RIGHT(H6,2)="17",IF(RIGHT(I6,1)="W",VLOOKUP(I13,'U17 Non Counters'!$G$3:$I$200,2,FALSE),VLOOKUP(I13,'U17 Non Counters'!$B$3:$D$200,2,FALSE)),IF(RIGHT(I6,1)="W",VLOOKUP(I13,'U20 Non Counters'!$G$3:$I$200,2,FALSE),VLOOKUP(I13,'U20 Non Counters'!$B$3:$D$200,2,FALSE)))) -> Erin Williams
A14: 7 | B14: ='Lane Draws'!B8 -> 8 | C14: =IFERROR(IF(B14="","",VLOOKUP(B14,Teams!$A$12:$B$29,2,FALSE)),CONCATENATE("NC-",VLOOKUP(B14,'U17 Non Counters'!$G$3:$I$200,3,FALSE))) -> TN | D14: =IFERROR(INDIRECT("'"&C14&"-"&$A6&"'!H"&IF(RIGHT(B6,1)="W",MATCH('Start lists'!C6,'TN-U17'!F:F,0),MATCH('Start lists'!C6,'TN-U17'!B:B,0))+IF(LEFT(D6,1)="A",0,1)&""),IF(RIGHT(A6,2)="17",IF(RIGHT(B6,1)="W",VLOOKUP(B14,'U17 Non Counters'!$G$3:$I$200,2,FALSE),VLOOKUP(B14,'U17 Non Counters'!$B$3:$D$200,2,FALSE)),IF(RIGHT(B6,1)="W",VLOOKUP(B14,'U20 Non Counters'!$G$3:$I$200,2,FALSE),VLOOKUP(B14,'U20 Non Counters'!$B$3:$D$200,2,FALSE)))) -> EVE TULLOCH | H14: 7 | I14: ='Lane Draws'!E8 -> 88 | J14: =IFERROR(IF(I14="","",VLOOKUP(I14,Teams!$A$12:$B$29,2,FALSE)),CONCATENATE("NC-",VLOOKUP(I14,'U17 Non Counters'!$G$3:$I$200,3,FALSE))) -> TN | K14: =IFERROR(INDIRECT("'"&J14&"-"&H6&"'!H"&IF(RIGHT(I6,1)="W",MATCH('Start lists'!J6,'TN-U17'!F:F,0),MATCH('Start lists'!J6,'TN-U17'!J:J,0))+IF(LEFT(K6,1)="A",0,1)&""),IF(RIGHT(H6,2)="17",IF(RIGHT(I6,1)="W",VLOOKUP(I14,'U17 Non Counters'!$G$3:$I$200,2,FALSE),VLOOKUP(I14,'U17 Non Counters'!$B$3:$D$200,2,FALSE)),IF(RIGHT(I6,1)="W",VLOOKUP(I14,'U20 Non Counters'!$G$3:$I$200,2,FALSE),VLOOKUP(I14,'U20 Non Counters'!$B$3:$D$200,2,FALSE)))) -> 0
A15: 8 | B15: ='Lane Draws'!B9 -> 3 | C15: =IFERROR(IF(B15="","",VLOOKUP(B15,Teams!$A$12:$B$29,2,FALSE)),CONCATENATE("NC-",VLOOKUP(B15,'U17 Non Counters'!$G$3:$I$200,3,FALSE))) -> BSAC | D15: =IFERROR(INDIRECT("'"&C15&"-"&$A6&"'!H"&IF(RIGHT(B6,1)="W",MATCH('Start lists'!C6,'TN-U17'!F:F,0),MATCH('Start lists'!C6,'TN-U17'!B:B,0))+IF(LEFT(D6,1)="A",0,1)&""),IF(RIGHT(A6,2)="17",IF(RIGHT(B6,1)="W",VLOOKUP(B15,'U17 Non Counters'!$G$3:$I$200,2,FALSE),VLOOKUP(B15,'U17 Non Counters'!$B$3:$D$200,2,FALSE)),IF(RIGHT(B6,1)="W",VLOOKUP(B15,'U20 Non Counters'!$G$3:$I$200,2,FALSE),VLOOKUP(B15,'U20 Non Counters'!$B$3:$D$200,2,FALSE)))) -> 0 | H15: 8 | I15: ='Lane Draws'!E9 -> 33 | J15: =IFERROR(IF(I15="","",VLOOKUP(I15,Teams!$A$12:$B$29,2,FALSE)),CONCATENATE("NC-",VLOOKUP(I15,'U17 Non Counters'!$G$3:$I$200,3,FALSE))) -> BSAC | K15: =IFERROR(INDIRECT("'"&J15&"-"&H6&"'!H"&IF(RIGHT(I6,1)="W",MATCH('Start lists'!J6,'TN-U17'!F:F,0),MATCH('Start lists'!J6,'TN-U17'!J:J,0))+IF(LEFT(K6,1)="A",0,1)&""),IF(RIGHT(H6,2)="17",IF(RIGHT(I6,1)="W",VLOOKUP(I15,'U17 Non Counters'!$G$3:$I$200,2,FALSE),VLOOKUP(I15,'U17 Non Counters'!$B$3:$D$200,2,FALSE)),IF(RIGHT(I6,1)="W",VLOOKUP(I15,'U20 Non Counters'!$G$3:$I$200,2,FALSE),VLOOKUP(I15,'U20 Non Counters'!$B$3:$D$200,2,FALSE)))) -> 0
A17: =LEFT(B17,3) -> U20 | B17: U20W | C17: 400mH | D17: A string | E17: =IF('Lane Draws'!$H$12-COUNTIF('Lane Draws'!$H$2:$M$9,">88")=0,0,CONCATENATE('Lane Draws'!$H$12-COUNTIF('Lane Draws'!$H$2:$M$9,">88"), " Non Counters to put in lanes")) -> 0 | H17: =LEFT(I17,3) -> U20 | I17: =B17 -> U20W | J17: 400mH | K17: B string | L17: =IF('Lane Draws'!$H$12-COUNTIF('Lane Draws'!$H$2:$M$9,">88")=0,0,CONCATENATE('Lane Draws'!$H$12-COUNTIF('Lane Draws'!$H$2:$M$9,">88"), " Non Counters to put in lanes")) -> 0
A18: Lane | B18: Num | C18: Club | D18: Athlete | E18: Time | F18: Pos | H18: Lane | I18: Num | J18: Club | K18: Athlete | L18: Time | M18: Pos | N18: Points
A19: 1 | B19: ='Lane Draws'!H2 -> 7 | C19: =IFERROR(IF(B19="","",VLOOKUP(B19,Teams!$A$12:$B$29,2,FALSE)),CONCATENATE("NC-",VLOOKUP(B19,'U20 Non Counters'!$G$3:$I$200,3,FALSE))) -> MAC_PSH | D19: =IFERROR(INDIRECT("'"&C19&"-"&$A17&"'!H"&IF(RIGHT(B17,1)="W",MATCH('Start lists'!C17,'TN-U20'!F:F,0),MATCH('Start lists'!C17,'TN-U20'!B:B,0))+IF(LEFT(D17,1)="A",0,1)&""),IF(RIGHT(A17,2)="17",IF(RIGHT(B17,1)="W",VLOOKUP(B19,'U17 Non Counters'!$G$3:$I$200,2,FALSE),VLOOKUP(B19,'U17 Non Counters'!$B$3:$D$200,2,FALSE)),IF(RIGHT(B17,1)="W",VLOOKUP(B19,'U20 Non Counters'!$G$3:$I$200,2,FALSE),VLOOKUP(B19,'U20 Non Counters'!$B$3:$D$200,2,FALSE)))) -> 0 | H19: 1 | I19: ='Lane Draws'!K2 -> 77 | J19: =IFERROR(IF(I19="","",VLOOKUP(I19,Teams!$A$12:$B$29,2,FALSE)),CONCATENATE("NC-",VLOOKUP(I19,'U20 Non Counters'!$G$3:$I$200,3,FALSE))) -> MAC_PSH | K19: =IFERROR(INDIRECT("'"&J19&"-"&H17&"'!H"&IF(RIGHT(I17,1)="W",MATCH('Start lists'!J17,'TN-U20'!F:F,0),MATCH('Start lists'!J17,'TN-U20'!B:B,0))+IF(LEFT(K17,1)="A",0,1)&""),IF(RIGHT(H17,2)="17",IF(RIGHT(I17,1)="W",VLOOKUP(I19,'U17 Non Counters'!$G$3:$I$200,2,FALSE),VLOOKUP(I19,'U17 Non Counters'!$B$3:$D$200,2,FALSE)),IF(RIGHT(I17,1)="W",VLOOKUP(I19,'U20 Non Counters'!$G$3:$I$200,2,FALSE),VLOOKUP(I19,'U20 Non Counters'!$B$3:$D$200,2,FALSE)))) -> 0
A20: 2 | B20: ='Lane Draws'!H3 -> 6 | C20: =IFERROR(IF(B20="","",VLOOKUP(B20,Teams!$A$12:$B$29,2,FALSE)),CONCATENATE("NC-",VLOOKUP(B20,'U20 Non Counters'!$G$3:$I$200,3,FALSE))) -> ISA | D20: =IFERROR(INDIRECT("'"&C20&"-"&$A17&"'!H"&IF(RIGHT(B17,1)="W",MATCH('Start lists'!C17,'TN-U20'!F:F,0),MATCH('Start lists'!C17,'TN-U20'!B:B,0))+IF(LEFT(D17,1)="A",0,1)&""),IF(RIGHT(A17,2)="17",IF(RIGHT(B17,1)="W",VLOOKUP(B20,'U17 Non Counters'!$G$3:$I$200,2,FALSE),VLOOKUP(B20,'U17 Non Counters'!$B$3:$D$200,2,FALSE)),IF(RIGHT(B17,1)="W",VLOOKUP(B20,'U20 Non Counters'!$G$3:$I$200,2,FALSE),VLOOKUP(B20,'U20 Non Counters'!$B$3:$D$200,2,FALSE)))) -> 0 | H20: 2 | I20: ='Lane Draws'!K3 -> 66 | J20: =IFERROR(IF(I20="","",VLOOKUP(I20,Teams!$A$12:$B$29,2,FALSE)),CONCATENATE("NC-",VLOOKUP(I20,'U20 Non Counters'!$G$3:$I$200,3,FALSE))) -> ISA | K20: =IFERROR(INDIRECT("'"&J20&"-"&H17&"'!H"&IF(RIGHT(I17,1)="W",MATCH('Start lists'!J17,'TN-U20'!F:F,0),MATCH('Start lists'!J17,'TN-U20'!B:B,0))+IF(LEFT(K17,1)="A",0,1)&""),IF(RIGHT(H17,2)="17",IF(RIGHT(I17,1)="W",VLOOKUP(I20,'U17 Non Counters'!$G$3:$I$200,2,FALSE),VLOOKUP(I20,'U17 Non Counters'!$B$3:$D$200,2,FALSE)),IF(RIGHT(I17,1)="W",VLOOKUP(I20,'U20 Non Counters'!$G$3:$I$200,2,FALSE),VLOOKUP(I20,'U20 Non Counters'!$B$3:$D$200,2,FALSE)))) -> 0
A21: 3 | B21: ='Lane Draws'!H4 -> 4 | C21: =IFERROR(IF(B21="","",VLOOKUP(B21,Teams!$A$12:$B$29,2,FALSE)),CONCATENATE("NC-",VLOOKUP(B21,'U20 Non Counters'!$G$3:$I$200,3,FALSE))) -> DHH | D21: =IFERROR(INDIRECT("'"&C21&"-"&$A17&"'!H"&IF(RIGHT(B17,1)="W",MATCH('Start lists'!C17,'TN-U20'!F:F,0),MATCH('Start lists'!C17,'TN-U20'!B:B,0))+IF(LEFT(D17,1)="A",0,1)&""),IF(RIGHT(A17,2)="17",IF(RIGHT(B17,1)="W",VLOOKUP(B21,'U17 Non Counters'!$G$3:$I$200,2,FALSE),VLOOKUP(B21,'U17 Non Counters'!$B$3:$D$200,2,FALSE)),IF(RIGHT(B17,1)="W",VLOOKUP(B21,'U20 Non Counters'!$G$3:$I$200,2,FALSE),VLOOKUP(B21,'U20 Non Counters'!$B$3:$D$200,2,FALSE)))) -> Shania King | H21: 3 | I21: ='Lane Draws'!K4 -> 44 | J21: =IFERROR(IF(I21="","",VLOOKUP(I21,Teams!$A$12:$B$29,2,FALSE)),CONCATENATE("NC-",VLOOKUP(I21,'U20 Non Counters'!$G$3:$I$200,3,FALSE))) -> DHH | K21: =IFERROR(INDIRECT("'"&J21&"-"&H17&"'!H"&IF(RIGHT(I17,1)="W",MATCH('Start lists'!J17,'TN-U20'!F:F,0),MATCH('Start lists'!J17,'TN-U20'!B:B,0))+IF(LEFT(K17,1)="A",0,1)&""),IF(RIGHT(H17,2)="17",IF(RIGHT(I17,1)="W",VLOOKUP(I21,'U17 Non Counters'!$G$3:$I$200,2,FALSE),VLOOKUP(I21,'U17 Non Counters'!$B$3:$D$200,2,FALSE)),IF(RIGHT(I17,1)="W",VLOOKUP(I21,'U20 Non Counters'!$G$3:$I$200,2,FALSE),VLOOKUP(I21,'U20 Non Counters'!$B$3:$D$200,2,FALSE)))) -> 0
A22: 4 | B22: ='Lane Draws'!H5 -> 2 | C22: =IFERROR(IF(B22="","",VLOOKUP(B22,Teams!$A$12:$B$29,2,FALSE)),CONCATENATE("NC-",VLOOKUP(B22,'U20 Non Counters'!$G$3:$I$200,3,FALSE))) -> ADAC | D22: =IFERROR(INDIRECT("'"&C22&"-"&$A17&"'!H"&IF(RIGHT(B17,1)="W",MATCH('Start lists'!C17,'TN-U20'!F:F,0),MATCH('Start lists'!C17,'TN-U20'!B:B,0))+IF(LEFT(D17,1)="A",0,1)&""),IF(RIGHT(A17,2)="17",IF(RIGHT(B17,1)="W",VLOOKUP(B22,'U17 Non Counters'!$G$3:$I$200,2,FALSE),VLOOKUP(B22,'U17 Non Counters'!$B$3:$D$200,2,FALSE)),IF(RIGHT(B17,1)="W",VLOOKUP(B22,'U20 Non Counters'!$G$3:$I$200,2,FALSE),VLOOKUP(B22,'U20 Non Counters'!$B$3:$D$200,2,FALSE)))) -> 0 | H22: 4 | I22: ='Lane Draws'!K5 -> 22 | J22: =IFERROR(IF(I22="","",VLOOKUP(I22,Teams!$A$12:$B$29,2,FALSE)),CONCATENATE("NC-",VLOOKUP(I22,'U20 Non Counters'!$G$3:$I$200,3,FALSE))) -> ADAC | K22: =IFERROR(INDIRECT("'"&J22&"-"&H17&"'!H"&IF(RIGHT(I17,1)="W",MATCH('Start lists'!J17,'TN-U20'!F:F,0),MATCH('Start lists'!J17,'TN-U20'!B:B,0))+IF(LEFT(K17,1)="A",0,1)&""),IF(RIGHT(H17,2)="17",IF(RIGHT(I17,1)="W",VLOOKUP(I22,'U17 Non Counters'!$G$3:$I$200,2,FALSE),VLOOKUP(I22,'U17 Non Counters'!$B$3:$D$200,2,FALSE)),IF(RIGHT(I17,1)="W",VLOOKUP(I22,'U20 Non Counters'!$G$3:$I$200,2,FALSE),VLOOKUP(I22,'U20 Non Counters'!$B$3:$D$200,2,FALSE)))) -> 0
A23: 5 | B23: ='Lane Draws'!H6 -> 5 | C23: =IFERROR(IF(B23="","",VLOOKUP(B23,Teams!$A$12:$B$29,2,FALSE)),CONCATENATE("NC-",VLOOKUP(B23,'U20 Non Counters'!$G$3:$I$200,3,FALSE))) -> IH | D23: =IFERROR(INDIRECT("'"&C23&"-"&$A17&"'!H"&IF(RIGHT(B17,1)="W",MATCH('Start lists'!C17,'TN-U20'!F:F,0),MATCH('Start lists'!C17,'TN-U20'!B:B,0))+IF(LEFT(D17,1)="A",0,1)&""),IF(RIGHT(A17,2)="17",IF(RIGHT(B17,1)="W",VLOOKUP(B23,'U17 Non Counters'!$G$3:$I$200,2,FALSE),VLOOKUP(B23,'U17 Non Counters'!$B$3:$D$200,2,FALSE)),IF(RIGHT(B17,1)="W",VLOOKUP(B23,'U20 Non Counters'!$G$3:$I$200,2,FALSE),VLOOKUP(B23,'U20 Non Counters'!$B$3:$D$200,2,FALSE)))) -> 0 | H23: 5 | I23: ='Lane Draws'!K6 -> 55 | J23: =IFERROR(IF(I23="","",VLOOKUP(I23,Teams!$A$12:$B$29,2,FALSE)),CONCATENATE("NC-",VLOOKUP(I23,'U20 Non Counters'!$G$3:$I$200,3,FALSE))) -> IH | K23: =IFERROR(INDIRECT("'"&J23&"-"&H17&"'!H"&IF(RIGHT(I17,1)="W",MATCH('Start lists'!J17,'TN-U20'!F:F,0),MATCH('Start lists'!J17,'TN-U20'!B:B,0))+IF(LEFT(K17,1)="A",0,1)&""),IF(RIGHT(H17,2)="17",IF(RIGHT(I17,1)="W",VLOOKUP(I23,'U17 Non Counters'!$G$3:$I$200,2,FALSE),VLOOKUP(I23,'U17 Non Counters'!$B$3:$D$200,2,FALSE)),IF(RIGHT(I17,1)="W",VLOOKUP(I23,'U20 Non Counters'!$G$3:$I$200,2,FALSE),VLOOKUP(I23,'U20 Non Counters'!$B$3:$D$200,2,FALSE)))) -> 0
A24: 6 | B24: ='Lane Draws'!H7 -> 1 | C24: =IFERROR(IF(B24="","",VLOOKUP(B24,Teams!$A$12:$B$29,2,FALSE)),CONCATENATE("NC-",VLOOKUP(B24,'U20 Non Counters'!$G$3:$I$200,3,FALSE))) -> AAAC | D24: =IFERROR(INDIRECT("'"&C24&"-"&$A17&"'!H"&IF(RIGHT(B17,1)="W",MATCH('Start lists'!C17,'TN-U20'!F:F,0),MATCH('Start lists'!C17,'TN-U20'!B:B,0))+IF(LEFT(D17,1)="A",0,1)&""),IF(RIGHT(A17,2)="17",IF(RIGHT(B17,1)="W",VLOOKUP(B24,'U17 Non Counters'!$G$3:$I$200,2,FALSE),VLOOKUP(B24,'U17 Non Counters'!$B$3:$D$200,2,FALSE)),IF(RIGHT(B17,1)="W",VLOOKUP(B24,'U20 Non Counters'!$G$3:$I$200,2,FALSE),VLOOKUP(B24,'U20 Non Counters'!$B$3:$D$200,2,FALSE)))) -> 0 | H24: 6 | I24: ='Lane Draws'!K7 -> 11 | J24: =IFERROR(IF(I24="","",VLOOKUP(I24,Teams!$A$12:$B$29,2,FALSE)),CONCATENATE("NC-",VLOOKUP(I24,'U20 Non Counters'!$G$3:$I$200,3,FALSE))) -> AAAC | K24: =IFERROR(INDIRECT("'"&J24&"-"&H17&"'!H"&IF(RIGHT(I17,1)="W",MATCH('Start lists'!J17,'TN-U20'!F:F,0),MATCH('Start lists'!J17,'TN-U20'!B:B,0))+IF(LEFT(K17,1)="A",0,1)&""),IF(RIGHT(H17,2)="17",IF(RIGHT(I17,1)="W",VLOOKUP(I24,'U17 Non Counters'!$G$3:$I$200,2,FALSE),VLOOKUP(I24,'U17 Non Counters'!$B$3:$D$200,2,FALSE)),IF(RIGHT(I17,1)="W",VLOOKUP(I24,'U20 Non Counters'!$G$3:$I$200,2,FALSE),VLOOKUP(I24,'U20 Non Counters'!$B$3:$D$200,2,FALSE)))) -> 0
A25: 7 | B25: ='Lane Draws'!H8 -> 8 | C25: =IFERROR(IF(B25="","",VLOOKUP(B25,Teams!$A$12:$B$29,2,FALSE)),CONCATENATE("NC-",VLOOKUP(B25,'U20 Non Counters'!$G$3:$I$200,3,FALSE))) -> TN | D25: =IFERROR(INDIRECT("'"&C25&"-"&$A17&"'!H"&IF(RIGHT(B17,1)="W",MATCH('Start lists'!C17,'TN-U20'!F:F,0),MATCH('Start lists'!C17,'TN-U20'!B:B,0))+IF(LEFT(D17,1)="A",0,1)&""),IF(RIGHT(A17,2)="17",IF(RIGHT(B17,1)="W",VLOOKUP(B25,'U17 Non Counters'!$G$3:$I$200,2,FALSE),VLOOKUP(B25,'U17 Non Counters'!$B$3:$D$200,2,FALSE)),IF(RIGHT(B17,1)="W",VLOOKUP(B25,'U20 Non Counters'!$G$3:$I$200,2,FALSE),VLOOKUP(B25,'U20 Non Counters'!$B$3:$D$200,2,FALSE)))) -> MAIRI WEIR | H25: 7 | I25: ='Lane Draws'!K8 -> 88 | J25: =IFERROR(IF(I25="","",VLOOKUP(I25,Teams!$A$12:$B$29,2,FALSE)),CONCATENATE("NC-",VLOOKUP(I25,'U20 Non Counters'!$G$3:$I$200,3,FALSE))) -> TN | K25: =IFERROR(INDIRECT("'"&J25&"-"&H17&"'!H"&IF(RIGHT(I17,1)="W",MATCH('Start lists'!J17,'TN-U20'!F:F,0),MATCH('Start lists'!J17,'TN-U20'!B:B,0))+IF(LEFT(K17,1)="A",0,1)&""),IF(RIGHT(H17,2)="17",IF(RIGHT(I17,1)="W",VLOOKUP(I25,'U17 Non Counters'!$G$3:$I$200,2,FALSE),VLOOKUP(I25,'U17 Non Counters'!$B$3:$D$200,2,FALSE)),IF(RIGHT(I17,1)="W",VLOOKUP(I25,'U20 Non Counters'!$G$3:$I$200,2,FALSE),VLOOKUP(I25,'U20 Non Counters'!$B$3:$D$200,2,FALSE)))) -> 0
A26: 8 | B26: ='Lane Draws'!H9 -> 3 | C26: =IFERROR(IF(B26="","",VLOOKUP(B26,Teams!$A$12:$B$29,2,FALSE)),CONCATENATE("NC-",VLOOKUP(B26,'U20 Non Counters'!$G$3:$I$200,3,FALSE))) -> BSAC | D26: =IFERROR(INDIRECT("'"&C26&"-"&$A17&"'!H"&IF(RIGHT(B17,1)="W",MATCH('Start lists'!C17,'TN-U20'!F:F,0),MATCH('Start lists'!C17,'TN-U20'!B:B,0))+IF(LEFT(D17,1)="A",0,1)&""),IF(RIGHT(A17,2)="17",IF(RIGHT(B17,1)="W",VLOOKUP(B26,'U17 Non Counters'!$G$3:$I$200,2,FALSE),VLOOKUP(B26,'U17 Non Counters'!$B$3:$D$200,2,FALSE)),IF(RIGHT(B17,1)="W",VLOOKUP(B26,'U20 Non Counters'!$G$3:$I$200,2,FALSE),VLOOKUP(B26,'U20 Non Counters'!$B$3:$D$200,2,FALSE)))) -> 0 | H26: 8 | I26: ='Lane Draws'!K9 -> 33 | J26: =IFERROR(IF(I26="","",VLOOKUP(I26,Teams!$A$12:$B$29,2,FALSE)),CONCATENATE("NC-",VLOOKUP(I26,'U20 Non Counters'!$G$3:$I$200,3,FALSE))) -> BSAC | K26: =IFERROR(INDIRECT("'"&J26&"-"&H17&"'!H"&IF(RIGHT(I17,1)="W",MATCH('Start lists'!J17,'TN-U20'!F:F,0),MATCH('Start lists'!J17,'TN-U20'!B:B,0))+IF(LEFT(K17,1)="A",0,1)&""),IF(RIGHT(H17,2)="17",IF(RIGHT(I17,1)="W",VLOOKUP(I26,'U17 Non Counters'!$G$3:$I$200,2,FALSE),VLOOKUP(I26,'U17 Non Counters'!$B$3:$D$200,2,FALSE)),IF(RIGHT(I17,1)="W",VLOOKUP(I26,'U20 Non Counters'!$G$3:$I$200,2,FALSE),VLOOKUP(I26,'U20 Non Counters'!$B$3:$D$200,2,FALSE)))) -> 0
A28: =LEFT(B28,3) -> U17 | B28: U17M | C28: 400mH | D28: A string | E28: =IF('Lane Draws'!$N$12-COUNTIF('Lane Draws'!$N$2:$S$9,">88")=0,0,CONCATENATE('Lane Draws'!$N$12-COUNTIF('Lane Draws'!$N$2:$S$9,">88"), " Non Counters to put in lanes")) -> 0 | H28: =LEFT(I28,3) -> U17 | I28: =B28 -> U17M | J28: 400mH | K28: B string | L28: =IF('Lane Draws'!$N$12-COUNTIF('Lane Draws'!$N$2:$S$9,">88")=0,0,CONCATENATE('Lane Draws'!$N$12-COUNTIF('Lane Draws'!$N$2:$S$9,">88"), " Non Counters to put in lanes")) -> 0
A29: Lane | B29: Num | C29: Club | D29: Athlete | E29: Time | F29: Pos | H29: Lane | I29: Num | J29: Club | K29: Athlete | L29: Time | M29: Pos | N29: Points
A30: 1 | B30: ='Lane Draws'!N2 -> 7 | C30: =IFERROR(IF(B30="","",VLOOKUP(B30,Teams!$A$12:$B$29,2,FALSE)),CONCATENATE("NC-",VLOOKUP(B30,'U17 Non Counters'!$B$3:$D$200,3,FALSE))) -> MAC_PSH | D30: =IFERROR(INDIRECT("'"&C30&"-"&$A28&"'!D"&IF(RIGHT(B28,1)="W",MATCH('Start lists'!C28,'TN-U17'!F:F,0),MATCH('Start lists'!C28,'TN-U17'!B:B,0))+IF(LEFT(D28,1)="A",0,1)&""),IF(RIGHT(A28,2)="17",IF(RIGHT(B28,1)="W",VLOOKUP(B30,'U17 Non Counters'!$G$3:$I$200,2,FALSE),VLOOKUP(B30,'U17 Non Counters'!$B$3:$D$200,2,FALSE)),IF(RIGHT(B28,1)="W",VLOOKUP(B30,'U20 Non Counters'!$G$3:$I$200,2,FALSE),VLOOKUP(B30,'U20 Non Counters'!$B$3:$D$200,2,FALSE)))) -> 0 | H30: 1 | I30: ='Lane Draws'!Q2 -> 77 | J30: =IFERROR(IF(I30="","",VLOOKUP(I30,Teams!$A$12:$B$29,2,FALSE)),CONCATENATE("NC-",VLOOKUP(I30,'U17 Non Counters'!$B$3:$D$200,3,FALSE))) -> MAC_PSH | K30: =IFERROR(INDIRECT("'"&J30&"-"&H28&"'!D"&IF(RIGHT(I28,1)="W",MATCH('Start lists'!J28,'TN-U17'!F:F,0),MATCH('Start lists'!J28,'TN-U17'!B:B,0))+IF(LEFT(K28,1)="A",0,1)&""),IF(RIGHT(H28,2)="17",IF(RIGHT(I28,1)="W",VLOOKUP(I30,'U17 Non Counters'!$G$3:$I$200,2,FALSE),VLOOKUP(I30,'U17 Non Counters'!$B$3:$D$200,2,FALSE)),IF(RIGHT(I28,1)="W",VLOOKUP(I30,'U20 Non Counters'!$G$3:$I$200,2,FALSE),VLOOKUP(I30,'U20 Non Counters'!$B$3:$D$200,2,FALSE)))) -> 0
A31: 2 | B31: ='Lane Draws'!N3 -> 6 | C31: =IFERROR(IF(B31="","",VLOOKUP(B31,Teams!$A$12:$B$29,2,FALSE)),CONCATENATE("NC-",VLOOKUP(B31,'U17 Non Counters'!$B$3:$D$200,3,FALSE))) -> ISA | D31: =IFERROR(INDIRECT("'"&C31&"-"&$A28&"'!D"&IF(RIGHT(B28,1)="W",MATCH('Start lists'!C28,'TN-U17'!F:F,0),MATCH('Start lists'!C28,'TN-U17'!B:B,0))+IF(LEFT(D28,1)="A",0,1)&""),IF(RIGHT(A28,2)="17",IF(RIGHT(B28,1)="W",VLOOKUP(B31,'U17 Non Counters'!$G$3:$I$200,2,FALSE),VLOOKUP(B31,'U17 Non Counters'!$B$3:$D$200,2,FALSE)),IF(RIGHT(B28,1)="W",VLOOKUP(B31,'U20 Non Counters'!$G$3:$I$200,2,FALSE),VLOOKUP(B31,'U20 Non Counters'!$B$3:$D$200,2,FALSE)))) -> Jordan MacKinnon | H31: 2 | I31: ='Lane Draws'!Q3 -> 66 | J31: =IFERROR(IF(I31="","",VLOOKUP(I31,Teams!$A$12:$B$29,2,FALSE)),CONCATENATE("NC-",VLOOKUP(I31,'U17 Non Counters'!$B$3:$D$200,3,FALSE))) -> ISA | K31: =IFERROR(INDIRECT("'"&J31&"-"&H28&"'!D"&IF(RIGHT(I28,1)="W",MATCH('Start lists'!J28,'TN-U17'!F:F,0),MATCH('Start lists'!J28,'TN-U17'!B:B,0))+IF(LEFT(K28,1)="A",0,1)&""),IF(RIGHT(H28,2)="17",IF(RIGHT(I28,1)="W",VLOOKUP(I31,'U17 Non Counters'!$G$3:$I$200,2,FALSE),VLOOKUP(I31,'U17 Non Counters'!$B$3:$D$200,2,FALSE)),IF(RIGHT(I28,1)="W",VLOOKUP(I31,'U20 Non Counters'!$G$3:$I$200,2,FALSE),VLOOKUP(I31,'U20 Non Counters'!$B$3:$D$200,2,FALSE)))) -> 0
A32: 3 | B32: ='Lane Draws'!N4 -> 4 | C32: =IFERROR(IF(B32="","",VLOOKUP(B32,Teams!$A$12:$B$29,2,FALSE)),CONCATENATE("NC-",VLOOKUP(B32,'U17 Non Counters'!$B$3:$D$200,3,FALSE))) -> DHH | D32: =IFERROR(INDIRECT("'"&C32&"-"&$A28&"'!D"&IF(RIGHT(B28,1)="W",MATCH('Start lists'!C28,'TN-U17'!F:F,0),MATCH('Start lists'!C28,'TN-U17'!B:B,0))+IF(LEFT(D28,1)="A",0,1)&""),IF(RIGHT(A28,2)="17",IF(RIGHT(B28,1)="W",VLOOKUP(B32,'U17 Non Counters'!$G$3:$I$200,2,FALSE),VLOOKUP(B32,'U17 Non Counters'!$B$3:$D$200,2,FALSE)),IF(RIGHT(B28,1)="W",VLOOKUP(B32,'U20 Non Counters'!$G$3:$I$200,2,FALSE),VLOOKUP(B32,'U20 Non Counters'!$B$3:$D$200,2,FALSE)))) -> Luca Venditozzi | H32: 3 | I32: ='Lane Draws'!Q4 -> 44 | J32: =IFERROR(IF(I32="","",VLOOKUP(I32,Teams!$A$12:$B$29,2,FALSE)),CONCATENATE("NC-",VLOOKUP(I32,'U17 Non Counters'!$B$3:$D$200,3,FALSE))) -> DHH | K32: =IFERROR(INDIRECT("'"&J32&"-"&H28&"'!D"&IF(RIGHT(I28,1)="W",MATCH('Start lists'!J28,'TN-U17'!F:F,0),MATCH('Start lists'!J28,'TN-U17'!B:B,0))+IF(LEFT(K28,1)="A",0,1)&""),IF(RIGHT(H28,2)="17",IF(RIGHT(I28,1)="W",VLOOKUP(I32,'U17 Non Counters'!$G$3:$I$200,2,FALSE),VLOOKUP(I32,'U17 Non Counters'!$B$3:$D$200,2,FALSE)),IF(RIGHT(I28,1)="W",VLOOKUP(I32,'U20 Non Counters'!$G$3:$I$200,2,FALSE),VLOOKUP(I32,'U20 Non Counters'!$B$3:$D$200,2,FALSE)))) -> 0
A33: 4 | B33: ='Lane Draws'!N5 -> 2 | C33: =IFERROR(IF(B33="","",VLOOKUP(B33,Teams!$A$12:$B$29,2,FALSE)),CONCATENATE("NC-",VLOOKUP(B33,'U17 Non Counters'!$B$3:$D$200,3,FALSE))) -> ADAC | D33: =IFERROR(INDIRECT("'"&C33&"-"&$A28&"'!D"&IF(RIGHT(B28,1)="W",MATCH('Start lists'!C28,'TN-U17'!F:F,0),MATCH('Start lists'!C28,'TN-U17'!B:B,0))+IF(LEFT(D28,1)="A",0,1)&""),IF(RIGHT(A28,2)="17",IF(RIGHT(B28,1)="W",VLOOKUP(B33,'U17 Non Counters'!$G$3:$I$200,2,FALSE),VLOOKUP(B33,'U17 Non Counters'!$B$3:$D$200,2,FALSE)),IF(RIGHT(B28,1)="W",VLOOKUP(B33,'U20 Non Counters'!$G$3:$I$200,2,FALSE),VLOOKUP(B33,'U20 Non Counters'!$B$3:$D$200,2,FALSE)))) -> 0 | H33: 4 | I33: ='Lane Draws'!Q5 -> 22 | J33: =IFERROR(IF(I33="","",VLOOKUP(I33,Teams!$A$12:$B$29,2,FALSE)),CONCATENATE("NC-",VLOOKUP(I33,'U17 Non Counters'!$B$3:$D$200,3,FALSE))) -> ADAC | K33: =IFERROR(INDIRECT("'"&J33&"-"&H28&"'!D"&IF(RIGHT(I28,1)="W",MATCH('Start lists'!J28,'TN-U17'!F:F,0),MATCH('Start lists'!J28,'TN-U17'!B:B,0))+IF(LEFT(K28,1)="A",0,1)&""),IF(RIGHT(H28,2)="17",IF(RIGHT(I28,1)="W",VLOOKUP(I33,'U17 Non Counters'!$G$3:$I$200,2,FALSE),VLOOKUP(I33,'U17 Non Counters'!$B$3:$D$200,2,FALSE)),IF(RIGHT(I28,1)="W",VLOOKUP(I33,'U20 Non Counters'!$G$3:$I$200,2,FALSE),VLOOKUP(I33,'U20 Non Counters'!$B$3:$D$200,2,FALSE)))) -> 0
A34: 5 | B34: ='Lane Draws'!N6 -> 5 | C34: =IFERROR(IF(B34="","",VLOOKUP(B34,Teams!$A$12:$B$29,2,FALSE)),CONCATENATE("NC-",VLOOKUP(B34,'U17 Non Counters'!$B$3:$D$200,3,FALSE))) -> IH | D34: =IFERROR(INDIRECT("'"&C34&"-"&$A28&"'!D"&IF(RIGHT(B28,1)="W",MATCH('Start lists'!C28,'TN-U17'!F:F,0),MATCH('Start lists'!C28,'TN-U17'!B:B,0))+IF(LEFT(D28,1)="A",0,1)&""),IF(RIGHT(A28,2)="17",IF(RIGHT(B28,1)="W",VLOOKUP(B34,'U17 Non Counters'!$G$3:$I$200,2,FALSE),VLOOKUP(B34,'U17 Non Counters'!$B$3:$D$200,2,FALSE)),IF(RIGHT(B28,1)="W",VLOOKUP(B34,'U20 Non Counters'!$G$3:$I$200,2,FALSE),VLOOKUP(B34,'U20 Non Counters'!$B$3:$D$200,2,FALSE)))) -> 0 | H34: 5 | I34: ='Lane Draws'!Q6 -> 55 | J34: =IFERROR(IF(I34="","",VLOOKUP(I34,Teams!$A$12:$B$29,2,FALSE)),CONCATENATE("NC-",VLOOKUP(I34,'U17 Non Counters'!$B$3:$D$200,3,FALSE))) -> IH | K34: =IFERROR(INDIRECT("'"&J34&"-"&H28&"'!D"&IF(RIGHT(I28,1)="W",MATCH('Start lists'!J28,'TN-U17'!F:F,0),MATCH('Start lists'!J28,'TN-U17'!B:B,0))+IF(LEFT(K28,1)="A",0,1)&""),IF(RIGHT(H28,2)="17",IF(RIGHT(I28,1)="W",VLOOKUP(I34,'U17 Non Counters'!$G$3:$I$200,2,FALSE),VLOOKUP(I34,'U17 Non Counters'!$B$3:$D$200,2,FALSE)),IF(RIGHT(I28,1)="W",VLOOKUP(I34,'U20 Non Counters'!$G$3:$I$200,2,FALSE),VLOOKUP(I34,'U20 Non Counters'!$B$3:$D$200,2,FALSE)))) -> 0
A35: 6 | B35: ='Lane Draws'!N7 -> 1 | C35: =IFERROR(IF(B35="","",VLOOKUP(B35,Teams!$A$12:$B$29,2,FALSE)),CONCATENATE("NC-",VLOOKUP(B35,'U17 Non Counters'!$B$3:$D$200,3,FALSE))) -> AAAC | D35: =IFERROR(INDIRECT("'"&C35&"-"&$A28&"'!D"&IF(RIGHT(B28,1)="W",MATCH('Start lists'!C28,'TN-U17'!F:F,0),MATCH('Start lists'!C28,'TN-U17'!B:B,0))+IF(LEFT(D28,1)="A",0,1)&""),IF(RIGHT(A28,2)="17",IF(RIGHT(B28,1)="W",VLOOKUP(B35,'U17 Non Counters'!$G$3:$I$200,2,FALSE),VLOOKUP(B35,'U17 Non Counters'!$B$3:$D$200,2,FALSE)),IF(RIGHT(B28,1)="W",VLOOKUP(B35,'U20 Non Counters'!$G$3:$I$200,2,FALSE),VLOOKUP(B35,'U20 Non Counters'!$B$3:$D$200,2,FALSE)))) -> 0 | H35: 6 | I35: ='Lane Draws'!Q7 -> 11 | J35: =IFERROR(IF(I35="","",VLOOKUP(I35,Teams!$A$12:$B$29,2,FALSE)),CONCATENATE("NC-",VLOOKUP(I35,'U17 Non Counters'!$B$3:$D$200,3,FALSE))) -> AAAC | K35: =IFERROR(INDIRECT("'"&J35&"-"&H28&"'!D"&IF(RIGHT(I28,1)="W",MATCH('Start lists'!J28,'TN-U17'!F:F,0),MATCH('Start lists'!J28,'TN-U17'!B:B,0))+IF(LEFT(K28,1)="A",0,1)&""),IF(RIGHT(H28,2)="17",IF(RIGHT(I28,1)="W",VLOOKUP(I35,'U17 Non Counters'!$G$3:$I$200,2,FALSE),VLOOKUP(I35,'U17 Non Counters'!$B$3:$D$200,2,FALSE)),IF(RIGHT(I28,1)="W",VLOOKUP(I35,'U20 Non Counters'!$G$3:$I$200,2,FALSE),VLOOKUP(I35,'U20 Non Counters'!$B$3:$D$200,2,FALSE)))) -> 0
A36: 7 | B36: ='Lane Draws'!N8 -> 8 | C36: =IFERROR(IF(B36="","",VLOOKUP(B36,Teams!$A$12:$B$29,2,FALSE)),CONCATENATE("NC-",VLOOKUP(B36,'U17 Non Counters'!$B$3:$D$200,3,FALSE))) -> TN | D36: =IFERROR(INDIRECT("'"&C36&"-"&$A28&"'!D"&IF(RIGHT(B28,1)="W",MATCH('Start lists'!C28,'TN-U17'!F:F,0),MATCH('Start lists'!C28,'TN-U17'!B:B,0))+IF(LEFT(D28,1)="A",0,1)&""),IF(RIGHT(A28,2)="17",IF(RIGHT(B28,1)="W",VLOOKUP(B36,'U17 Non Counters'!$G$3:$I$200,2,FALSE),VLOOKUP(B36,'U17 Non Counters'!$B$3:$D$200,2,FALSE)),IF(RIGHT(B28,1)="W",VLOOKUP(B36,'U20 Non Counters'!$G$3:$I$200,2,FALSE),VLOOKUP(B36,'U20 Non Counters'!$B$3:$D$200,2,FALSE)))) -> 0 | H36: 7 | I36: ='Lane Draws'!Q8 -> 88 | J36: =IFERROR(IF(I36="","",VLOOKUP(I36,Teams!$A$12:$B$29,2,FALSE)),CONCATENATE("NC-",VLOOKUP(I36,'U17 Non Counters'!$B$3:$D$200,3,FALSE))) -> TN | K36: =IFERROR(INDIRECT("'"&J36&"-"&H28&"'!D"&IF(RIGHT(I28,1)="W",MATCH('Start lists'!J28,'TN-U17'!F:F,0),MATCH('Start lists'!J28,'TN-U17'!B:B,0))+IF(LEFT(K28,1)="A",0,1)&""),IF(RIGHT(H28,2)="17",IF(RIGHT(I28,1)="W",VLOOKUP(I36,'U17 Non Counters'!$G$3:$I$200,2,FALSE),VLOOKUP(I36,'U17 Non Counters'!$B$3:$D$200,2,FALSE)),IF(RIGHT(I28,1)="W",VLOOKUP(I36,'U20 Non Counters'!$G$3:$I$200,2,FALSE),VLOOKUP(I36,'U20 Non Counters'!$B$3:$D$200,2,FALSE)))) -> 0
A37: 8 | B37: ='Lane Draws'!N9 -> 3 | C37: =IFERROR(IF(B37="","",VLOOKUP(B37,Teams!$A$12:$B$29,2,FALSE)),CONCATENATE("NC-",VLOOKUP(B37,'U17 Non Counters'!$B$3:$D$200,3,FALSE))) -> BSAC | D37: =IFERROR(INDIRECT("'"&C37&"-"&$A28&"'!D"&IF(RIGHT(B28,1)="W",MATCH('Start lists'!C28,'TN-U17'!F:F,0),MATCH('Start lists'!C28,'TN-U17'!B:B,0))+IF(LEFT(D28,1)="A",0,1)&""),IF(RIGHT(A28,2)="17",IF(RIGHT(B28,1)="W",VLOOKUP(B37,'U17 Non Counters'!$G$3:$I$200,2,FALSE),VLOOKUP(B37,'U17 Non Counters'!$B$3:$D$200,2,FALSE)),IF(RIGHT(B28,1)="W",VLOOKUP(B37,'U20 Non Counters'!$G$3:$I$200,2,FALSE),VLOOKUP(B37,'U20 Non Counters'!$B$3:$D$200,2,FALSE)))) -> 0 | H37: 8 | I37: ='Lane Draws'!Q9 -> 33 | J37: =IFERROR(IF(I37="","",VLOOKUP(I37,Teams!$A$12:$B$29,2,FALSE)),CONCATENATE("NC-",VLOOKUP(I37,'U17 Non Counters'!$B$3:$D$200,3,FALSE))) -> BSAC | K37: =IFERROR(INDIRECT("'"&J37&"-"&H28&"'!D"&IF(RIGHT(I28,1)="W",MATCH('Start lists'!J28,'TN-U17'!F:F,0),MATCH('Start lists'!J28,'TN-U17'!B:B,0))+IF(LEFT(K28,1)="A",0,1)&""),IF(RIGHT(H28,2)="17",IF(RIGHT(I28,1)="W",VLOOKUP(I37,'U17 Non Counters'!$G$3:$I$200,2,FALSE),VLOOKUP(I37,'U17 Non Counters'!$B$3:$D$200,2,FALSE)),IF(RIGHT(I28,1)="W",VLOOKUP(I37,'U20 Non Counters'!$G$3:$I$200,2,FALSE),VLOOKUP(I37,'U20 Non Counters'!$B$3:$D$200,2,FALSE)))) -> 0
A39: =LEFT(B39,3) -> U20 | B39: U20M | C39: 400mH | D39: A string | E39: =IF('Lane Draws'!$T$12-COUNTIF('Lane Draws'!$T$2:$Y$9,">88")=0,0,CONCATENATE('Lane Draws'!$T$12-COUNTIF('Lane Draws'!$T$2:$Y$9,">88"), " Non Counters to put in lanes")) -> 0 | H39: =LEFT(I39,3) -> U20 | I39: =B39 -> U20M | J39: 400mH | K39: B string | L39: =IF('Lane Draws'!$T$12-COUNTIF('Lane Draws'!$T$2:$Y$9,">88")=0,0,CONCATENATE('Lane Draws'!$T$12-COUNTIF('Lane Draws'!$T$2:$Y$9,">88"), " Non Counters to put in lanes")) -> 0
A40: Lane | B40: Num | C40: Club | D40: Athlete | E40: Time | F40: Pos | H40: Lane | I40: Num | J40: Club | K40: Athlete | L40: Time | M40: Pos | N40: Points
A41: 1 | B41: ='Lane Draws'!T2 -> 7 | C41: =IFERROR(IF(B41="","",VLOOKUP(B41,Teams!$A$12:$B$29,2,FALSE)),CONCATENATE("NC-",VLOOKUP(B41,'U20 Non Counters'!$B$3:$D$200,3,FALSE))) -> MAC_PSH | D41: =IFERROR(INDIRECT("'"&C41&"-"&$A39&"'!D"&IF(RIGHT(B39,1)="W",MATCH('Start lists'!C39,'TN-U20'!F:F,0),MATCH('Start lists'!C39,'TN-U20'!B:B,0))+IF(LEFT(D39,1)="A",0,1)&""),IF(RIGHT(A39,2)="17",IF(RIGHT(B39,1)="W",VLOOKUP(B41,'U17 Non Counters'!$G$3:$I$200,2,FALSE),VLOOKUP(B41,'U17 Non Counters'!$B$3:$D$200,2,FALSE)),IF(RIGHT(B39,1)="W",VLOOKUP(B41,'U20 Non Counters'!$G$3:$I$200,2,FALSE),VLOOKUP(B41,'U20 Non Counters'!$B$3:$D$200,2,FALSE)))) -> 0 | H41: 1 | I41: ='Lane Draws'!W2 -> 77 | J41: =IFERROR(IF(I41="","",VLOOKUP(I41,Teams!$A$12:$B$29,2,FALSE)),CONCATENATE("NC-",VLOOKUP(I41,'U20 Non Counters'!$B$3:$D$200,3,FALSE))) -> MAC_PSH | K41: =IFERROR(INDIRECT("'"&J41&"-"&H39&"'!D"&IF(RIGHT(I39,1)="W",MATCH('Start lists'!J39,'TN-U20'!F:F,0),MATCH('Start lists'!J39,'TN-U20'!B:B,0))+IF(LEFT(K39,1)="A",0,1)&""),IF(RIGHT(H39,2)="17",IF(RIGHT(I39,1)="W",VLOOKUP(I41,'U17 Non Counters'!$G$3:$I$200,2,FALSE),VLOOKUP(I41,'U17 Non Counters'!$B$3:$D$200,2,FALSE)),IF(RIGHT(I39,1)="W",VLOOKUP(I41,'U20 Non Counters'!$G$3:$I$200,2,FALSE),VLOOKUP(I41,'U20 Non Counters'!$B$3:$D$200,2,FALSE)))) -> 0
A42: 2 | B42: ='Lane Draws'!T3 -> 6 | C42: =IFERROR(IF(B42="","",VLOOKUP(B42,Teams!$A$12:$B$29,2,FALSE)),CONCATENATE("NC-",VLOOKUP(B42,'U20 Non Counters'!$B$3:$D$200,3,FALSE))) -> ISA | D42: =IFERROR(INDIRECT("'"&C42&"-"&$A39&"'!D"&IF(RIGHT(B39,1)="W",MATCH('Start lists'!C39,'TN-U20'!F:F,0),MATCH('Start lists'!C39,'TN-U20'!B:B,0))+IF(LEFT(D39,1)="A",0,1)&""),IF(RIGHT(A39,2)="17",IF(RIGHT(B39,1)="W",VLOOKUP(B42,'U17 Non Counters'!$G$3:$I$200,2,FALSE),VLOOKUP(B42,'U17 Non Counters'!$B$3:$D$200,2,FALSE)),IF(RIGHT(B39,1)="W",VLOOKUP(B42,'U20 Non Counters'!$G$3:$I$200,2,FALSE),VLOOKUP(B42,'U20 Non Counters'!$B$3:$D$200,2,FALSE)))) -> 0 | H42: 2 | I42: ='Lane Draws'!W3 -> 66 | J42: =IFERROR(IF(I42="","",VLOOKUP(I42,Teams!$A$12:$B$29,2,FALSE)),CONCATENATE("NC-",VLOOKUP(I42,'U20 Non Counters'!$B$3:$D$200,3,FALSE))) -> ISA | K42: =IFERROR(INDIRECT("'"&J42&"-"&H39&"'!D"&IF(RIGHT(I39,1)="W",MATCH('Start lists'!J39,'TN-U20'!F:F,0),MATCH('Start lists'!J39,'TN-U20'!B:B,0))+IF(LEFT(K39,1)="A",0,1)&""),IF(RIGHT(H39,2)="17",IF(RIGHT(I39,1)="W",VLOOKUP(I42,'U17 Non Counters'!$G$3:$I$200,2,FALSE),VLOOKUP(I42,'U17 Non Counters'!$B$3:$D$200,2,FALSE)),IF(RIGHT(I39,1)="W",VLOOKUP(I42,'U20 Non Counters'!$G$3:$I$200,2,FALSE),VLOOKUP(I42,'U20 Non Counters'!$B$3:$D$200,2,FALSE)))) -> 0
A43: 3 | B43: ='Lane Draws'!T4 -> 4 | C43: =IFERROR(IF(B43="","",VLOOKUP(B43,Teams!$A$12:$B$29,2,FALSE)),CONCATENATE("NC-",VLOOKUP(B43,'U20 Non Counters'!$B$3:$D$200,3,FALSE))) -> DHH | D43: =IFERROR(INDIRECT("'"&C43&"-"&$A39&"'!D"&IF(RIGHT(B39,1)="W",MATCH('Start lists'!C39,'TN-U20'!F:F,0),MATCH('Start lists'!C39,'TN-U20'!B:B,0))+IF(LEFT(D39,1)="A",0,1)&""),IF(RIGHT(A39,2)="17",IF(RIGHT(B39,1)="W",VLOOKUP(B43,'U17 Non Counters'!$G$3:$I$200,2,FALSE),VLOOKUP(B43,'U17 Non Counters'!$B$3:$D$200,2,FALSE)),IF(RIGHT(B39,1)="W",VLOOKUP(B43,'U20 Non Counters'!$G$3:$I$200,2,FALSE),VLOOKUP(B43,'U20 Non Counters'!$B$3:$D$200,2,FALSE)))) -> 0 | H43: 3 | I43: ='Lane Draws'!W4 -> 44 | J43: =IFERROR(IF(I43="","",VLOOKUP(I43,Teams!$A$12:$B$29,2,FALSE)),CONCATENATE("NC-",VLOOKUP(I43,'U20 Non Counters'!$B$3:$D$200,3,FALSE))) -> DHH | K43: =IFERROR(INDIRECT("'"&J43&"-"&H39&"'!H"&IF(RIGHT(I39,1)="W",MATCH('Start lists'!J39,'TN-U20'!F:F,0),MATCH('Start lists'!J39,'TN-U20'!B:B,0))+IF(LEFT(K39,1)="A",0,1)&""),IF(RIGHT(H39,2)="17",IF(RIGHT(I39,1)="W",VLOOKUP(I43,'U17 Non Counters'!$G$3:$I$200,2,FALSE),VLOOKUP(I43,'U17 Non Counters'!$B$3:$D$200,2,FALSE)),IF(RIGHT(I39,1)="W",VLOOKUP(I43,'U20 Non Counters'!$G$3:$I$200,2,FALSE),VLOOKUP(I43,'U20 Non Counters'!$B$3:$D$200,2,FALSE)))) -> 0
A44: 4 | B44: ='Lane Draws'!T5 -> 2 | C44: =IFERROR(IF(B44="","",VLOOKUP(B44,Teams!$A$12:$B$29,2,FALSE)),CONCATENATE("NC-",VLOOKUP(B44,'U20 Non Counters'!$B$3:$D$200,3,FALSE))) -> ADAC | D44: =IFERROR(INDIRECT("'"&C44&"-"&$A39&"'!D"&IF(RIGHT(B39,1)="W",MATCH('Start lists'!C39,'TN-U20'!F:F,0),MATCH('Start lists'!C39,'TN-U20'!B:B,0))+IF(LEFT(D39,1)="A",0,1)&""),IF(RIGHT(A39,2)="17",IF(RIGHT(B39,1)="W",VLOOKUP(B44,'U17 Non Counters'!$G$3:$I$200,2,FALSE),VLOOKUP(B44,'U17 Non Counters'!$B$3:$D$200,2,FALSE)),IF(RIGHT(B39,1)="W",VLOOKUP(B44,'U20 Non Counters'!$G$3:$I$200,2,FALSE),VLOOKUP(B44,'U20 Non Counters'!$B$3:$D$200,2,FALSE)))) -> 0 | H44: 4 | I44: ='Lane Draws'!W5 -> 22 | J44: =IFERROR(IF(I44="","",VLOOKUP(I44,Teams!$A$12:$B$29,2,FALSE)),CONCATENATE("NC-",VLOOKUP(I44,'U20 Non Counters'!$B$3:$D$200,3,FALSE))) -> ADAC | K44: =IFERROR(INDIRECT("'"&J44&"-"&H39&"'!D"&IF(RIGHT(I39,1)="W",MATCH('Start lists'!J39,'TN-U20'!F:F,0),MATCH('Start lists'!J39,'TN-U20'!B:B,0))+IF(LEFT(K39,1)="A",0,1)&""),IF(RIGHT(H39,2)="17",IF(RIGHT(I39,1)="W",VLOOKUP(I44,'U17 Non Counters'!$G$3:$I$200,2,FALSE),VLOOKUP(I44,'U17 Non Counters'!$B$3:$D$200,2,FALSE)),IF(RIGHT(I39,1)="W",VLOOKUP(I44,'U20 Non Counters'!$G$3:$I$200,2,FALSE),VLOOKUP(I44,'U20 Non Counters'!$B$3:$D$200,2,FALSE)))) -> 0
A45: 5 | B45: ='Lane Draws'!T6 -> 5 | C45: =IFERROR(IF(B45="","",VLOOKUP(B45,Teams!$A$12:$B$29,2,FALSE)),CONCATENATE("NC-",VLOOKUP(B45,'U20 Non Counters'!$B$3:$D$200,3,FALSE))) -> IH | D45: =IFERROR(INDIRECT("'"&C45&"-"&$A39&"'!D"&IF(RIGHT(B39,1)="W",MATCH('Start lists'!C39,'TN-U20'!F:F,0),MATCH('Start lists'!C39,'TN-U20'!B:B,0))+IF(LEFT(D39,1)="A",0,1)&""),IF(RIGHT(A39,2)="17",IF(RIGHT(B39,1)="W",VLOOKUP(B45,'U17 Non Counters'!$G$3:$I$200,2,FALSE),VLOOKUP(B45,'U17 Non Counters'!$B$3:$D$200,2,FALSE)),IF(RIGHT(B39,1)="W",VLOOKUP(B45,'U20 Non Counters'!$G$3:$I$200,2,FALSE),VLOOKUP(B45,'U20 Non Counters'!$B$3:$D$200,2,FALSE)))) -> 0 | H45: 5 | I45: ='Lane Draws'!W6 -> 55 | J45: =IFERROR(IF(I45="","",VLOOKUP(I45,Teams!$A$12:$B$29,2,FALSE)),CONCATENATE("NC-",VLOOKUP(I45,'U20 Non Counters'!$B$3:$D$200,3,FALSE))) -> IH | K45: =IFERROR(INDIRECT("'"&J45&"-"&H39&"'!D"&IF(RIGHT(I39,1)="W",MATCH('Start lists'!J39,'TN-U20'!F:F,0),MATCH('Start lists'!J39,'TN-U20'!B:B,0))+IF(LEFT(K39,1)="A",0,1)&""),IF(RIGHT(H39,2)="17",IF(RIGHT(I39,1)="W",VLOOKUP(I45,'U17 Non Counters'!$G$3:$I$200,2,FALSE),VLOOKUP(I45,'U17 Non Counters'!$B$3:$D$200,2,FALSE)),IF(RIGHT(I39,1)="W",VLOOKUP(I45,'U20 Non Counters'!$G$3:$I$200,2,FALSE),VLOOKUP(I45,'U20 Non Counters'!$B$3:$D$200,2,FALSE)))) -> 0
A46: 6 | B46: ='Lane Draws'!T7 -> 1 | C46: =IFERROR(IF(B46="","",VLOOKUP(B46,Teams!$A$12:$B$29,2,FALSE)),CONCATENATE("NC-",VLOOKUP(B46,'U20 Non Counters'!$B$3:$D$200,3,FALSE))) -> AAAC | D46: =IFERROR(INDIRECT("'"&C46&"-"&$A39&"'!D"&IF(RIGHT(B39,1)="W",MATCH('Start lists'!C39,'TN-U20'!F:F,0),MATCH('Start lists'!C39,'TN-U20'!B:B,0))+IF(LEFT(D39,1)="A",0,1)&""),IF(RIGHT(A39,2)="17",IF(RIGHT(B39,1)="W",VLOOKUP(B46,'U17 Non Counters'!$G$3:$I$200,2,FALSE),VLOOKUP(B46,'U17 Non Counters'!$B$3:$D$200,2,FALSE)),IF(RIGHT(B39,1)="W",VLOOKUP(B46,'U20 Non Counters'!$G$3:$I$200,2,FALSE),VLOOKUP(B46,'U20 Non Counters'!$B$3:$D$200,2,FALSE)))) -> 0 | H46: 6 | I46: ='Lane Draws'!W7 -> 11 | J46: =IFERROR(IF(I46="","",VLOOKUP(I46,Teams!$A$12:$B$29,2,FALSE)),CONCATENATE("NC-",VLOOKUP(I46,'U20 Non Counters'!$B$3:$D$200,3,FALSE))) -> AAAC | K46: =IFERROR(INDIRECT("'"&J46&"-"&H39&"'!D"&IF(RIGHT(I39,1)="W",MATCH('Start lists'!J39,'TN-U20'!F:F,0),MATCH('Start lists'!J39,'TN-U20'!B:B,0))+IF(LEFT(K39,1)="A",0,1)&""),IF(RIGHT(H39,2)="17",IF(RIGHT(I39,1)="W",VLOOKUP(I46,'U17 Non Counters'!$G$3:$I$200,2,FALSE),VLOOKUP(I46,'U17 Non Counters'!$B$3:$D$200,2,FALSE)),IF(RIGHT(I39,1)="W",VLOOKUP(I46,'U20 Non Counters'!$G$3:$I$200,2,FALSE),VLOOKUP(I46,'U20 Non Counters'!$B$3:$D$200,2,FALSE)))) -> 0
A47: 7 | B47: ='Lane Draws'!T8 -> 8 | C47: =IFERROR(IF(B47="","",VLOOKUP(B47,Teams!$A$12:$B$29,2,FALSE)),CONCATENATE("NC-",VLOOKUP(B47,'U20 Non Counters'!$B$3:$D$200,3,FALSE))) -> TN | D47: =IFERROR(INDIRECT("'"&C47&"-"&$A39&"'!D"&IF(RIGHT(B39,1)="W",MATCH('Start lists'!C39,'TN-U20'!F:F,0),MATCH('Start lists'!C39,'TN-U20'!B:B,0))+IF(LEFT(D39,1)="A",0,1)&""),IF(RIGHT(A39,2)="17",IF(RIGHT(B39,1)="W",VLOOKUP(B47,'U17 Non Counters'!$G$3:$I$200,2,FALSE),VLOOKUP(B47,'U17 Non Counters'!$B$3:$D$200,2,FALSE)),IF(RIGHT(B39,1)="W",VLOOKUP(B47,'U20 Non Counters'!$G$3:$I$200,2,FALSE),VLOOKUP(B47,'U20 Non Counters'!$B$3:$D$200,2,FALSE)))) -> 0 | H47: 7 | I47: ='Lane Draws'!W8 -> 88 | J47: =IFERROR(IF(I47="","",VLOOKUP(I47,Teams!$A$12:$B$29,2,FALSE)),CONCATENATE("NC-",VLOOKUP(I47,'U20 Non Counters'!$B$3:$D$200,3,FALSE))) -> TN | K47: =IFERROR(INDIRECT("'"&J47&"-"&H39&"'!D"&IF(RIGHT(I39,1)="W",MATCH('Start lists'!J39,'TN-U20'!F:F,0),MATCH('Start lists'!J39,'TN-U20'!B:B,0))+IF(LEFT(K39,1)="A",0,1)&""),IF(RIGHT(H39,2)="17",IF(RIGHT(I39,1)="W",VLOOKUP(I47,'U17 Non Counters'!$G$3:$I$200,2,FALSE),VLOOKUP(I47,'U17 Non Counters'!$B$3:$D$200,2,FALSE)),IF(RIGHT(I39,1)="W",VLOOKUP(I47,'U20 Non Counters'!$G$3:$I$200,2,FALSE),VLOOKUP(I47,'U20 Non Counters'!$B$3:$D$200,2,FALSE)))) -> 0
A48: 8 | B48: ='Lane Draws'!T9 -> 3 | C48: =IFERROR(IF(B48="","",VLOOKUP(B48,Teams!$A$12:$B$29,2,FALSE)),CONCATENATE("NC-",VLOOKUP(B48,'U20 Non Counters'!$B$3:$D$200,3,FALSE))) -> BSAC | D48: =IFERROR(INDIRECT("'"&C48&"-"&$A39&"'!D"&IF(RIGHT(B39,1)="W",MATCH('Start lists'!C39,'TN-U20'!F:F,0),MATCH('Start lists'!C39,'TN-U20'!B:B,0))+IF(LEFT(D39,1)="A",0,1)&""),IF(RIGHT(A39,2)="17",IF(RIGHT(B39,1)="W",VLOOKUP(B48,'U17 Non Counters'!$G$3:$I$200,2,FALSE),VLOOKUP(B48,'U17 Non Counters'!$B$3:$D$200,2,FALSE)),IF(RIGHT(B39,1)="W",VLOOKUP(B48,'U20 Non Counters'!$G$3:$I$200,2,FALSE),VLOOKUP(B48,'U20 Non Counters'!$B$3:$D$200,2,FALSE)))) -> 0 | H48: 8 | I48: ='Lane Draws'!W9 -> 33 | J48: =IFERROR(IF(I48="","",VLOOKUP(I48,Teams!$A$12:$B$29,2,FALSE)),CONCATENATE("NC-",VLOOKUP(I48,'U20 Non Counters'!$B$3:$D$200,3,FALSE))) -> BSAC | K48: =IFERROR(INDIRECT("'"&J48&"-"&H39&"'!D"&IF(RIGHT(I39,1)="W",MATCH('Start lists'!J39,'TN-U20'!F:F,0),MATCH('Start lists'!J39,'TN-U20'!B:B,0))+IF(LEFT(K39,1)="A",0,1)&""),IF(RIGHT(H39,2)="17",IF(RIGHT(I39,1)="W",VLOOKUP(I48,'U17 Non Counters'!$G$3:$I$200,2,FALSE),VLOOKUP(I48,'U17 Non Counters'!$B$3:$D$200,2,FALSE)),IF(RIGHT(I39,1)="W",VLOOKUP(I48,'U20 Non Counters'!$G$3:$I$200,2,FALSE),VLOOKUP(I48,'U20 Non Counters'!$B$3:$D$200,2,FALSE)))) -> 0
A50: =LEFT(B50,3) -> U17 | B50: U17W | C50: 100m | D50: A string | E50: =IF('Lane Draws'!$Z$12-COUNTIF('Lane Draws'!$Z$2:$AE$9,">88")=0,0,CONCATENATE('Lane Draws'!$Z$12-COUNTIF('Lane Draws'!$Z$2:$AE$9,">88"), " Non Counters to put in lanes")) -> 0 | H50: =LEFT(I50,3) -> U17 | I50: =B50 -> U17W | J50: 100m | K50: B string | L50: =IF('Lane Draws'!$Z$12-COUNTIF('Lane Draws'!$Z$2:$AE$9,">88")=0,0,CONCATENATE('Lane Draws'!$Z$12-COUNTIF('Lane Draws'!$Z$2:$AE$9,">88"), " Non Counters to put in lanes")) -> 0
A51: Lane | B51: Num | C51: Club | D51: Athlete | E51: Time | F51: Pos | H51: Lane | I51: Num | J51: Club | K51: Athlete | L51: Time | M51: Pos | N51: Points
A52: 1 | B52: ='Lane Draws'!Z2 -> 7 | C52: =IFERROR(IF(B52="","",VLOOKUP(B52,Teams!$A$12:$B$29,2,FALSE)),CONCATENATE("NC-",VLOOKUP(B52,'U17 Non Counters'!$G$3:$I$200,3,FALSE))) -> MAC_PSH | D52: =IFERROR(INDIRECT("'"&C52&"-"&$A50&"'!H"&IF(RIGHT(B50,1)="W",MATCH('Start lists'!C50,'TN-U17'!F:F,0),MATCH('Start lists'!C50,'TN-U17'!B:B,0))+IF(LEFT(D50,1)="A",0,1)&""),IF(RIGHT(A50,2)="17",IF(RIGHT(B50,1)="W",VLOOKUP(B52,'U17 Non Counters'!$G$3:$I$200,2,FALSE),VLOOKUP(B52,'U17 Non Counters'!$B$3:$D$200,2,FALSE)),IF(RIGHT(B50,1)="W",VLOOKUP(B52,'U20 Non Counters'!$G$3:$I$200,2,FALSE),VLOOKUP(B52,'U20 Non Counters'!$B$3:$D$200,2,FALSE)))) -> 0 | H52: 1 | I52: ='Lane Draws'!AC2 -> 77 | J52: =IFERROR(IF(I52="","",VLOOKUP(I52,Teams!$A$12:$B$29,2,FALSE)),CONCATENATE("NC-",VLOOKUP(I52,'U17 Non Counters'!$G$3:$I$200,3,FALSE))) -> MAC_PSH | K52: =IFERROR(INDIRECT("'"&J52&"-"&H50&"'!H"&IF(RIGHT(I50,1)="W",MATCH('Start lists'!J50,'TN-U17'!F:F,0),MATCH('Start lists'!J50,'TN-U17'!J:J,0))+IF(LEFT(K50,1)="A",0,1)&""),IF(RIGHT(H50,2)="17",IF(RIGHT(I50,1)="W",VLOOKUP(I52,'U17 Non Counters'!$G$3:$I$200,2,FALSE),VLOOKUP(I52,'U17 Non Counters'!$B$3:$D$200,2,FALSE)),IF(RIGHT(I50,1)="W",VLOOKUP(I52,'U20 Non Counters'!$G$3:$I$200,2,FALSE),VLOOKUP(I52,'U20 Non Counters'!$B$3:$D$200,2,FALSE)))) -> 0
A53: 2 | B53: ='Lane Draws'!Z3 -> 1 | C53: =IFERROR(IF(B53="","",VLOOKUP(B53,Teams!$A$12:$B$29,2,FALSE)),CONCATENATE("NC-",VLOOKUP(B53,'U17 Non Counters'!$G$3:$I$200,3,FALSE))) -> AAAC | D53: =IFERROR(INDIRECT("'"&C53&"-"&$A50&"'!H"&IF(RIGHT(B50,1)="W",MATCH('Start lists'!C50,'TN-U17'!F:F,0),MATCH('Start lists'!C50,'TN-U17'!B:B,0))+IF(LEFT(D50,1)="A",0,1)&""),IF(RIGHT(A50,2)="17",IF(RIGHT(B50,1)="W",VLOOKUP(B53,'U17 Non Counters'!$G$3:$I$200,2,FALSE),VLOOKUP(B53,'U17 Non Counters'!$B$3:$D$200,2,FALSE)),IF(RIGHT(B50,1)="W",VLOOKUP(B53,'U20 Non Counters'!$G$3:$I$200,2,FALSE),VLOOKUP(B53,'U20 Non Counters'!$B$3:$D$200,2,FALSE)))) -> Mia Keogh | H53: 2 | I53: ='Lane Draws'!AC3 -> 11 | J53: =IFERROR(IF(I53="","",VLOOKUP(I53,Teams!$A$12:$B$29,2,FALSE)),CONCATENATE("NC-",VLOOKUP(I53,'U17 Non Counters'!$G$3:$I$200,3,FALSE))) -> AAAC | K53: =IFERROR(INDIRECT("'"&J53&"-"&H50&"'!H"&IF(RIGHT(I50,1)="W",MATCH('Start lists'!J50,'TN-U17'!F:F,0),MATCH('Start lists'!J50,'TN-U17'!J:J,0))+IF(LEFT(K50,1)="A",0,1)&""),IF(RIGHT(H50,2)="17",IF(RIGHT(I50,1)="W",VLOOKUP(I53,'U17 Non Counters'!$G$3:$I$200,2,FALSE),VLOOKUP(I53,'U17 Non Counters'!$B$3:$D$200,2,FALSE)),IF(RIGHT(I50,1)="W",VLOOKUP(I53,'U20 Non Counters'!$G$3:$I$200,2,FALSE),VLOOKUP(I53,'U20 Non Counters'!$B$3:$D$200,2,FALSE)))) -> Sophie Dickie-Moir
A54: 3 | B54: ='Lane Draws'!Z4 -> 5 | C54: =IFERROR(IF(B54="","",VLOOKUP(B54,Teams!$A$12:$B$29,2,FALSE)),CONCATENATE("NC-",VLOOKUP(B54,'U17 Non Counters'!$G$3:$I$200,3,FALSE))) -> IH | D54: =IFERROR(INDIRECT("'"&C54&"-"&$A50&"'!H"&IF(RIGHT(B50,1)="W",MATCH('Start lists'!C50,'TN-U17'!F:F,0),MATCH('Start lists'!C50,'TN-U17'!B:B,0))+IF(LEFT(D50,1)="A",0,1)&""),IF(RIGHT(A50,2)="17",IF(RIGHT(B50,1)="W",VLOOKUP(B54,'U17 Non Counters'!$G$3:$I$200,2,FALSE),VLOOKUP(B54,'U17 Non Counters'!$B$3:$D$200,2,FALSE)),IF(RIGHT(B50,1)="W",VLOOKUP(B54,'U20 Non Counters'!$G$3:$I$200,2,FALSE),VLOOKUP(B54,'U20 Non Counters'!$B$3:$D$200,2,FALSE)))) -> Mairi Darroch | H54: 3 | I54: ='Lane Draws'!AC4 -> 55 | J54: =IFERROR(IF(I54="","",VLOOKUP(I54,Teams!$A$12:$B$29,2,FALSE)),CONCATENATE("NC-",VLOOKUP(I54,'U17 Non Counters'!$G$3:$I$200,3,FALSE))) -> IH | K54: =IFERROR(INDIRECT("'"&J54&"-"&H50&"'!H"&IF(RIGHT(I50,1)="W",MATCH('Start lists'!J50,'TN-U17'!F:F,0),MATCH('Start lists'!J50,'TN-U17'!J:J,0))+IF(LEFT(K50,1)="A",0,1)&""),IF(RIGHT(H50,2)="17",IF(RIGHT(I50,1)="W",VLOOKUP(I54,'U17 Non Counters'!$G$3:$I$200,2,FALSE),VLOOKUP(I54,'U17 Non Counters'!$B$3:$D$200,2,FALSE)),IF(RIGHT(I50,1)="W",VLOOKUP(I54,'U20 Non Counters'!$G$3:$I$200,2,FALSE),VLOOKUP(I54,'U20 Non Counters'!$B$3:$D$200,2,FALSE)))) -> Rachel Johnstone
A55: 4 | B55: ='Lane Draws'!Z5 -> 4 | C55: =IFERROR(IF(B55="","",VLOOKUP(B55,Teams!$A$12:$B$29,2,FALSE)),CONCATENATE("NC-",VLOOKUP(B55,'U17 Non Counters'!$G$3:$I$200,3,FALSE))) -> DHH | D55: =IFERROR(INDIRECT("'"&C55&"-"&$A50&"'!H"&IF(RIGHT(B50,1)="W",MATCH('Start lists'!C50,'TN-U17'!F:F,0),MATCH('Start lists'!C50,'TN-U17'!B:B,0))+IF(LEFT(D50,1)="A",0,1)&""),IF(RIGHT(A50,2)="17",IF(RIGHT(B50,1)="W",VLOOKUP(B55,'U17 Non Counters'!$G$3:$I$200,2,FALSE),VLOOKUP(B55,'U17 Non Counters'!$B$3:$D$200,2,FALSE)),IF(RIGHT(B50,1)="W",VLOOKUP(B55,'U20 Non Counters'!$G$3:$I$200,2,FALSE),VLOOKUP(B55,'U20 Non Counters'!$B$3:$D$200,2,FALSE)))) -> Megan Gowans | H55: 4 | I55: ='Lane Draws'!AC5 -> 44 | J55: =IFERROR(IF(I55="","",VLOOKUP(I55,Teams!$A$12:$B$29,2,FALSE)),CONCATENATE("NC-",VLOOKUP(I55,'U17 Non Counters'!$G$3:$I$200,3,FALSE))) -> DHH | K55: =IFERROR(INDIRECT("'"&J55&"-"&H50&"'!H"&IF(RIGHT(I50,1)="W",MATCH('Start lists'!J50,'TN-U17'!F:F,0),MATCH('Start lists'!J50,'TN-U17'!J:J,0))+IF(LEFT(K50,1)="A",0,1)&""),IF(RIGHT(H50,2)="17",IF(RIGHT(I50,1)="W",VLOOKUP(I55,'U17 Non Counters'!$G$3:$I$200,2,FALSE),VLOOKUP(I55,'U17 Non Counters'!$B$3:$D$200,2,FALSE)),IF(RIGHT(I50,1)="W",VLOOKUP(I55,'U20 Non Counters'!$G$3:$I$200,2,FALSE),VLOOKUP(I55,'U20 Non Counters'!$B$3:$D$200,2,FALSE)))) -> Frankie Duncan-Morris
A56: 5 | B56: ='Lane Draws'!Z6 -> 6 | C56: =IFERROR(IF(B56="","",VLOOKUP(B56,Teams!$A$12:$B$29,2,FALSE)),CONCATENATE("NC-",VLOOKUP(B56,'U17 Non Counters'!$G$3:$I$200,3,FALSE))) -> ISA | D56: =IFERROR(INDIRECT("'"&C56&"-"&$A50&"'!H"&IF(RIGHT(B50,1)="W",MATCH('Start lists'!C50,'TN-U17'!F:F,0),MATCH('Start lists'!C50,'TN-U17'!B:B,0))+IF(LEFT(D50,1)="A",0,1)&""),IF(RIGHT(A50,2)="17",IF(RIGHT(B50,1)="W",VLOOKUP(B56,'U17 Non Counters'!$G$3:$I$200,2,FALSE),VLOOKUP(B56,'U17 Non Counters'!$B$3:$D$200,2,FALSE)),IF(RIGHT(B50,1)="W",VLOOKUP(B56,'U20 Non Counters'!$G$3:$I$200,2,FALSE),VLOOKUP(B56,'U20 Non Counters'!$B$3:$D$200,2,FALSE)))) -> Katie Dinwoodie | H56: 5 | I56: ='Lane Draws'!AC6 -> 66 | J56: =IFERROR(IF(I56="","",VLOOKUP(I56,Teams!$A$12:$B$29,2,FALSE)),CONCATENATE("NC-",VLOOKUP(I56,'U17 Non Counters'!$G$3:$I$200,3,FALSE))) -> ISA | K56: =IFERROR(INDIRECT("'"&J56&"-"&H50&"'!H"&IF(RIGHT(I50,1)="W",MATCH('Start lists'!J50,'TN-U17'!F:F,0),MATCH('Start lists'!J50,'TN-U17'!J:J,0))+IF(LEFT(K50,1)="A",0,1)&""),IF(RIGHT(H50,2)="17",IF(RIGHT(I50,1)="W",VLOOKUP(I56,'U17 Non Counters'!$G$3:$I$200,2,FALSE),VLOOKUP(I56,'U17 Non Counters'!$B$3:$D$200,2,FALSE)),IF(RIGHT(I50,1)="W",VLOOKUP(I56,'U20 Non Counters'!$G$3:$I$200,2,FALSE),VLOOKUP(I56,'U20 Non Counters'!$B$3:$D$200,2,FALSE)))) -> Laura Newbold
A57: 6 | B57: ='Lane Draws'!Z7 -> 2 | C57: =IFERROR(IF(B57="","",VLOOKUP(B57,Teams!$A$12:$B$29,2,FALSE)),CONCATENATE("NC-",VLOOKUP(B57,'U17 Non Counters'!$G$3:$I$200,3,FALSE))) -> ADAC | D57: =IFERROR(INDIRECT("'"&C57&"-"&$A50&"'!H"&IF(RIGHT(B50,1)="W",MATCH('Start lists'!C50,'TN-U17'!F:F,0),MATCH('Start lists'!C50,'TN-U17'!B:B,0))+IF(LEFT(D50,1)="A",0,1)&""),IF(RIGHT(A50,2)="17",IF(RIGHT(B50,1)="W",VLOOKUP(B57,'U17 Non Counters'!$G$3:$I$200,2,FALSE),VLOOKUP(B57,'U17 Non Counters'!$B$3:$D$200,2,FALSE)),IF(RIGHT(B50,1)="W",VLOOKUP(B57,'U20 Non Counters'!$G$3:$I$200,2,FALSE),VLOOKUP(B57,'U20 Non Counters'!$B$3:$D$200,2,FALSE)))) -> Rachel Lorimer | H57: 6 | I57: ='Lane Draws'!AC7 -> 22 | J57: =IFERROR(IF(I57="","",VLOOKUP(I57,Teams!$A$12:$B$29,2,FALSE)),CONCATENATE("NC-",VLOOKUP(I57,'U17 Non Counters'!$G$3:$I$200,3,FALSE))) -> ADAC | K57: =IFERROR(INDIRECT("'"&J57&"-"&H50&"'!H"&IF(RIGHT(I50,1)="W",MATCH('Start lists'!J50,'TN-U17'!F:F,0),MATCH('Start lists'!J50,'TN-U17'!J:J,0))+IF(LEFT(K50,1)="A",0,1)&""),IF(RIGHT(H50,2)="17",IF(RIGHT(I50,1)="W",VLOOKUP(I57,'U17 Non Counters'!$G$3:$I$200,2,FALSE),VLOOKUP(I57,'U17 Non Counters'!$B$3:$D$200,2,FALSE)),IF(RIGHT(I50,1)="W",VLOOKUP(I57,'U20 Non Counters'!$G$3:$I$200,2,FALSE),VLOOKUP(I57,'U20 Non Counters'!$B$3:$D$200,2,FALSE)))) -> Lucy Nicoll
A58: 7 | B58: ='Lane Draws'!Z8 -> 8 | C58: =IFERROR(IF(B58="","",VLOOKUP(B58,Teams!$A$12:$B$29,2,FALSE)),CONCATENATE("NC-",VLOOKUP(B58,'U17 Non Counters'!$G$3:$I$200,3,FALSE))) -> TN | D58: =IFERROR(INDIRECT("'"&C58&"-"&$A50&"'!H"&IF(RIGHT(B50,1)="W",MATCH('Start lists'!C50,'TN-U17'!F:F,0),MATCH('Start lists'!C50,'TN-U17'!B:B,0))+IF(LEFT(D50,1)="A",0,1)&""),IF(RIGHT(A50,2)="17",IF(RIGHT(B50,1)="W",VLOOKUP(B58,'U17 Non Counters'!$G$3:$I$200,2,FALSE),VLOOKUP(B58,'U17 Non Counters'!$B$3:$D$200,2,FALSE)),IF(RIGHT(B50,1)="W",VLOOKUP(B58,'U20 Non Counters'!$G$3:$I$200,2,FALSE),VLOOKUP(B58,'U20 Non Counters'!$B$3:$D$200,2,FALSE)))) -> BETH GRANT | H58: 7 | I58: ='Lane Draws'!AC8 -> 88 | J58: =IFERROR(IF(I58="","",VLOOKUP(I58,Teams!$A$12:$B$29,2,FALSE)),CONCATENATE("NC-",VLOOKUP(I58,'U17 Non Counters'!$G$3:$I$200,3,FALSE))) -> TN | K58: =IFERROR(INDIRECT("'"&J58&"-"&H50&"'!H"&IF(RIGHT(I50,1)="W",MATCH('Start lists'!J50,'TN-U17'!F:F,0),MATCH('Start lists'!J50,'TN-U17'!J:J,0))+IF(LEFT(K50,1)="A",0,1)&""),IF(RIGHT(H50,2)="17",IF(RIGHT(I50,1)="W",VLOOKUP(I58,'U17 Non Counters'!$G$3:$I$200,2,FALSE),VLOOKUP(I58,'U17 Non Counters'!$B$3:$D$200,2,FALSE)),IF(RIGHT(I50,1)="W",VLOOKUP(I58,'U20 Non Counters'!$G$3:$I$200,2,FALSE),VLOOKUP(I58,'U20 Non Counters'!$B$3:$D$200,2,FALSE)))) -> EMMA BARCLAY
A59: 8 | B59: ='Lane Draws'!Z9 -> 3 | C59: =IFERROR(IF(B59="","",VLOOKUP(B59,Teams!$A$12:$B$29,2,FALSE)),CONCATENATE("NC-",VLOOKUP(B59,'U17 Non Counters'!$G$3:$I$200,3,FALSE))) -> BSAC | D59: =IFERROR(INDIRECT("'"&C59&"-"&$A50&"'!H"&IF(RIGHT(B50,1)="W",MATCH('Start lists'!C50,'TN-U17'!F:F,0),MATCH('Start lists'!C50,'TN-U17'!B:B,0))+IF(LEFT(D50,1)="A",0,1)&""),IF(RIGHT(A50,2)="17",IF(RIGHT(B50,1)="W",VLOOKUP(B59,'U17 Non Counters'!$G$3:$I$200,2,FALSE),VLOOKUP(B59,'U17 Non Counters'!$B$3:$D$200,2,FALSE)),IF(RIGHT(B50,1)="W",VLOOKUP(B59,'U20 Non Counters'!$G$3:$I$200,2,FALSE),VLOOKUP(B59,'U20 Non Counters'!$B$3:$D$200,2,FALSE)))) -> 0 | H59: 8 | I59: ='Lane Draws'!AC9 -> 33 | J59: =IFERROR(IF(I59="","",VLOOKUP(I59,Teams!$A$12:$B$29,2,FALSE)),CONCATENATE("NC-",VLOOKUP(I59,'U17 Non Counters'!$G$3:$I$200,3,FALSE))) -> BSAC | K59: =IFERROR(INDIRECT("'"&J59&"-"&H50&"'!H"&IF(RIGHT(I50,1)="W",MATCH('Start lists'!J50,'TN-U17'!F:F,0),MATCH('Start lists'!J50,'TN-U17'!J:J,0))+IF(LEFT(K50,1)="A",0,1)&""),IF(RIGHT(H50,2)="17",IF(RIGHT(I50,1)="W",VLOOKUP(I59,'U17 Non Counters'!$G$3:$I$200,2,FALSE),VLOOKUP(I59,'U17 Non Counters'!$B$3:$D$200,2,FALSE)),IF(RIGHT(I50,1)="W",VLOOKUP(I59,'U20 Non Counters'!$G$3:$I$200,2,FALSE),VLOOKUP(I59,'U20 Non Counters'!$B$3:$D$200,2,FALSE)))) -> 0
A61: =LEFT(B61,3) -> U20 | B61: U20W | C61: 100m | D61: A string | E61: =IF('Lane Draws'!$AF$12-COUNTIF('Lane Draws'!$AF$2:$AK$9,">88")=0,0,CONCATENATE('Lane Draws'!$AF$12-COUNTIF('Lane Draws'!$AF$2:$AK$9,">88"), " Non Counters to put in lanes")) -> 0 | H61: =LEFT(I61,3) -> U20 | I61: =B61 -> U20W | J61: 100m | K61: B string | L61: =IF('Lane Draws'!$AF$12-COUNTIF('Lane Draws'!$AF$2:$AK$9,">88")=0,0,CONCATENATE('Lane Draws'!$AF$12-COUNTIF('Lane Draws'!$AF$2:$AK$9,">88"), " Non Counters to put in lanes")) -> 0
A62: Lane | B62: Num | C62: Club | D62: Athlete | E62: Time | F62: Pos | H62: Lane | I62: Num | J62: Club | K62: Athlete | L62: Time | M62: Pos | N62: Points
A63: 1 | B63: ='Lane Draws'!AF2 -> 7 | C63: =IFERROR(IF(B63="","",VLOOKUP(B63,Teams!$A$12:$B$29,2,FALSE)),CONCATENATE("NC-",VLOOKUP(B63,'U20 Non Counters'!$G$3:$I$200,3,FALSE))) -> MAC_PSH | D63: =IFERROR(INDIRECT("'"&C63&"-"&$A61&"'!H"&IF(RIGHT(B61,1)="W",MATCH('Start lists'!C61,'TN-U20'!F:F,0),MATCH('Start lists'!C61,'TN-U20'!B:B,0))+IF(LEFT(D61,1)="A",0,1)&""),IF(RIGHT(A61,2)="17",IF(RIGHT(B61,1)="W",VLOOKUP(B63,'U17 Non Counters'!$G$3:$I$200,2,FALSE),VLOOKUP(B63,'U17 Non Counters'!$B$3:$D$200,2,FALSE)),IF(RIGHT(B61,1)="W",VLOOKUP(B63,'U20 Non Counters'!$G$3:$I$200,2,FALSE),VLOOKUP(B63,'U20 Non Counters'!$B$3:$D$200,2,FALSE)))) -> 0 | H63: 1 | I63: ='Lane Draws'!AI2 -> 77 | J63: =IFERROR(IF(I63="","",VLOOKUP(I63,Teams!$A$12:$B$29,2,FALSE)),CONCATENATE("NC-",VLOOKUP(I63,'U20 Non Counters'!$G$3:$I$200,3,FALSE))) -> MAC_PSH | K63: =IFERROR(INDIRECT("'"&J63&"-"&H61&"'!H"&IF(RIGHT(I61,1)="W",MATCH('Start lists'!J61,'TN-U20'!F:F,0),MATCH('Start lists'!J61,'TN-U20'!J:J,0))+IF(LEFT(K61,1)="A",0,1)&""),IF(RIGHT(H61,2)="17",IF(RIGHT(I61,1)="W",VLOOKUP(I63,'U17 Non Counters'!$G$3:$I$200,2,FALSE),VLOOKUP(I63,'U17 Non Counters'!$B$3:$D$200,2,FALSE)),IF(RIGHT(I61,1)="W",VLOOKUP(I63,'U20 Non Counters'!$G$3:$I$200,2,FALSE),VLOOKUP(I63,'U20 Non Counters'!$B$3:$D$200,2,FALSE)))) -> 0
A64: 2 | B64: ='Lane Draws'!AF3 -> 1 | C64: =IFERROR(IF(B64="","",VLOOKUP(B64,Teams!$A$12:$B$29,2,FALSE)),CONCATENATE("NC-",VLOOKUP(B64,'U20 Non Counters'!$G$3:$I$200,3,FALSE))) -> AAAC | D64: =IFERROR(INDIRECT("'"&C64&"-"&$A61&"'!H"&IF(RIGHT(B61,1)="W",MATCH('Start lists'!C61,'TN-U20'!F:F,0),MATCH('Start lists'!C61,'TN-U20'!B:B,0))+IF(LEFT(D61,1)="A",0,1)&""),IF(RIGHT(A61,2)="17",IF(RIGHT(B61,1)="W",VLOOKUP(B64,'U17 Non Counters'!$G$3:$I$200,2,FALSE),VLOOKUP(B64,'U17 Non Counters'!$B$3:$D$200,2,FALSE)),IF(RIGHT(B61,1)="W",VLOOKUP(B64,'U20 Non Counters'!$G$3:$I$200,2,FALSE),VLOOKUP(B64,'U20 Non Counters'!$B$3:$D$200,2,FALSE)))) -> Rebecca Matheson | H64: 2 | I64: ='Lane Draws'!AI3 -> 11 | J64: =IFERROR(IF(I64="","",VLOOKUP(I64,Teams!$A$12:$B$29,2,FALSE)),CONCATENATE("NC-",VLOOKUP(I64,'U20 Non Counters'!$G$3:$I$200,3,FALSE))) -> AAAC | K64: =IFERROR(INDIRECT("'"&J64&"-"&H61&"'!H"&IF(RIGHT(I61,1)="W",MATCH('Start lists'!J61,'TN-U20'!F:F,0),MATCH('Start lists'!J61,'TN-U20'!J:J,0))+IF(LEFT(K61,1)="A",0,1)&""),IF(RIGHT(H61,2)="17",IF(RIGHT(I61,1)="W",VLOOKUP(I64,'U17 Non Counters'!$G$3:$I$200,2,FALSE),VLOOKUP(I64,'U17 Non Counters'!$B$3:$D$200,2,FALSE)),IF(RIGHT(I61,1)="W",VLOOKUP(I64,'U20 Non Counters'!$G$3:$I$200,2,FALSE),VLOOKUP(I64,'U20 Non Counters'!$B$3:$D$200,2,FALSE)))) -> Rachelle Matheson
A65: 3 | B65: ='Lane Draws'!AF4 -> 5 | C65: =IFERROR(IF(B65="","",VLOOKUP(B65,Teams!$A$12:$B$29,2,FALSE)),CONCATENATE("NC-",VLOOKUP(B65,'U20 Non Counters'!$G$3:$I$200,3,FALSE))) -> IH | D65: =IFERROR(INDIRECT("'"&C65&"-"&$A61&"'!H"&IF(RIGHT(B61,1)="W",MATCH('Start lists'!C61,'TN-U20'!F:F,0),MATCH('Start lists'!C61,'TN-U20'!B:B,0))+IF(LEFT(D61,1)="A",0,1)&""),IF(RIGHT(A61,2)="17",IF(RIGHT(B61,1)="W",VLOOKUP(B65,'U17 Non Counters'!$G$3:$I$200,2,FALSE),VLOOKUP(B65,'U17 Non Counters'!$B$3:$D$200,2,FALSE)),IF(RIGHT(B61,1)="W",VLOOKUP(B65,'U20 Non Counters'!$G$3:$I$200,2,FALSE),VLOOKUP(B65,'U20 Non Counters'!$B$3:$D$200,2,FALSE)))) -> Emma Pedrana | H65: 3 | I65: ='Lane Draws'!AI4 -> 55 | J65: =IFERROR(IF(I65="","",VLOOKUP(I65,Teams!$A$12:$B$29,2,FALSE)),CONCATENATE("NC-",VLOOKUP(I65,'U20 Non Counters'!$G$3:$I$200,3,FALSE))) -> IH | K65: =IFERROR(INDIRECT("'"&J65&"-"&H61&"'!H"&IF(RIGHT(I61,1)="W",MATCH('Start lists'!J61,'TN-U20'!F:F,0),MATCH('Start lists'!J61,'TN-U20'!J:J,0))+IF(LEFT(K61,1)="A",0,1)&""),IF(RIGHT(H61,2)="17",IF(RIGHT(I61,1)="W",VLOOKUP(I65,'U17 Non Counters'!$G$3:$I$200,2,FALSE),VLOOKUP(I65,'U17 Non Counters'!$B$3:$D$200,2,FALSE)),IF(RIGHT(I61,1)="W",VLOOKUP(I65,'U20 Non Counters'!$G$3:$I$200,2,FALSE),VLOOKUP(I65,'U20 Non Counters'!$B$3:$D$200,2,FALSE)))) -> 0
A66: 4 | B66: ='Lane Draws'!AF5 -> 4 | C66: =IFERROR(IF(B66="","",VLOOKUP(B66,Teams!$A$12:$B$29,2,FALSE)),CONCATENATE("NC-",VLOOKUP(B66,'U20 Non Counters'!$G$3:$I$200,3,FALSE))) -> DHH | D66: =IFERROR(INDIRECT("'"&C66&"-"&$A61&"'!H"&IF(RIGHT(B61,1)="W",MATCH('Start lists'!C61,'TN-U20'!F:F,0),MATCH('Start lists'!C61,'TN-U20'!B:B,0))+IF(LEFT(D61,1)="A",0,1)&""),IF(RIGHT(A61,2)="17",IF(RIGHT(B61,1)="W",VLOOKUP(B66,'U17 Non Counters'!$G$3:$I$200,2,FALSE),VLOOKUP(B66,'U17 Non Counters'!$B$3:$D$200,2,FALSE)),IF(RIGHT(B61,1)="W",VLOOKUP(B66,'U20 Non Counters'!$G$3:$I$200,2,FALSE),VLOOKUP(B66,'U20 Non Counters'!$B$3:$D$200,2,FALSE)))) -> Carly Tragham | H66: 4 | I66: ='Lane Draws'!AI5 -> 44 | J66: =IFERROR(IF(I66="","",VLOOKUP(I66,Teams!$A$12:$B$29,2,FALSE)),CONCATENATE("NC-",VLOOKUP(I66,'U20 Non Counters'!$G$3:$I$200,3,FALSE))) -> DHH | K66: =IFERROR(INDIRECT("'"&J66&"-"&H61&"'!H"&IF(RIGHT(I61,1)="W",MATCH('Start lists'!J61,'TN-U20'!F:F,0),MATCH('Start lists'!J61,'TN-U20'!J:J,0))+IF(LEFT(K61,1)="A",0,1)&""),IF(RIGHT(H61,2)="17",IF(RIGHT(I61,1)="W",VLOOKUP(I66,'U17 Non Counters'!$G$3:$I$200,2,FALSE),VLOOKUP(I66,'U17 Non Counters'!$B$3:$D$200,2,FALSE)),IF(RIGHT(I61,1)="W",VLOOKUP(I66,'U20 Non Counters'!$G$3:$I$200,2,FALSE),VLOOKUP(I66,'U20 Non Counters'!$B$3:$D$200,2,FALSE)))) -> Phoebe Moncur
A67: 5 | B67: ='Lane Draws'!AF6 -> 6 | C67: =IFERROR(IF(B67="","",VLOOKUP(B67,Teams!$A$12:$B$29,2,FALSE)),CONCATENATE("NC-",VLOOKUP(B67,'U20 Non Counters'!$G$3:$I$200,3,FALSE))) -> ISA | D67: =IFERROR(INDIRECT("'"&C67&"-"&$A61&"'!H"&IF(RIGHT(B61,1)="W",MATCH('Start lists'!C61,'TN-U20'!F:F,0),MATCH('Start lists'!C61,'TN-U20'!B:B,0))+IF(LEFT(D61,1)="A",0,1)&""),IF(RIGHT(A61,2)="17",IF(RIGHT(B61,1)="W",VLOOKUP(B67,'U17 Non Counters'!$G$3:$I$200,2,FALSE),VLOOKUP(B67,'U17 Non Counters'!$B$3:$D$200,2,FALSE)),IF(RIGHT(B61,1)="W",VLOOKUP(B67,'U20 Non Counters'!$G$3:$I$200,2,FALSE),VLOOKUP(B67,'U20 Non Counters'!$B$3:$D$200,2,FALSE)))) -> Amy Davis | H67: 5 | I67: ='Lane Draws'!AI6 -> 66 | J67: =IFERROR(IF(I67="","",VLOOKUP(I67,Teams!$A$12:$B$29,2,FALSE)),CONCATENATE("NC-",VLOOKUP(I67,'U20 Non Counters'!$G$3:$I$200,3,FALSE))) -> ISA | K67: =IFERROR(INDIRECT("'"&J67&"-"&H61&"'!H"&IF(RIGHT(I61,1)="W",MATCH('Start lists'!J61,'TN-U20'!F:F,0),MATCH('Start lists'!J61,'TN-U20'!J:J,0))+IF(LEFT(K61,1)="A",0,1)&""),IF(RIGHT(H61,2)="17",IF(RIGHT(I61,1)="W",VLOOKUP(I67,'U17 Non Counters'!$G$3:$I$200,2,FALSE),VLOOKUP(I67,'U17 Non Counters'!$B$3:$D$200,2,FALSE)),IF(RIGHT(I61,1)="W",VLOOKUP(I67,'U20 Non Counters'!$G$3:$I$200,2,FALSE),VLOOKUP(I67,'U20 Non Counters'!$B$3:$D$200,2,FALSE)))) -> Sian MacDonald
A68: 6 | B68: ='Lane Draws'!AF7 -> 2 | C68: =IFERROR(IF(B68="","",VLOOKUP(B68,Teams!$A$12:$B$29,2,FALSE)),CONCATENATE("NC-",VLOOKUP(B68,'U20 Non Counters'!$G$3:$I$200,3,FALSE))) -> ADAC | D68: =IFERROR(INDIRECT("'"&C68&"-"&$A61&"'!H"&IF(RIGHT(B61,1)="W",MATCH('Start lists'!C61,'TN-U20'!F:F,0),MATCH('Start lists'!C61,'TN-U20'!B:B,0))+IF(LEFT(D61,1)="A",0,1)&""),IF(RIGHT(A61,2)="17",IF(RIGHT(B61,1)="W",VLOOKUP(B68,'U17 Non Counters'!$G$3:$I$200,2,FALSE),VLOOKUP(B68,'U17 Non Counters'!$B$3:$D$200,2,FALSE)),IF(RIGHT(B61,1)="W",VLOOKUP(B68,'U20 Non Counters'!$G$3:$I$200,2,FALSE),VLOOKUP(B68,'U20 Non Counters'!$B$3:$D$200,2,FALSE)))) -> 0 | H68: 6 | I68: ='Lane Draws'!AI7 -> 22 | J68: =IFERROR(IF(I68="","",VLOOKUP(I68,Teams!$A$12:$B$29,2,FALSE)),CONCATENATE("NC-",VLOOKUP(I68,'U20 Non Counters'!$G$3:$I$200,3,FALSE))) -> ADAC | K68: =IFERROR(INDIRECT("'"&J68&"-"&H61&"'!H"&IF(RIGHT(I61,1)="W",MATCH('Start lists'!J61,'TN-U20'!F:F,0),MATCH('Start lists'!J61,'TN-U20'!J:J,0))+IF(LEFT(K61,1)="A",0,1)&""),IF(RIGHT(H61,2)="17",IF(RIGHT(I61,1)="W",VLOOKUP(I68,'U17 Non Counters'!$G$3:$I$200,2,FALSE),VLOOKUP(I68,'U17 Non Counters'!$B$3:$D$200,2,FALSE)),IF(RIGHT(I61,1)="W",VLOOKUP(I68,'U20 Non Counters'!$G$3:$I$200,2,FALSE),VLOOKUP(I68,'U20 Non Counters'!$B$3:$D$200,2,FALSE)))) -> 0
A69: 7 | B69: ='Lane Draws'!AF8 -> 8 | C69: =IFERROR(IF(B69="","",VLOOKUP(B69,Teams!$A$12:$B$29,2,FALSE)),CONCATENATE("NC-",VLOOKUP(B69,'U20 Non Counters'!$G$3:$I$200,3,FALSE))) -> TN | D69: =IFERROR(INDIRECT("'"&C69&"-"&$A61&"'!H"&IF(RIGHT(B61,1)="W",MATCH('Start lists'!C61,'TN-U20'!F:F,0),MATCH('Start lists'!C61,'TN-U20'!B:B,0))+IF(LEFT(D61,1)="A",0,1)&""),IF(RIGHT(A61,2)="17",IF(RIGHT(B61,1)="W",VLOOKUP(B69,'U17 Non Counters'!$G$3:$I$200,2,FALSE),VLOOKUP(B69,'U17 Non Counters'!$B$3:$D$200,2,FALSE)),IF(RIGHT(B61,1)="W",VLOOKUP(B69,'U20 Non Counters'!$G$3:$I$200,2,FALSE),VLOOKUP(B69,'U20 Non Counters'!$B$3:$D$200,2,FALSE)))) -> 0 | H69: 7 | I69: ='Lane Draws'!AI8 -> 88 | J69: =IFERROR(IF(I69="","",VLOOKUP(I69,Teams!$A$12:$B$29,2,FALSE)),CONCATENATE("NC-",VLOOKUP(I69,'U20 Non Counters'!$G$3:$I$200,3,FALSE))) -> TN | K69: =IFERROR(INDIRECT("'"&J69&"-"&H61&"'!H"&IF(RIGHT(I61,1)="W",MATCH('Start lists'!J61,'TN-U20'!F:F,0),MATCH('Start lists'!J61,'TN-U20'!J:J,0))+IF(LEFT(K61,1)="A",0,1)&""),IF(RIGHT(H61,2)="17",IF(RIGHT(I61,1)="W",VLOOKUP(I69,'U17 Non Counters'!$G$3:$I$200,2,FALSE),VLOOKUP(I69,'U17 Non Counters'!$B$3:$D$200,2,FALSE)),IF(RIGHT(I61,1)="W",VLOOKUP(I69,'U20 Non Counters'!$G$3:$I$200,2,FALSE),VLOOKUP(I69,'U20 Non Counters'!$B$3:$D$200,2,FALSE)))) -> 0
A70: 8 | B70: ='Lane Draws'!AF9 -> 3 | C70: =IFERROR(IF(B70="","",VLOOKUP(B70,Teams!$A$12:$B$29,2,FALSE)),CONCATENATE("NC-",VLOOKUP(B70,'U20 Non Counters'!$G$3:$I$200,3,FALSE))) -> BSAC | D70: =IFERROR(INDIRECT("'"&C70&"-"&$A61&"'!H"&IF(RIGHT(B61,1)="W",MATCH('Start lists'!C61,'TN-U20'!F:F,0),MATCH('Start lists'!C61,'TN-U20'!B:B,0))+IF(LEFT(D61,1)="A",0,1)&""),IF(RIGHT(A61,2)="17",IF(RIGHT(B61,1)="W",VLOOKUP(B70,'U17 Non Counters'!$G$3:$I$200,2,FALSE),VLOOKUP(B70,'U17 Non Counters'!$B$3:$D$200,2,FALSE)),IF(RIGHT(B61,1)="W",VLOOKUP(B70,'U20 Non Counters'!$G$3:$I$200,2,FALSE),VLOOKUP(B70,'U20 Non Counters'!$B$3:$D$200,2,FALSE)))) -> 0 | H70: 8 | I70: ='Lane Draws'!AI9 -> 33 | J70: =IFERROR(IF(I70="","",VLOOKUP(I70,Teams!$A$12:$B$29,2,FALSE)),CONCATENATE("NC-",VLOOKUP(I70,'U20 Non Counters'!$G$3:$I$200,3,FALSE))) -> BSAC | K70: =IFERROR(INDIRECT("'"&J70&"-"&H61&"'!H"&IF(RIGHT(I61,1)="W",MATCH('Start lists'!J61,'TN-U20'!F:F,0),MATCH('Start lists'!J61,'TN-U20'!J:J,0))+IF(LEFT(K61,1)="A",0,1)&""),IF(RIGHT(H61,2)="17",IF(RIGHT(I61,1)="W",VLOOKUP(I70,'U17 Non Counters'!$G$3:$I$200,2,FALSE),VLOOKUP(I70,'U17 Non Counters'!$B$3:$D$200,2,FALSE)),IF(RIGHT(I61,1)="W",VLOOKUP(I70,'U20 Non Counters'!$G$3:$I$200,2,FALSE),VLOOKUP(I70,'U20 Non Counters'!$B$3:$D$200,2,FALSE)))) -> 0
A72: =LEFT(B72,3) -> U17 | B72: U17M | C72: 100m | D72: A string | E72: =IF('Lane Draws'!$AL$12-COUNTIF('Lane Draws'!$AL$2:$AQ$9,">88")=0,0,CONCATENATE('Lane Draws'!$AL$12-COUNTIF('Lane Draws'!$AL$2:$AQ$9,">88"), " Non Counters to put in lanes")) -> 0 | H72: =LEFT(I72,3) -> U17 | I72: =B72 -> U17M | J72: 100m | K72: B string | L72: =IF('Lane Draws'!$AL$12-COUNTIF('Lane Draws'!$AL$2:$AQ$9,">88")=0,0,CONCATENATE('Lane Draws'!$AL$12-COUNTIF('Lane Draws'!$AL$2:$AQ$9,">88"), " Non Counters to put in lanes")) -> 0
A73: Lane | B73: Num | C73: Club | D73: Athlete | E73: Time | F73: Pos | H73: Lane | I73: Num | J73: Club | K73: Athlete | L73: Time | M73: Pos | N73: Points
A74: 1 | B74: ='Lane Draws'!AL2 -> 7 | C74: =IFERROR(IF(B74="","",VLOOKUP(B74,Teams!$A$12:$B$29,2,FALSE)),CONCATENATE("NC-",VLOOKUP(B74,'U17 Non Counters'!$B$3:$D$200,3,FALSE))) -> MAC_PSH | D74: =IFERROR(INDIRECT("'"&C74&"-"&$A72&"'!D"&IF(RIGHT(B72,1)="W",MATCH('Start lists'!C72,'TN-U17'!F:F,0),MATCH('Start lists'!C72,'TN-U17'!B:B,0))+IF(LEFT(D72,1)="A",0,1)&""),IF(RIGHT(A72,2)="17",IF(RIGHT(B72,1)="W",VLOOKUP(B74,'U17 Non Counters'!$G$3:$I$200,2,FALSE),VLOOKUP(B74,'U17 Non Counters'!$B$3:$D$200,2,FALSE)),IF(RIGHT(B72,1)="W",VLOOKUP(B74,'U20 Non Counters'!$G$3:$I$200,2,FALSE),VLOOKUP(B74,'U20 Non Counters'!$B$3:$D$200,2,FALSE)))) -> 0 | H74: 1 | I74: ='Lane Draws'!AO2 -> 77 | J74: =IFERROR(IF(I74="","",VLOOKUP(I74,Teams!$A$12:$B$29,2,FALSE)),CONCATENATE("NC-",VLOOKUP(I74,'U17 Non Counters'!$B$3:$D$200,3,FALSE))) -> MAC_PSH | K74: =IFERROR(INDIRECT("'"&J74&"-"&H72&"'!D"&IF(RIGHT(I72,1)="W",MATCH('Start lists'!J72,'TN-U17'!F:F,0),MATCH('Start lists'!J72,'TN-U17'!B:B,0))+IF(LEFT(K72,1)="A",0,1)&""),IF(RIGHT(H72,2)="17",IF(RIGHT(I72,1)="W",VLOOKUP(I74,'U17 Non Counters'!$G$3:$I$200,2,FALSE),VLOOKUP(I74,'U17 Non Counters'!$B$3:$D$200,2,FALSE)),IF(RIGHT(I72,1)="W",VLOOKUP(I74,'U20 Non Counters'!$G$3:$I$200,2,FALSE),VLOOKUP(I74,'U20 Non Counters'!$B$3:$D$200,2,FALSE)))) -> 0
A75: 2 | B75: ='Lane Draws'!AL3 -> 1 | C75: =IFERROR(IF(B75="","",VLOOKUP(B75,Teams!$A$12:$B$29,2,FALSE)),CONCATENATE("NC-",VLOOKUP(B75,'U17 Non Counters'!$B$3:$D$200,3,FALSE))) -> AAAC | D75: =IFERROR(INDIRECT("'"&C75&"-"&$A72&"'!D"&IF(RIGHT(B72,1)="W",MATCH('Start lists'!C72,'TN-U17'!F:F,0),MATCH('Start lists'!C72,'TN-U17'!B:B,0))+IF(LEFT(D72,1)="A",0,1)&""),IF(RIGHT(A72,2)="17",IF(RIGHT(B72,1)="W",VLOOKUP(B75,'U17 Non Counters'!$G$3:$I$200,2,FALSE),VLOOKUP(B75,'U17 Non Counters'!$B$3:$D$200,2,FALSE)),IF(RIGHT(B72,1)="W",VLOOKUP(B75,'U20 Non Counters'!$G$3:$I$200,2,FALSE),VLOOKUP(B75,'U20 Non Counters'!$B$3:$D$200,2,FALSE)))) -> Tobi Fatona | H75: 2 | I75: ='Lane Draws'!AO3 -> 11 | J75: =IFERROR(IF(I75="","",VLOOKUP(I75,Teams!$A$12:$B$29,2,FALSE)),CONCATENATE("NC-",VLOOKUP(I75,'U17 Non Counters'!$B$3:$D$200,3,FALSE))) -> AAAC | K75: =IFERROR(INDIRECT("'"&J75&"-"&H72&"'!D"&IF(RIGHT(I72,1)="W",MATCH('Start lists'!J72,'TN-U17'!F:F,0),MATCH('Start lists'!J72,'TN-U17'!B:B,0))+IF(LEFT(K72,1)="A",0,1)&""),IF(RIGHT(H72,2)="17",IF(RIGHT(I72,1)="W",VLOOKUP(I75,'U17 Non Counters'!$G$3:$I$200,2,FALSE),VLOOKUP(I75,'U17 Non Counters'!$B$3:$D$200,2,FALSE)),IF(RIGHT(I72,1)="W",VLOOKUP(I75,'U20 Non Counters'!$G$3:$I$200,2,FALSE),VLOOKUP(I75,'U20 Non Counters'!$B$3:$D$200,2,FALSE)))) -> Ryan Matheson
A76: 3 | B76: ='Lane Draws'!AL4 -> 5 | C76: =IFERROR(IF(B76="","",VLOOKUP(B76,Teams!$A$12:$B$29,2,FALSE)),CONCATENATE("NC-",VLOOKUP(B76,'U17 Non Counters'!$B$3:$D$200,3,FALSE))) -> IH | D76: =IFERROR(INDIRECT("'"&C76&"-"&$A72&"'!D"&IF(RIGHT(B72,1)="W",MATCH('Start lists'!C72,'TN-U17'!F:F,0),MATCH('Start lists'!C72,'TN-U17'!B:B,0))+IF(LEFT(D72,1)="A",0,1)&""),IF(RIGHT(A72,2)="17",IF(RIGHT(B72,1)="W",VLOOKUP(B76,'U17 Non Counters'!$G$3:$I$200,2,FALSE),VLOOKUP(B76,'U17 Non Counters'!$B$3:$D$200,2,FALSE)),IF(RIGHT(B72,1)="W",VLOOKUP(B76,'U20 Non Counters'!$G$3:$I$200,2,FALSE),VLOOKUP(B76,'U20 Non Counters'!$B$3:$D$200,2,FALSE)))) -> Matthew Baker | H76: 3 | I76: ='Lane Draws'!AO4 -> 55 | J76: =IFERROR(IF(I76="","",VLOOKUP(I76,Teams!$A$12:$B$29,2,FALSE)),CONCATENATE("NC-",VLOOKUP(I76,'U17 Non Counters'!$B$3:$D$200,3,FALSE))) -> IH | K76: =IFERROR(INDIRECT("'"&J76&"-"&H72&"'!D"&IF(RIGHT(I72,1)="W",MATCH('Start lists'!J72,'TN-U17'!F:F,0),MATCH('Start lists'!J72,'TN-U17'!B:B,0))+IF(LEFT(K72,1)="A",0,1)&""),IF(RIGHT(H72,2)="17",IF(RIGHT(I72,1)="W",VLOOKUP(I76,'U17 Non Counters'!$G$3:$I$200,2,FALSE),VLOOKUP(I76,'U17 Non Counters'!$B$3:$D$200,2,FALSE)),IF(RIGHT(I72,1)="W",VLOOKUP(I76,'U20 Non Counters'!$G$3:$I$200,2,FALSE),VLOOKUP(I76,'U20 Non Counters'!$B$3:$D$200,2,FALSE)))) -> 0
A77: 4 | B77: ='Lane Draws'!AL5 -> 4 | C77: =IFERROR(IF(B77="","",VLOOKUP(B77,Teams!$A$12:$B$29,2,FALSE)),CONCATENATE("NC-",VLOOKUP(B77,'U17 Non Counters'!$B$3:$D$200,3,FALSE))) -> DHH | D77: =IFERROR(INDIRECT("'"&C77&"-"&$A72&"'!D"&IF(RIGHT(B72,1)="W",MATCH('Start lists'!C72,'TN-U17'!F:F,0),MATCH('Start lists'!C72,'TN-U17'!B:B,0))+IF(LEFT(D72,1)="A",0,1)&""),IF(RIGHT(A72,2)="17",IF(RIGHT(B72,1)="W",VLOOKUP(B77,'U17 Non Counters'!$G$3:$I$200,2,FALSE),VLOOKUP(B77,'U17 Non Counters'!$B$3:$D$200,2,FALSE)),IF(RIGHT(B72,1)="W",VLOOKUP(B77,'U20 Non Counters'!$G$3:$I$200,2,FALSE),VLOOKUP(B77,'U20 Non Counters'!$B$3:$D$200,2,FALSE)))) -> Jamie Reid | H77: 4 | I77: ='Lane Draws'!AO5 -> 44 | J77: =IFERROR(IF(I77="","",VLOOKUP(I77,Teams!$A$12:$B$29,2,FALSE)),CONCATENATE("NC-",VLOOKUP(I77,'U17 Non Counters'!$B$3:$D$200,3,FALSE))) -> DHH | K77: =IFERROR(INDIRECT("'"&J77&"-"&H72&"'!D"&IF(RIGHT(I72,1)="W",MATCH('Start lists'!J72,'TN-U17'!F:F,0),MATCH('Start lists'!J72,'TN-U17'!B:B,0))+IF(LEFT(K72,1)="A",0,1)&""),IF(RIGHT(H72,2)="17",IF(RIGHT(I72,1)="W",VLOOKUP(I77,'U17 Non Counters'!$G$3:$I$200,2,FALSE),VLOOKUP(I77,'U17 Non Counters'!$B$3:$D$200,2,FALSE)),IF(RIGHT(I72,1)="W",VLOOKUP(I77,'U20 Non Counters'!$G$3:$I$200,2,FALSE),VLOOKUP(I77,'U20 Non Counters'!$B$3:$D$200,2,FALSE)))) -> Logan Robertson
A78: 5 | B78: ='Lane Draws'!AL6 -> 6 | C78: =IFERROR(IF(B78="","",VLOOKUP(B78,Teams!$A$12:$B$29,2,FALSE)),CONCATENATE("NC-",VLOOKUP(B78,'U17 Non Counters'!$B$3:$D$200,3,FALSE))) -> ISA | D78: =IFERROR(INDIRECT("'"&C78&"-"&$A72&"'!D"&IF(RIGHT(B72,1)="W",MATCH('Start lists'!C72,'TN-U17'!F:F,0),MATCH('Start lists'!C72,'TN-U17'!B:B,0))+IF(LEFT(D72,1)="A",0,1)&""),IF(RIGHT(A72,2)="17",IF(RIGHT(B72,1)="W",VLOOKUP(B78,'U17 Non Counters'!$G$3:$I$200,2,FALSE),VLOOKUP(B78,'U17 Non Counters'!$B$3:$D$200,2,FALSE)),IF(RIGHT(B72,1)="W",VLOOKUP(B78,'U20 Non Counters'!$G$3:$I$200,2,FALSE),VLOOKUP(B78,'U20 Non Counters'!$B$3:$D$200,2,FALSE)))) -> Shaun Ritchie | H78: 5 | I78: ='Lane Draws'!AO6 -> 66 | J78: =IFERROR(IF(I78="","",VLOOKUP(I78,Teams!$A$12:$B$29,2,FALSE)),CONCATENATE("NC-",VLOOKUP(I78,'U17 Non Counters'!$B$3:$D$200,3,FALSE))) -> ISA | K78: =IFERROR(INDIRECT("'"&J78&"-"&H72&"'!D"&IF(RIGHT(I72,1)="W",MATCH('Start lists'!J72,'TN-U17'!F:F,0),MATCH('Start lists'!J72,'TN-U17'!B:B,0))+IF(LEFT(K72,1)="A",0,1)&""),IF(RIGHT(H72,2)="17",IF(RIGHT(I72,1)="W",VLOOKUP(I78,'U17 Non Counters'!$G$3:$I$200,2,FALSE),VLOOKUP(I78,'U17 Non Counters'!$B$3:$D$200,2,FALSE)),IF(RIGHT(I72,1)="W",VLOOKUP(I78,'U20 Non Counters'!$G$3:$I$200,2,FALSE),VLOOKUP(I78,'U20 Non Counters'!$B$3:$D$200,2,FALSE)))) -> Lewis Barclay
A79: 6 | B79: ='Lane Draws'!AL7 -> 2 | C79: =IFERROR(IF(B79="","",VLOOKUP(B79,Teams!$A$12:$B$29,2,FALSE)),CONCATENATE("NC-",VLOOKUP(B79,'U17 Non Counters'!$B$3:$D$200,3,FALSE))) -> ADAC | D79: =IFERROR(INDIRECT("'"&C79&"-"&$A72&"'!D"&IF(RIGHT(B72,1)="W",MATCH('Start lists'!C72,'TN-U17'!F:F,0),MATCH('Start lists'!C72,'TN-U17'!B:B,0))+IF(LEFT(D72,1)="A",0,1)&""),IF(RIGHT(A72,2)="17",IF(RIGHT(B72,1)="W",VLOOKUP(B79,'U17 Non Counters'!$G$3:$I$200,2,FALSE),VLOOKUP(B79,'U17 Non Counters'!$B$3:$D$200,2,FALSE)),IF(RIGHT(B72,1)="W",VLOOKUP(B79,'U20 Non Counters'!$G$3:$I$200,2,FALSE),VLOOKUP(B79,'U20 Non Counters'!$B$3:$D$200,2,FALSE)))) -> 0 | H79: 6 | I79: ='Lane Draws'!AO7 -> 22 | J79: =IFERROR(IF(I79="","",VLOOKUP(I79,Teams!$A$12:$B$29,2,FALSE)),CONCATENATE("NC-",VLOOKUP(I79,'U17 Non Counters'!$B$3:$D$200,3,FALSE))) -> ADAC | K79: =IFERROR(INDIRECT("'"&J79&"-"&H72&"'!D"&IF(RIGHT(I72,1)="W",MATCH('Start lists'!J72,'TN-U17'!F:F,0),MATCH('Start lists'!J72,'TN-U17'!B:B,0))+IF(LEFT(K72,1)="A",0,1)&""),IF(RIGHT(H72,2)="17",IF(RIGHT(I72,1)="W",VLOOKUP(I79,'U17 Non Counters'!$G$3:$I$200,2,FALSE),VLOOKUP(I79,'U17 Non Counters'!$B$3:$D$200,2,FALSE)),IF(RIGHT(I72,1)="W",VLOOKUP(I79,'U20 Non Counters'!$G$3:$I$200,2,FALSE),VLOOKUP(I79,'U20 Non Counters'!$B$3:$D$200,2,FALSE)))) -> 0
A80: 7 | B80: ='Lane Draws'!AL8 -> 8 | C80: =IFERROR(IF(B80="","",VLOOKUP(B80,Teams!$A$12:$B$29,2,FALSE)),CONCATENATE("NC-",VLOOKUP(B80,'U17 Non Counters'!$B$3:$D$200,3,FALSE))) -> TN | D80: =IFERROR(INDIRECT("'"&C80&"-"&$A72&"'!D"&IF(RIGHT(B72,1)="W",MATCH('Start lists'!C72,'TN-U17'!F:F,0),MATCH('Start lists'!C72,'TN-U17'!B:B,0))+IF(LEFT(D72,1)="A",0,1)&""),IF(RIGHT(A72,2)="17",IF(RIGHT(B72,1)="W",VLOOKUP(B80,'U17 Non Counters'!$G$3:$I$200,2,FALSE),VLOOKUP(B80,'U17 Non Counters'!$B$3:$D$200,2,FALSE)),IF(RIGHT(B72,1)="W",VLOOKUP(B80,'U20 Non Counters'!$G$3:$I$200,2,FALSE),VLOOKUP(B80,'U20 Non Counters'!$B$3:$D$200,2,FALSE)))) -> JOSHUA MILNE | H80: 7 | I80: ='Lane Draws'!AO8 -> 88 | J80: =IFERROR(IF(I80="","",VLOOKUP(I80,Teams!$A$12:$B$29,2,FALSE)),CONCATENATE("NC-",VLOOKUP(I80,'U17 Non Counters'!$B$3:$D$200,3,FALSE))) -> TN | K80: =IFERROR(INDIRECT("'"&J80&"-"&H72&"'!D"&IF(RIGHT(I72,1)="W",MATCH('Start lists'!J72,'TN-U17'!F:F,0),MATCH('Start lists'!J72,'TN-U17'!B:B,0))+IF(LEFT(K72,1)="A",0,1)&""),IF(RIGHT(H72,2)="17",IF(RIGHT(I72,1)="W",VLOOKUP(I80,'U17 Non Counters'!$G$3:$I$200,2,FALSE),VLOOKUP(I80,'U17 Non Counters'!$B$3:$D$200,2,FALSE)),IF(RIGHT(I72,1)="W",VLOOKUP(I80,'U20 Non Counters'!$G$3:$I$200,2,FALSE),VLOOKUP(I80,'U20 Non Counters'!$B$3:$D$200,2,FALSE)))) -> DAVID SCOTT
A81: 8 | B81: ='Lane Draws'!AL9 -> 3 | C81: =IFERROR(IF(B81="","",VLOOKUP(B81,Teams!$A$12:$B$29,2,FALSE)),CONCATENATE("NC-",VLOOKUP(B81,'U17 Non Counters'!$B$3:$D$200,3,FALSE))) -> BSAC | D81: =IFERROR(INDIRECT("'"&C81&"-"&$A72&"'!D"&IF(RIGHT(B72,1)="W",MATCH('Start lists'!C72,'TN-U17'!F:F,0),MATCH('Start lists'!C72,'TN-U17'!B:B,0))+IF(LEFT(D72,1)="A",0,1)&""),IF(RIGHT(A72,2)="17",IF(RIGHT(B72,1)="W",VLOOKUP(B81,'U17 Non Counters'!$G$3:$I$200,2,FALSE),VLOOKUP(B81,'U17 Non Counters'!$B$3:$D$200,2,FALSE)),IF(RIGHT(B72,1)="W",VLOOKUP(B81,'U20 Non Counters'!$G$3:$I$200,2,FALSE),VLOOKUP(B81,'U20 Non Counters'!$B$3:$D$200,2,FALSE)))) -> Craig Strachen | H81: 8 | I81: ='Lane Draws'!AO9 -> 33 | J81: =IFERROR(IF(I81="","",VLOOKUP(I81,Teams!$A$12:$B$29,2,FALSE)),CONCATENATE("NC-",VLOOKUP(I81,'U17 Non Counters'!$B$3:$D$200,3,FALSE))) -> BSAC | K81: =IFERROR(INDIRECT("'"&J81&"-"&H72&"'!D"&IF(RIGHT(I72,1)="W",MATCH('Start lists'!J72,'TN-U17'!F:F,0),MATCH('Start lists'!J72,'TN-U17'!B:B,0))+IF(LEFT(K72,1)="A",0,1)&""),IF(RIGHT(H72,2)="17",IF(RIGHT(I72,1)="W",VLOOKUP(I81,'U17 Non Counters'!$G$3:$I$200,2,FALSE),VLOOKUP(I81,'U17 Non Counters'!$B$3:$D$200,2,FALSE)),IF(RIGHT(I72,1)="W",VLOOKUP(I81,'U20 Non Counters'!$G$3:$I$200,2,FALSE),VLOOKUP(I81,'U20 Non Counters'!$B$3:$D$200,2,FALSE)))) -> 0
A83: =LEFT(B83,3) -> U20 | B83: U20M | C83: 100m | D83: A string | E83: =IF('Lane Draws'!$AR$12-COUNTIF('Lane Draws'!$AR$2:$AW$9,">88")=0,0,CONCATENATE('Lane Draws'!$AR$12-COUNTIF('Lane Draws'!$AR$2:$AW$9,">88"), " Non Counters to put in lanes")) -> 0 | H83: =LEFT(I83,3) -> U20 | I83: =B83 -> U20M | J83: 100m | K83: B string | L83: =IF('Lane Draws'!$AR$12-COUNTIF('Lane Draws'!$AR$2:$AW$9,">88")=0,0,CONCATENATE('Lane Draws'!$AR$12-COUNTIF('Lane Draws'!$AR$2:$AW$9,">88"), " Non Counters to put in lanes")) -> 0
A84: Lane | B84: Num | C84: Club | D84: Athlete | E84: Time | F84: Pos | H84: Lane | I84: Num | J84: Club | K84: Athlete | L84: Time | M84: Pos | N84: Points
A85: 1 | B85: ='Lane Draws'!AR2 -> 7 | C85: =IFERROR(IF(B85="","",VLOOKUP(B85,Teams!$A$12:$B$29,2,FALSE)),CONCATENATE("NC-",VLOOKUP(B85,'U20 Non Counters'!$B$3:$D$200,3,FALSE))) -> MAC_PSH | D85: =IFERROR(INDIRECT("'"&C85&"-"&$A83&"'!D"&IF(RIGHT(B83,1)="W",MATCH('Start lists'!C83,'TN-U20'!F:F,0),MATCH('Start lists'!C83,'TN-U20'!B:B,0))+IF(LEFT(D83,1)="A",0,1)&""),IF(RIGHT(A83,2)="17",IF(RIGHT(B83,1)="W",VLOOKUP(B85,'U17 Non Counters'!$G$3:$I$200,2,FALSE),VLOOKUP(B85,'U17 Non Counters'!$B$3:$D$200,2,FALSE)),IF(RIGHT(B83,1)="W",VLOOKUP(B85,'U20 Non Counters'!$G$3:$I$200,2,FALSE),VLOOKUP(B85,'U20 Non Counters'!$B$3:$D$200,2,FALSE)))) -> 0 | H85: 1 | I85: ='Lane Draws'!AU2 -> 77 | J85: =IFERROR(IF(I85="","",VLOOKUP(I85,Teams!$A$12:$B$29,2,FALSE)),CONCATENATE("NC-",VLOOKUP(I85,'U20 Non Counters'!$B$3:$D$200,3,FALSE))) -> MAC_PSH | K85: =IFERROR(INDIRECT("'"&J85&"-"&H83&"'!D"&IF(RIGHT(I83,1)="W",MATCH('Start lists'!J83,'TN-U20'!F:F,0),MATCH('Start lists'!J83,'TN-U20'!B:B,0))+IF(LEFT(K83,1)="A",0,1)&""),IF(RIGHT(H83,2)="17",IF(RIGHT(I83,1)="W",VLOOKUP(I85,'U17 Non Counters'!$G$3:$I$200,2,FALSE),VLOOKUP(I85,'U17 Non Counters'!$B$3:$D$200,2,FALSE)),IF(RIGHT(I83,1)="W",VLOOKUP(I85,'U20 Non Counters'!$G$3:$I$200,2,FALSE),VLOOKUP(I85,'U20 Non Counters'!$B$3:$D$200,2,FALSE)))) -> 0
A86: 2 | B86: ='Lane Draws'!AR3 -> 1 | C86: =IFERROR(IF(B86="","",VLOOKUP(B86,Teams!$A$12:$B$29,2,FALSE)),CONCATENATE("NC-",VLOOKUP(B86,'U20 Non Counters'!$B$3:$D$200,3,FALSE))) -> AAAC | D86: =IFERROR(INDIRECT("'"&C86&"-"&$A83&"'!D"&IF(RIGHT(B83,1)="W",MATCH('Start lists'!C83,'TN-U20'!F:F,0),MATCH('Start lists'!C83,'TN-U20'!B:B,0))+IF(LEFT(D83,1)="A",0,1)&""),IF(RIGHT(A83,2)="17",IF(RIGHT(B83,1)="W",VLOOKUP(B86,'U17 Non Counters'!$G$3:$I$200,2,FALSE),VLOOKUP(B86,'U17 Non Counters'!$B$3:$D$200,2,FALSE)),IF(RIGHT(B83,1)="W",VLOOKUP(B86,'U20 Non Counters'!$G$3:$I$200,2,FALSE),VLOOKUP(B86,'U20 Non Counters'!$B$3:$D$200,2,FALSE)))) -> Struan Linton | H86: 2 | I86: ='Lane Draws'!AU3 -> 11 | J86: =IFERROR(IF(I86="","",VLOOKUP(I86,Teams!$A$12:$B$29,2,FALSE)),CONCATENATE("NC-",VLOOKUP(I86,'U20 Non Counters'!$B$3:$D$200,3,FALSE))) -> AAAC | K86: =IFERROR(INDIRECT("'"&J86&"-"&H83&"'!D"&IF(RIGHT(I83,1)="W",MATCH('Start lists'!J83,'TN-U20'!F:F,0),MATCH('Start lists'!J83,'TN-U20'!B:B,0))+IF(LEFT(K83,1)="A",0,1)&""),IF(RIGHT(H83,2)="17",IF(RIGHT(I83,1)="W",VLOOKUP(I86,'U17 Non Counters'!$G$3:$I$200,2,FALSE),VLOOKUP(I86,'U17 Non Counters'!$B$3:$D$200,2,FALSE)),IF(RIGHT(I83,1)="W",VLOOKUP(I86,'U20 Non Counters'!$G$3:$I$200,2,FALSE),VLOOKUP(I86,'U20 Non Counters'!$B$3:$D$200,2,FALSE)))) -> Callum Davidson
A87: 3 | B87: ='Lane Draws'!AR4 -> 5 | C87: =IFERROR(IF(B87="","",VLOOKUP(B87,Teams!$A$12:$B$29,2,FALSE)),CONCATENATE("NC-",VLOOKUP(B87,'U20 Non Counters'!$B$3:$D$200,3,FALSE))) -> IH | D87: =IFERROR(INDIRECT("'"&C87&"-"&$A83&"'!D"&IF(RIGHT(B83,1)="W",MATCH('Start lists'!C83,'TN-U20'!F:F,0),MATCH('Start lists'!C83,'TN-U20'!B:B,0))+IF(LEFT(D83,1)="A",0,1)&""),IF(RIGHT(A83,2)="17",IF(RIGHT(B83,1)="W",VLOOKUP(B87,'U17 Non Counters'!$G$3:$I$200,2,FALSE),VLOOKUP(B87,'U17 Non Counters'!$B$3:$D$200,2,FALSE)),IF(RIGHT(B83,1)="W",VLOOKUP(B87,'U20 Non Counters'!$G$3:$I$200,2,FALSE),VLOOKUP(B87,'U20 Non Counters'!$B$3:$D$200,2,FALSE)))) -> 0 | H87: 3 | I87: ='Lane Draws'!AU4 -> 55 | J87: =IFERROR(IF(I87="","",VLOOKUP(I87,Teams!$A$12:$B$29,2,FALSE)),CONCATENATE("NC-",VLOOKUP(I87,'U20 Non Counters'!$B$3:$D$200,3,FALSE))) -> IH | K87: =IFERROR(INDIRECT("'"&J87&"-"&H83&"'!D"&IF(RIGHT(I83,1)="W",MATCH('Start lists'!J83,'TN-U20'!F:F,0),MATCH('Start lists'!J83,'TN-U20'!B:B,0))+IF(LEFT(K83,1)="A",0,1)&""),IF(RIGHT(H83,2)="17",IF(RIGHT(I83,1)="W",VLOOKUP(I87,'U17 Non Counters'!$G$3:$I$200,2,FALSE),VLOOKUP(I87,'U17 Non Counters'!$B$3:$D$200,2,FALSE)),IF(RIGHT(I83,1)="W",VLOOKUP(I87,'U20 Non Counters'!$G$3:$I$200,2,FALSE),VLOOKUP(I87,'U20 Non Counters'!$B$3:$D$200,2,FALSE)))) -> 0
A88: 4 | B88: ='Lane Draws'!AR5 -> 4 | C88: =IFERROR(IF(B88="","",VLOOKUP(B88,Teams!$A$12:$B$29,2,FALSE)),CONCATENATE("NC-",VLOOKUP(B88,'U20 Non Counters'!$B$3:$D$200,3,FALSE))) -> DHH | D88: =IFERROR(INDIRECT("'"&C88&"-"&$A83&"'!D"&IF(RIGHT(B83,1)="W",MATCH('Start lists'!C83,'TN-U20'!F:F,0),MATCH('Start lists'!C83,'TN-U20'!B:B,0))+IF(LEFT(D83,1)="A",0,1)&""),IF(RIGHT(A83,2)="17",IF(RIGHT(B83,1)="W",VLOOKUP(B88,'U17 Non Counters'!$G$3:$I$200,2,FALSE),VLOOKUP(B88,'U17 Non Counters'!$B$3:$D$200,2,FALSE)),IF(RIGHT(B83,1)="W",VLOOKUP(B88,'U20 Non Counters'!$G$3:$I$200,2,FALSE),VLOOKUP(B88,'U20 Non Counters'!$B$3:$D$200,2,FALSE)))) -> Angus McDonald | H88: 4 | I88: ='Lane Draws'!AU5 -> 44 | J88: =IFERROR(IF(I88="","",VLOOKUP(I88,Teams!$A$12:$B$29,2,FALSE)),CONCATENATE("NC-",VLOOKUP(I88,'U20 Non Counters'!$B$3:$D$200,3,FALSE))) -> DHH | K88: =IFERROR(INDIRECT("'"&J88&"-"&H83&"'!D"&IF(RIGHT(I83,1)="W",MATCH('Start lists'!J83,'TN-U20'!F:F,0),MATCH('Start lists'!J83,'TN-U20'!B:B,0))+IF(LEFT(K83,1)="A",0,1)&""),IF(RIGHT(H83,2)="17",IF(RIGHT(I83,1)="W",VLOOKUP(I88,'U17 Non Counters'!$G$3:$I$200,2,FALSE),VLOOKUP(I88,'U17 Non Counters'!$B$3:$D$200,2,FALSE)),IF(RIGHT(I83,1)="W",VLOOKUP(I88,'U20 Non Counters'!$G$3:$I$200,2,FALSE),VLOOKUP(I88,'U20 Non Counters'!$B$3:$D$200,2,FALSE)))) -> 0
A89: 5 | B89: ='Lane Draws'!AR6 -> 6 | C89: =IFERROR(IF(B89="","",VLOOKUP(B89,Teams!$A$12:$B$29,2,FALSE)),CONCATENATE("NC-",VLOOKUP(B89,'U20 Non Counters'!$B$3:$D$200,3,FALSE))) -> ISA | D89: =IFERROR(INDIRECT("'"&C89&"-"&$A83&"'!D"&IF(RIGHT(B83,1)="W",MATCH('Start lists'!C83,'TN-U20'!F:F,0),MATCH('Start lists'!C83,'TN-U20'!B:B,0))+IF(LEFT(D83,1)="A",0,1)&""),IF(RIGHT(A83,2)="17",IF(RIGHT(B83,1)="W",VLOOKUP(B89,'U17 Non Counters'!$G$3:$I$200,2,FALSE),VLOOKUP(B89,'U17 Non Counters'!$B$3:$D$200,2,FALSE)),IF(RIGHT(B83,1)="W",VLOOKUP(B89,'U20 Non Counters'!$G$3:$I$200,2,FALSE),VLOOKUP(B89,'U20 Non Counters'!$B$3:$D$200,2,FALSE)))) -> Scott MacIver | H89: 5 | I89: ='Lane Draws'!AU6 -> 66 | J89: =IFERROR(IF(I89="","",VLOOKUP(I89,Teams!$A$12:$B$29,2,FALSE)),CONCATENATE("NC-",VLOOKUP(I89,'U20 Non Counters'!$B$3:$D$200,3,FALSE))) -> ISA | K89: =IFERROR(INDIRECT("'"&J89&"-"&H83&"'!D"&IF(RIGHT(I83,1)="W",MATCH('Start lists'!J83,'TN-U20'!F:F,0),MATCH('Start lists'!J83,'TN-U20'!B:B,0))+IF(LEFT(K83,1)="A",0,1)&""),IF(RIGHT(H83,2)="17",IF(RIGHT(I83,1)="W",VLOOKUP(I89,'U17 Non Counters'!$G$3:$I$200,2,FALSE),VLOOKUP(I89,'U17 Non Counters'!$B$3:$D$200,2,FALSE)),IF(RIGHT(I83,1)="W",VLOOKUP(I89,'U20 Non Counters'!$G$3:$I$200,2,FALSE),VLOOKUP(I89,'U20 Non Counters'!$B$3:$D$200,2,FALSE)))) -> Donald MacMillan
A90: 6 | B90: ='Lane Draws'!AR7 -> 2 | C90: =IFERROR(IF(B90="","",VLOOKUP(B90,Teams!$A$12:$B$29,2,FALSE)),CONCATENATE("NC-",VLOOKUP(B90,'U20 Non Counters'!$B$3:$D$200,3,FALSE))) -> ADAC | D90: =IFERROR(INDIRECT("'"&C90&"-"&$A83&"'!D"&IF(RIGHT(B83,1)="W",MATCH('Start lists'!C83,'TN-U20'!F:F,0),MATCH('Start lists'!C83,'TN-U20'!B:B,0))+IF(LEFT(D83,1)="A",0,1)&""),IF(RIGHT(A83,2)="17",IF(RIGHT(B83,1)="W",VLOOKUP(B90,'U17 Non Counters'!$G$3:$I$200,2,FALSE),VLOOKUP(B90,'U17 Non Counters'!$B$3:$D$200,2,FALSE)),IF(RIGHT(B83,1)="W",VLOOKUP(B90,'U20 Non Counters'!$G$3:$I$200,2,FALSE),VLOOKUP(B90,'U20 Non Counters'!$B$3:$D$200,2,FALSE)))) -> 0 | H90: 6 | I90: ='Lane Draws'!AU7 -> 22 | J90: =IFERROR(IF(I90="","",VLOOKUP(I90,Teams!$A$12:$B$29,2,FALSE)),CONCATENATE("NC-",VLOOKUP(I90,'U20 Non Counters'!$B$3:$D$200,3,FALSE))) -> ADAC | K90: =IFERROR(INDIRECT("'"&J90&"-"&H83&"'!D"&IF(RIGHT(I83,1)="W",MATCH('Start lists'!J83,'TN-U20'!F:F,0),MATCH('Start lists'!J83,'TN-U20'!B:B,0))+IF(LEFT(K83,1)="A",0,1)&""),IF(RIGHT(H83,2)="17",IF(RIGHT(I83,1)="W",VLOOKUP(I90,'U17 Non Counters'!$G$3:$I$200,2,FALSE),VLOOKUP(I90,'U17 Non Counters'!$B$3:$D$200,2,FALSE)),IF(RIGHT(I83,1)="W",VLOOKUP(I90,'U20 Non Counters'!$G$3:$I$200,2,FALSE),VLOOKUP(I90,'U20 Non Counters'!$B$3:$D$200,2,FALSE)))) -> 0
A91: 7 | B91: ='Lane Draws'!AR8 -> 8 | C91: =IFERROR(IF(B91="","",VLOOKUP(B91,Teams!$A$12:$B$29,2,FALSE)),CONCATENATE("NC-",VLOOKUP(B91,'U20 Non Counters'!$B$3:$D$200,3,FALSE))) -> TN | D91: =IFERROR(INDIRECT("'"&C91&"-"&$A83&"'!D"&IF(RIGHT(B83,1)="W",MATCH('Start lists'!C83,'TN-U20'!F:F,0),MATCH('Start lists'!C83,'TN-U20'!B:B,0))+IF(LEFT(D83,1)="A",0,1)&""),IF(RIGHT(A83,2)="17",IF(RIGHT(B83,1)="W",VLOOKUP(B91,'U17 Non Counters'!$G$3:$I$200,2,FALSE),VLOOKUP(B91,'U17 Non Counters'!$B$3:$D$200,2,FALSE)),IF(RIGHT(B83,1)="W",VLOOKUP(B91,'U20 Non Counters'!$G$3:$I$200,2,FALSE),VLOOKUP(B91,'U20 Non Counters'!$B$3:$D$200,2,FALSE)))) -> ANDREW STOKER | H91: 7 | I91: ='Lane Draws'!AU8 -> 88 | J91: =IFERROR(IF(I91="","",VLOOKUP(I91,Teams!$A$12:$B$29,2,FALSE)),CONCATENATE("NC-",VLOOKUP(I91,'U20 Non Counters'!$B$3:$D$200,3,FALSE))) -> TN | K91: =IFERROR(INDIRECT("'"&J91&"-"&H83&"'!D"&IF(RIGHT(I83,1)="W",MATCH('Start lists'!J83,'TN-U20'!F:F,0),MATCH('Start lists'!J83,'TN-U20'!B:B,0))+IF(LEFT(K83,1)="A",0,1)&""),IF(RIGHT(H83,2)="17",IF(RIGHT(I83,1)="W",VLOOKUP(I91,'U17 Non Counters'!$G$3:$I$200,2,FALSE),VLOOKUP(I91,'U17 Non Counters'!$B$3:$D$200,2,FALSE)),IF(RIGHT(I83,1)="W",VLOOKUP(I91,'U20 Non Counters'!$G$3:$I$200,2,FALSE),VLOOKUP(I91,'U20 Non Counters'!$B$3:$D$200,2,FALSE)))) -> SAM ANDERSON
A92: 8 | B92: ='Lane Draws'!AR9 -> 3 | C92: =IFERROR(IF(B92="","",VLOOKUP(B92,Teams!$A$12:$B$29,2,FALSE)),CONCATENATE("NC-",VLOOKUP(B92,'U20 Non Counters'!$B$3:$D$200,3,FALSE))) -> BSAC | D92: =IFERROR(INDIRECT("'"&C92&"-"&$A83&"'!D"&IF(RIGHT(B83,1)="W",MATCH('Start lists'!C83,'TN-U20'!F:F,0),MATCH('Start lists'!C83,'TN-U20'!B:B,0))+IF(LEFT(D83,1)="A",0,1)&""),IF(RIGHT(A83,2)="17",IF(RIGHT(B83,1)="W",VLOOKUP(B92,'U17 Non Counters'!$G$3:$I$200,2,FALSE),VLOOKUP(B92,'U17 Non Counters'!$B$3:$D$200,2,FALSE)),IF(RIGHT(B83,1)="W",VLOOKUP(B92,'U20 Non Counters'!$G$3:$I$200,2,FALSE),VLOOKUP(B92,'U20 Non Counters'!$B$3:$D$200,2,FALSE)))) -> 0 | H92: 8 | I92: ='Lane Draws'!AU9 -> 33 | J92: =IFERROR(IF(I92="","",VLOOKUP(I92,Teams!$A$12:$B$29,2,FALSE)),CONCATENATE("NC-",VLOOKUP(I92,'U20 Non Counters'!$B$3:$D$200,3,FALSE))) -> BSAC | K92: =IFERROR(INDIRECT("'"&J92&"-"&H83&"'!D"&IF(RIGHT(I83,1)="W",MATCH('Start lists'!J83,'TN-U20'!F:F,0),MATCH('Start lists'!J83,'TN-U20'!B:B,0))+IF(LEFT(K83,1)="A",0,1)&""),IF(RIGHT(H83,2)="17",IF(RIGHT(I83,1)="W",VLOOKUP(I92,'U17 Non Counters'!$G$3:$I$200,2,FALSE),VLOOKUP(I92,'U17 Non Counters'!$B$3:$D$200,2,FALSE)),IF(RIGHT(I83,1)="W",VLOOKUP(I92,'U20 Non Counters'!$G$3:$I$200,2,FALSE),VLOOKUP(I92,'U20 Non Counters'!$B$3:$D$200,2,FALSE)))) -> 0
A94: =LEFT(B94,3) -> U17 | B94: U17W | C94: 800m | D94: A string | E94: =IF('Lane Draws'!$AX$12-COUNTIF('Lane Draws'!$AX$2:$BC$9,">88")=0,0,CONCATENATE('Lane Draws'!$AX$12-COUNTIF('Lane Draws'!$AX$2:$BC$9,">88"), " Non Counters to put in lanes")) -> 0 | H94: =LEFT(I94,3) -> U17 | I94: =B94 -> U17W | J94: 800m | K94: B string | L94: =IF('Lane Draws'!$AX$12-COUNTIF('Lane Draws'!$AX$2:$BC$9,">88")=0,0,CONCATENATE('Lane Draws'!$AX$12-COUNTIF('Lane Draws'!$AX$2:$BC$9,">88"), " Non Counters to put in lanes")) -> 0
A95: Lane | B95: Num | C95: Club | D95: Athlete | E95: Time | F95: Pos | H95: Lane | I95: Num | J95: Club | K95: Athlete | L95: Time | M95: Pos | N95: Points
A96: 1 | B96: ='Lane Draws'!AX2 -> 3 | C96: =IFERROR(IF(B96="","",VLOOKUP(B96,Teams!$A$12:$B$29,2,FALSE)),CONCATENATE("NC-",VLOOKUP(B96,'U17 Non Counters'!$G$3:$I$200,3,FALSE))) -> BSAC | D96: =IFERROR(INDIRECT("'"&C96&"-"&$A94&"'!H"&IF(RIGHT(B94,1)="W",MATCH('Start lists'!C94,'TN-U17'!F:F,0),MATCH('Start lists'!C94,'TN-U17'!B:B,0))+IF(LEFT(D94,1)="A",0,1)&""),IF(RIGHT(A94,2)="17",IF(RIGHT(B94,1)="W",VLOOKUP(B96,'U17 Non Counters'!$G$3:$I$200,2,FALSE),VLOOKUP(B96,'U17 Non Counters'!$B$3:$D$200,2,FALSE)),IF(RIGHT(B94,1)="W",VLOOKUP(B96,'U20 Non Counters'!$G$3:$I$200,2,FALSE),VLOOKUP(B96,'U20 Non Counters'!$B$3:$D$200,2,FALSE)))) -> 0 | H96: 1 | I96: ='Lane Draws'!BA2 -> 33 | J96: =IFERROR(IF(I96="","",VLOOKUP(I96,Teams!$A$12:$B$29,2,FALSE)),CONCATENATE("NC-",VLOOKUP(I96,'U17 Non Counters'!$G$3:$I$200,3,FALSE))) -> BSAC | K96: =IFERROR(INDIRECT("'"&J96&"-"&H94&"'!H"&IF(RIGHT(I94,1)="W",MATCH('Start lists'!J94,'TN-U17'!F:F,0),MATCH('Start lists'!J94,'TN-U17'!J:J,0))+IF(LEFT(K94,1)="A",0,1)&""),IF(RIGHT(H94,2)="17",IF(RIGHT(I94,1)="W",VLOOKUP(I96,'U17 Non Counters'!$G$3:$I$200,2,FALSE),VLOOKUP(I96,'U17 Non Counters'!$B$3:$D$200,2,FALSE)),IF(RIGHT(I94,1)="W",VLOOKUP(I96,'U20 Non Counters'!$G$3:$I$200,2,FALSE),VLOOKUP(I96,'U20 Non Counters'!$B$3:$D$200,2,FALSE)))) -> 0
A97: 2 | B97: ='Lane Draws'!AX3 -> 8 | C97: =IFERROR(IF(B97="","",VLOOKUP(B97,Teams!$A$12:$B$29,2,FALSE)),CONCATENATE("NC-",VLOOKUP(B97,'U17 Non Counters'!$G$3:$I$200,3,FALSE))) -> TN | D97: =IFERROR(INDIRECT("'"&C97&"-"&$A94&"'!H"&IF(RIGHT(B94,1)="W",MATCH('Start lists'!C94,'TN-U17'!F:F,0),MATCH('Start lists'!C94,'TN-U17'!B:B,0))+IF(LEFT(D94,1)="A",0,1)&""),IF(RIGHT(A94,2)="17",IF(RIGHT(B94,1)="W",VLOOKUP(B97,'U17 Non Counters'!$G$3:$I$200,2,FALSE),VLOOKUP(B97,'U17 Non Counters'!$B$3:$D$200,2,FALSE)),IF(RIGHT(B94,1)="W",VLOOKUP(B97,'U20 Non Counters'!$G$3:$I$200,2,FALSE),VLOOKUP(B97,'U20 Non Counters'!$B$3:$D$200,2,FALSE)))) -> SHAUNA PERRY | H97: 2 | I97: ='Lane Draws'!BA3 -> 88 | J97: =IFERROR(IF(I97="","",VLOOKUP(I97,Teams!$A$12:$B$29,2,FALSE)),CONCATENATE("NC-",VLOOKUP(I97,'U17 Non Counters'!$G$3:$I$200,3,FALSE))) -> TN | K97: =IFERROR(INDIRECT("'"&J97&"-"&H94&"'!H"&IF(RIGHT(I94,1)="W",MATCH('Start lists'!J94,'TN-U17'!F:F,0),MATCH('Start lists'!J94,'TN-U17'!J:J,0))+IF(LEFT(K94,1)="A",0,1)&""),IF(RIGHT(H94,2)="17",IF(RIGHT(I94,1)="W",VLOOKUP(I97,'U17 Non Counters'!$G$3:$I$200,2,FALSE),VLOOKUP(I97,'U17 Non Counters'!$B$3:$D$200,2,FALSE)),IF(RIGHT(I94,1)="W",VLOOKUP(I97,'U20 Non Counters'!$G$3:$I$200,2,FALSE),VLOOKUP(I97,'U20 Non Counters'!$B$3:$D$200,2,FALSE)))) -> NIAMH WHELAN
A98: 3 | B98: ='Lane Draws'!AX4 -> 5 | C98: =IFERROR(IF(B98="","",VLOOKUP(B98,Teams!$A$12:$B$29,2,FALSE)),CONCATENATE("NC-",VLOOKUP(B98,'U17 Non Counters'!$G$3:$I$200,3,FALSE))) -> IH | D98: =IFERROR(INDIRECT("'"&C98&"-"&$A94&"'!H"&IF(RIGHT(B94,1)="W",MATCH('Start lists'!C94,'TN-U17'!F:F,0),MATCH('Start lists'!C94,'TN-U17'!B:B,0))+IF(LEFT(D94,1)="A",0,1)&""),IF(RIGHT(A94,2)="17",IF(RIGHT(B94,1)="W",VLOOKUP(B98,'U17 Non Counters'!$G$3:$I$200,2,FALSE),VLOOKUP(B98,'U17 Non Counters'!$B$3:$D$200,2,FALSE)),IF(RIGHT(B94,1)="W",VLOOKUP(B98,'U20 Non Counters'!$G$3:$I$200,2,FALSE),VLOOKUP(B98,'U20 Non Counters'!$B$3:$D$200,2,FALSE)))) -> Chloe Cheyne | H98: 3 | I98: ='Lane Draws'!BA4 -> 55 | J98: =IFERROR(IF(I98="","",VLOOKUP(I98,Teams!$A$12:$B$29,2,FALSE)),CONCATENATE("NC-",VLOOKUP(I98,'U17 Non Counters'!$G$3:$I$200,3,FALSE))) -> IH | K98: =IFERROR(INDIRECT("'"&J98&"-"&H94&"'!H"&IF(RIGHT(I94,1)="W",MATCH('Start lists'!J94,'TN-U17'!F:F,0),MATCH('Start lists'!J94,'TN-U17'!J:J,0))+IF(LEFT(K94,1)="A",0,1)&""),IF(RIGHT(H94,2)="17",IF(RIGHT(I94,1)="W",VLOOKUP(I98,'U17 Non Counters'!$G$3:$I$200,2,FALSE),VLOOKUP(I98,'U17 Non Counters'!$B$3:$D$200,2,FALSE)),IF(RIGHT(I94,1)="W",VLOOKUP(I98,'U20 Non Counters'!$G$3:$I$200,2,FALSE),VLOOKUP(I98,'U20 Non Counters'!$B$3:$D$200,2,FALSE)))) -> Ruby Soldan
A99: 4 | B99: ='Lane Draws'!AX5 -> 2 | C99: =IFERROR(IF(B99="","",VLOOKUP(B99,Teams!$A$12:$B$29,2,FALSE)),CONCATENATE("NC-",VLOOKUP(B99,'U17 Non Counters'!$G$3:$I$200,3,FALSE))) -> ADAC | D99: =IFERROR(INDIRECT("'"&C99&"-"&$A94&"'!H"&IF(RIGHT(B94,1)="W",MATCH('Start lists'!C94,'TN-U17'!F:F,0),MATCH('Start lists'!C94,'TN-U17'!B:B,0))+IF(LEFT(D94,1)="A",0,1)&""),IF(RIGHT(A94,2)="17",IF(RIGHT(B94,1)="W",VLOOKUP(B99,'U17 Non Counters'!$G$3:$I$200,2,FALSE),VLOOKUP(B99,'U17 Non Counters'!$B$3:$D$200,2,FALSE)),IF(RIGHT(B94,1)="W",VLOOKUP(B99,'U20 Non Counters'!$G$3:$I$200,2,FALSE),VLOOKUP(B99,'U20 Non Counters'!$B$3:$D$200,2,FALSE)))) -> 0 | H99: 4 | I99: ='Lane Draws'!BA5 -> 22 | J99: =IFERROR(IF(I99="","",VLOOKUP(I99,Teams!$A$12:$B$29,2,FALSE)),CONCATENATE("NC-",VLOOKUP(I99,'U17 Non Counters'!$G$3:$I$200,3,FALSE))) -> ADAC | K99: =IFERROR(INDIRECT("'"&J99&"-"&H94&"'!H"&IF(RIGHT(I94,1)="W",MATCH('Start lists'!J94,'TN-U17'!F:F,0),MATCH('Start lists'!J94,'TN-U17'!J:J,0))+IF(LEFT(K94,1)="A",0,1)&""),IF(RIGHT(H94,2)="17",IF(RIGHT(I94,1)="W",VLOOKUP(I99,'U17 Non Counters'!$G$3:$I$200,2,FALSE),VLOOKUP(I99,'U17 Non Counters'!$B$3:$D$200,2,FALSE)),IF(RIGHT(I94,1)="W",VLOOKUP(I99,'U20 Non Counters'!$G$3:$I$200,2,FALSE),VLOOKUP(I99,'U20 Non Counters'!$B$3:$D$200,2,FALSE)))) -> 0
A100: 5 | B100: ='Lane Draws'!AX6 -> 6 | C100: =IFERROR(IF(B100="","",VLOOKUP(B100,Teams!$A$12:$B$29,2,FALSE)),CONCATENATE("NC-",VLOOKUP(B100,'U17 Non Counters'!$G$3:$I$200,3,FALSE))) -> ISA | D100: =IFERROR(INDIRECT("'"&C100&"-"&$A94&"'!H"&IF(RIGHT(B94,1)="W",MATCH('Start lists'!C94,'TN-U17'!F:F,0),MATCH('Start lists'!C94,'TN-U17'!B:B,0))+IF(LEFT(D94,1)="A",0,1)&""),IF(RIGHT(A94,2)="17",IF(RIGHT(B94,1)="W",VLOOKUP(B100,'U17 Non Counters'!$G$3:$I$200,2,FALSE),VLOOKUP(B100,'U17 Non Counters'!$B$3:$D$200,2,FALSE)),IF(RIGHT(B94,1)="W",VLOOKUP(B100,'U20 Non Counters'!$G$3:$I$200,2,FALSE),VLOOKUP(B100,'U20 Non Counters'!$B$3:$D$200,2,FALSE)))) -> Aimee Smith | H100: 5 | I100: ='Lane Draws'!BA6 -> 66 | J100: =IFERROR(IF(I100="","",VLOOKUP(I100,Teams!$A$12:$B$29,2,FALSE)),CONCATENATE("NC-",VLOOKUP(I100,'U17 Non Counters'!$G$3:$I$200,3,FALSE))) -> ISA | K100: =IFERROR(INDIRECT("'"&J100&"-"&H94&"'!H"&IF(RIGHT(I94,1)="W",MATCH('Start lists'!J94,'TN-U17'!F:F,0),MATCH('Start lists'!J94,'TN-U17'!J:J,0))+IF(LEFT(K94,1)="A",0,1)&""),IF(RIGHT(H94,2)="17",IF(RIGHT(I94,1)="W",VLOOKUP(I100,'U17 Non Counters'!$G$3:$I$200,2,FALSE),VLOOKUP(I100,'U17 Non Counters'!$B$3:$D$200,2,FALSE)),IF(RIGHT(I94,1)="W",VLOOKUP(I100,'U20 Non Counters'!$G$3:$I$200,2,FALSE),VLOOKUP(I100,'U20 Non Counters'!$B$3:$D$200,2,FALSE)))) -> Amie Ringstead
A101: 6 | B101: ='Lane Draws'!AX7 -> 7 | C101: =IFERROR(IF(B101="","",VLOOKUP(B101,Teams!$A$12:$B$29,2,FALSE)),CONCATENATE("NC-",VLOOKUP(B101,'U17 Non Counters'!$G$3:$I$200,3,FALSE))) -> MAC_PSH | D101: =IFERROR(INDIRECT("'"&C101&"-"&$A94&"'!H"&IF(RIGHT(B94,1)="W",MATCH('Start lists'!C94,'TN-U17'!F:F,0),MATCH('Start lists'!C94,'TN-U17'!B:B,0))+IF(LEFT(D94,1)="A",0,1)&""),IF(RIGHT(A94,2)="17",IF(RIGHT(B94,1)="W",VLOOKUP(B101,'U17 Non Counters'!$G$3:$I$200,2,FALSE),VLOOKUP(B101,'U17 Non Counters'!$B$3:$D$200,2,FALSE)),IF(RIGHT(B94,1)="W",VLOOKUP(B101,'U20 Non Counters'!$G$3:$I$200,2,FALSE),VLOOKUP(B101,'U20 Non Counters'!$B$3:$D$200,2,FALSE)))) -> 0 | H101: 6 | I101: ='Lane Draws'!BA7 -> 77 | J101: =IFERROR(IF(I101="","",VLOOKUP(I101,Teams!$A$12:$B$29,2,FALSE)),CONCATENATE("NC-",VLOOKUP(I101,'U17 Non Counters'!$G$3:$I$200,3,FALSE))) -> MAC_PSH | K101: =IFERROR(INDIRECT("'"&J101&"-"&H94&"'!H"&IF(RIGHT(I94,1)="W",MATCH('Start lists'!J94,'TN-U17'!F:F,0),MATCH('Start lists'!J94,'TN-U17'!J:J,0))+IF(LEFT(K94,1)="A",0,1)&""),IF(RIGHT(H94,2)="17",IF(RIGHT(I94,1)="W",VLOOKUP(I101,'U17 Non Counters'!$G$3:$I$200,2,FALSE),VLOOKUP(I101,'U17 Non Counters'!$B$3:$D$200,2,FALSE)),IF(RIGHT(I94,1)="W",VLOOKUP(I101,'U20 Non Counters'!$G$3:$I$200,2,FALSE),VLOOKUP(I101,'U20 Non Counters'!$B$3:$D$200,2,FALSE)))) -> 0
A102: 7 | B102: ='Lane Draws'!AX8 -> 4 | C102: =IFERROR(IF(B102="","",VLOOKUP(B102,Teams!$A$12:$B$29,2,FALSE)),CONCATENATE("NC-",VLOOKUP(B102,'U17 Non Counters'!$G$3:$I$200,3,FALSE))) -> DHH | D102: =IFERROR(INDIRECT("'"&C102&"-"&$A94&"'!H"&IF(RIGHT(B94,1)="W",MATCH('Start lists'!C94,'TN-U17'!F:F,0),MATCH('Start lists'!C94,'TN-U17'!B:B,0))+IF(LEFT(D94,1)="A",0,1)&""),IF(RIGHT(A94,2)="17",IF(RIGHT(B94,1)="W",VLOOKUP(B102,'U17 Non Counters'!$G$3:$I$200,2,FALSE),VLOOKUP(B102,'U17 Non Counters'!$B$3:$D$200,2,FALSE)),IF(RIGHT(B94,1)="W",VLOOKUP(B102,'U20 Non Counters'!$G$3:$I$200,2,FALSE),VLOOKUP(B102,'U20 Non Counters'!$B$3:$D$200,2,FALSE)))) -> Iona Vannet | H102: 7 | I102: ='Lane Draws'!BA8 -> 44 | J102: =IFERROR(IF(I102="","",VLOOKUP(I102,Teams!$A$12:$B$29,2,FALSE)),CONCATENATE("NC-",VLOOKUP(I102,'U17 Non Counters'!$G$3:$I$200,3,FALSE))) -> DHH | K102: =IFERROR(INDIRECT("'"&J102&"-"&H94&"'!H"&IF(RIGHT(I94,1)="W",MATCH('Start lists'!J94,'TN-U17'!F:F,0),MATCH('Start lists'!J94,'TN-U17'!J:J,0))+IF(LEFT(K94,1)="A",0,1)&""),IF(RIGHT(H94,2)="17",IF(RIGHT(I94,1)="W",VLOOKUP(I102,'U17 Non Counters'!$G$3:$I$200,2,FALSE),VLOOKUP(I102,'U17 Non Counters'!$B$3:$D$200,2,FALSE)),IF(RIGHT(I94,1)="W",VLOOKUP(I102,'U20 Non Counters'!$G$3:$I$200,2,FALSE),VLOOKUP(I102,'U20 Non Counters'!$B$3:$D$200,2,FALSE)))) -> Frankie Duncan-Morris
A103: 8 | B103: ='Lane Draws'!AX9 -> 1 | C103: =IFERROR(IF(B103="","",VLOOKUP(B103,Teams!$A$12:$B$29,2,FALSE)),CONCATENATE("NC-",VLOOKUP(B103,'U17 Non Counters'!$G$3:$I$200,3,FALSE))) -> AAAC | D103: =IFERROR(INDIRECT("'"&C103&"-"&$A94&"'!H"&IF(RIGHT(B94,1)="W",MATCH('Start lists'!C94,'TN-U17'!F:F,0),MATCH('Start lists'!C94,'TN-U17'!B:B,0))+IF(LEFT(D94,1)="A",0,1)&""),IF(RIGHT(A94,2)="17",IF(RIGHT(B94,1)="W",VLOOKUP(B103,'U17 Non Counters'!$G$3:$I$200,2,FALSE),VLOOKUP(B103,'U17 Non Counters'!$B$3:$D$200,2,FALSE)),IF(RIGHT(B94,1)="W",VLOOKUP(B103,'U20 Non Counters'!$G$3:$I$200,2,FALSE),VLOOKUP(B103,'U20 Non Counters'!$B$3:$D$200,2,FALSE)))) -> Georgia Morrison | H103: 8 | I103: ='Lane Draws'!BA9 -> 11 | J103: =IFERROR(IF(I103="","",VLOOKUP(I103,Teams!$A$12:$B$29,2,FALSE)),CONCATENATE("NC-",VLOOKUP(I103,'U17 Non Counters'!$G$3:$I$200,3,FALSE))) -> AAAC | K103: =IFERROR(INDIRECT("'"&J103&"-"&H94&"'!H"&IF(RIGHT(I94,1)="W",MATCH('Start lists'!J94,'TN-U17'!F:F,0),MATCH('Start lists'!J94,'TN-U17'!J:J,0))+IF(LEFT(K94,1)="A",0,1)&""),IF(RIGHT(H94,2)="17",IF(RIGHT(I94,1)="W",VLOOKUP(I103,'U17 Non Counters'!$G$3:$I$200,2,FALSE),VLOOKUP(I103,'U17 Non Counters'!$B$3:$D$200,2,FALSE)),IF(RIGHT(I94,1)="W",VLOOKUP(I103,'U20 Non Counters'!$G$3:$I$200,2,FALSE),VLOOKUP(I103,'U20 Non Counters'!$B$3:$D$200,2,FALSE)))) -> Caitlin Purcell
A105: =LEFT(B105,3) -> U20 | B105: U20W | C105: 800m | D105: A string | E105: =IF('Lane Draws'!$BD$12-COUNTIF('Lane Draws'!$BD$2:$BI$9,">88")=0,0,CONCATENATE('Lane Draws'!$BD$12-COUNTIF('Lane Draws'!$BD$2:$BI$9,">88"), " Non Counters to put in lanes")) -> 0 | H105: =LEFT(I105,3) -> U20 | I105: =B105 -> U20W | J105: 800m | K105: B string | L105: =IF('Lane Draws'!$BD$12-COUNTIF('Lane Draws'!$BD$2:$BI$9,">88")=0,0,CONCATENATE('Lane Draws'!$BD$12-COUNTIF('Lane Draws'!$BD$2:$BI$9,">88"), " Non Counters to put in lanes")) -> 0
A106: Lane | B106: Num | C106: Club | D106: Athlete | E106: Time | F106: Pos | H106: Lane | I106: Num | J106: Club | K106: Athlete | L106: Time | M106: Pos | N106: Points
A107: 1 | B107: ='Lane Draws'!BD2 -> 3 | C107: =IFERROR(IF(B107="","",VLOOKUP(B107,Teams!$A$12:$B$29,2,FALSE)),CONCATENATE("NC-",VLOOKUP(B107,'U20 Non Counters'!$G$3:$I$200,3,FALSE))) -> BSAC | D107: =IFERROR(INDIRECT("'"&C107&"-"&$A105&"'!H"&IF(RIGHT(B105,1)="W",MATCH('Start lists'!C105,'TN-U20'!F:F,0),MATCH('Start lists'!C105,'TN-U20'!B:B,0))+IF(LEFT(D105,1)="A",0,1)&""),IF(RIGHT(A105,2)="17",IF(RIGHT(B105,1)="W",VLOOKUP(B107,'U17 Non Counters'!$G$3:$I$200,2,FALSE),VLOOKUP(B107,'U17 Non Counters'!$B$3:$D$200,2,FALSE)),IF(RIGHT(B105,1)="W",VLOOKUP(B107,'U20 Non Counters'!$G$3:$I$200,2,FALSE),VLOOKUP(B107,'U20 Non Counters'!$B$3:$D$200,2,FALSE)))) -> 0 | H107: 1 | I107: ='Lane Draws'!BG2 -> 33 | J107: =IFERROR(IF(I107="","",VLOOKUP(I107,Teams!$A$12:$B$29,2,FALSE)),CONCATENATE("NC-",VLOOKUP(I107,'U20 Non Counters'!$G$3:$I$200,3,FALSE))) -> BSAC | K107: =IFERROR(INDIRECT("'"&J107&"-"&H105&"'!H"&IF(RIGHT(I105,1)="W",MATCH('Start lists'!J105,'TN-U20'!F:F,0),MATCH('Start lists'!J105,'TN-U20'!J:J,0))+IF(LEFT(K105,1)="A",0,1)&""),IF(RIGHT(H105,2)="17",IF(RIGHT(I105,1)="W",VLOOKUP(I107,'U17 Non Counters'!$G$3:$I$200,2,FALSE),VLOOKUP(I107,'U17 Non Counters'!$B$3:$D$200,2,FALSE)),IF(RIGHT(I105,1)="W",VLOOKUP(I107,'U20 Non Counters'!$G$3:$I$200,2,FALSE),VLOOKUP(I107,'U20 Non Counters'!$B$3:$D$200,2,FALSE)))) -> 0
A108: 2 | B108: ='Lane Draws'!BD3 -> 8 | C108: =IFERROR(IF(B108="","",VLOOKUP(B108,Teams!$A$12:$B$29,2,FALSE)),CONCATENATE("NC-",VLOOKUP(B108,'U20 Non Counters'!$G$3:$I$200,3,FALSE))) -> TN | D108: =IFERROR(INDIRECT("'"&C108&"-"&$A105&"'!H"&IF(RIGHT(B105,1)="W",MATCH('Start lists'!C105,'TN-U20'!F:F,0),MATCH('Start lists'!C105,'TN-U20'!B:B,0))+IF(LEFT(D105,1)="A",0,1)&""),IF(RIGHT(A105,2)="17",IF(RIGHT(B105,1)="W",VLOOKUP(B108,'U17 Non Counters'!$G$3:$I$200,2,FALSE),VLOOKUP(B108,'U17 Non Counters'!$B$3:$D$200,2,FALSE)),IF(RIGHT(B105,1)="W",VLOOKUP(B108,'U20 Non Counters'!$G$3:$I$200,2,FALSE),VLOOKUP(B108,'U20 Non Counters'!$B$3:$D$200,2,FALSE)))) -> GRACE WHELAN | H108: 2 | I108: ='Lane Draws'!BG3 -> 88 | J108: =IFERROR(IF(I108="","",VLOOKUP(I108,Teams!$A$12:$B$29,2,FALSE)),CONCATENATE("NC-",VLOOKUP(I108,'U20 Non Counters'!$G$3:$I$200,3,FALSE))) -> TN | K108: =IFERROR(INDIRECT("'"&J108&"-"&H105&"'!H"&IF(RIGHT(I105,1)="W",MATCH('Start lists'!J105,'TN-U20'!F:F,0),MATCH('Start lists'!J105,'TN-U20'!J:J,0))+IF(LEFT(K105,1)="A",0,1)&""),IF(RIGHT(H105,2)="17",IF(RIGHT(I105,1)="W",VLOOKUP(I108,'U17 Non Counters'!$G$3:$I$200,2,FALSE),VLOOKUP(I108,'U17 Non Counters'!$B$3:$D$200,2,FALSE)),IF(RIGHT(I105,1)="W",VLOOKUP(I108,'U20 Non Counters'!$G$3:$I$200,2,FALSE),VLOOKUP(I108,'U20 Non Counters'!$B$3:$D$200,2,FALSE)))) -> 0
A109: 3 | B109: ='Lane Draws'!BD4 -> 5 | C109: =IFERROR(IF(B109="","",VLOOKUP(B109,Teams!$A$12:$B$29,2,FALSE)),CONCATENATE("NC-",VLOOKUP(B109,'U20 Non Counters'!$G$3:$I$200,3,FALSE))) -> IH | D109: =IFERROR(INDIRECT("'"&C109&"-"&$A105&"'!H"&IF(RIGHT(B105,1)="W",MATCH('Start lists'!C105,'TN-U20'!F:F,0),MATCH('Start lists'!C105,'TN-U20'!B:B,0))+IF(LEFT(D105,1)="A",0,1)&""),IF(RIGHT(A105,2)="17",IF(RIGHT(B105,1)="W",VLOOKUP(B109,'U17 Non Counters'!$G$3:$I$200,2,FALSE),VLOOKUP(B109,'U17 Non Counters'!$B$3:$D$200,2,FALSE)),IF(RIGHT(B105,1)="W",VLOOKUP(B109,'U20 Non Counters'!$G$3:$I$200,2,FALSE),VLOOKUP(B109,'U20 Non Counters'!$B$3:$D$200,2,FALSE)))) -> 0 | H109: 3 | I109: ='Lane Draws'!BG4 -> 55 | J109: =IFERROR(IF(I109="","",VLOOKUP(I109,Teams!$A$12:$B$29,2,FALSE)),CONCATENATE("NC-",VLOOKUP(I109,'U20 Non Counters'!$G$3:$I$200,3,FALSE))) -> IH | K109: =IFERROR(INDIRECT("'"&J109&"-"&H105&"'!H"&IF(RIGHT(I105,1)="W",MATCH('Start lists'!J105,'TN-U20'!F:F,0),MATCH('Start lists'!J105,'TN-U20'!J:J,0))+IF(LEFT(K105,1)="A",0,1)&""),IF(RIGHT(H105,2)="17",IF(RIGHT(I105,1)="W",VLOOKUP(I109,'U17 Non Counters'!$G$3:$I$200,2,FALSE),VLOOKUP(I109,'U17 Non Counters'!$B$3:$D$200,2,FALSE)),IF(RIGHT(I105,1)="W",VLOOKUP(I109,'U20 Non Counters'!$G$3:$I$200,2,FALSE),VLOOKUP(I109,'U20 Non Counters'!$B$3:$D$200,2,FALSE)))) -> 0
A110: 4 | B110: ='Lane Draws'!BD5 -> 2 | C110: =IFERROR(IF(B110="","",VLOOKUP(B110,Teams!$A$12:$B$29,2,FALSE)),CONCATENATE("NC-",VLOOKUP(B110,'U20 Non Counters'!$G$3:$I$200,3,FALSE))) -> ADAC | D110: =IFERROR(INDIRECT("'"&C110&"-"&$A105&"'!H"&IF(RIGHT(B105,1)="W",MATCH('Start lists'!C105,'TN-U20'!F:F,0),MATCH('Start lists'!C105,'TN-U20'!B:B,0))+IF(LEFT(D105,1)="A",0,1)&""),IF(RIGHT(A105,2)="17",IF(RIGHT(B105,1)="W",VLOOKUP(B110,'U17 Non Counters'!$G$3:$I$200,2,FALSE),VLOOKUP(B110,'U17 Non Counters'!$B$3:$D$200,2,FALSE)),IF(RIGHT(B105,1)="W",VLOOKUP(B110,'U20 Non Counters'!$G$3:$I$200,2,FALSE),VLOOKUP(B110,'U20 Non Counters'!$B$3:$D$200,2,FALSE)))) -> 0 | H110: 4 | I110: ='Lane Draws'!BG5 -> 22 | J110: =IFERROR(IF(I110="","",VLOOKUP(I110,Teams!$A$12:$B$29,2,FALSE)),CONCATENATE("NC-",VLOOKUP(I110,'U20 Non Counters'!$G$3:$I$200,3,FALSE))) -> ADAC | K110: =IFERROR(INDIRECT("'"&J110&"-"&H105&"'!H"&IF(RIGHT(I105,1)="W",MATCH('Start lists'!J105,'TN-U20'!F:F,0),MATCH('Start lists'!J105,'TN-U20'!J:J,0))+IF(LEFT(K105,1)="A",0,1)&""),IF(RIGHT(H105,2)="17",IF(RIGHT(I105,1)="W",VLOOKUP(I110,'U17 Non Counters'!$G$3:$I$200,2,FALSE),VLOOKUP(I110,'U17 Non Counters'!$B$3:$D$200,2,FALSE)),IF(RIGHT(I105,1)="W",VLOOKUP(I110,'U20 Non Counters'!$G$3:$I$200,2,FALSE),VLOOKUP(I110,'U20 Non Counters'!$B$3:$D$200,2,FALSE)))) -> 0
A111: 5 | B111: ='Lane Draws'!BD6 -> 6 | C111: =IFERROR(IF(B111="","",VLOOKUP(B111,Teams!$A$12:$B$29,2,FALSE)),CONCATENATE("NC-",VLOOKUP(B111,'U20 Non Counters'!$G$3:$I$200,3,FALSE))) -> ISA | D111: =IFERROR(INDIRECT("'"&C111&"-"&$A105&"'!H"&IF(RIGHT(B105,1)="W",MATCH('Start lists'!C105,'TN-U20'!F:F,0),MATCH('Start lists'!C105,'TN-U20'!B:B,0))+IF(LEFT(D105,1)="A",0,1)&""),IF(RIGHT(A105,2)="17",IF(RIGHT(B105,1)="W",VLOOKUP(B111,'U17 Non Counters'!$G$3:$I$200,2,FALSE),VLOOKUP(B111,'U17 Non Counters'!$B$3:$D$200,2,FALSE)),IF(RIGHT(B105,1)="W",VLOOKUP(B111,'U20 Non Counters'!$G$3:$I$200,2,FALSE),VLOOKUP(B111,'U20 Non Counters'!$B$3:$D$200,2,FALSE)))) -> 0 | H111: 5 | I111: ='Lane Draws'!BG6 -> 66 | J111: =IFERROR(IF(I111="","",VLOOKUP(I111,Teams!$A$12:$B$29,2,FALSE)),CONCATENATE("NC-",VLOOKUP(I111,'U20 Non Counters'!$G$3:$I$200,3,FALSE))) -> ISA | K111: =IFERROR(INDIRECT("'"&J111&"-"&H105&"'!H"&IF(RIGHT(I105,1)="W",MATCH('Start lists'!J105,'TN-U20'!F:F,0),MATCH('Start lists'!J105,'TN-U20'!J:J,0))+IF(LEFT(K105,1)="A",0,1)&""),IF(RIGHT(H105,2)="17",IF(RIGHT(I105,1)="W",VLOOKUP(I111,'U17 Non Counters'!$G$3:$I$200,2,FALSE),VLOOKUP(I111,'U17 Non Counters'!$B$3:$D$200,2,FALSE)),IF(RIGHT(I105,1)="W",VLOOKUP(I111,'U20 Non Counters'!$G$3:$I$200,2,FALSE),VLOOKUP(I111,'U20 Non Counters'!$B$3:$D$200,2,FALSE)))) -> 0
A112: 6 | B112: ='Lane Draws'!BD7 -> 7 | C112: =IFERROR(IF(B112="","",VLOOKUP(B112,Teams!$A$12:$B$29,2,FALSE)),CONCATENATE("NC-",VLOOKUP(B112,'U20 Non Counters'!$G$3:$I$200,3,FALSE))) -> MAC_PSH | D112: =IFERROR(INDIRECT("'"&C112&"-"&$A105&"'!H"&IF(RIGHT(B105,1)="W",MATCH('Start lists'!C105,'TN-U20'!F:F,0),MATCH('Start lists'!C105,'TN-U20'!B:B,0))+IF(LEFT(D105,1)="A",0,1)&""),IF(RIGHT(A105,2)="17",IF(RIGHT(B105,1)="W",VLOOKUP(B112,'U17 Non Counters'!$G$3:$I$200,2,FALSE),VLOOKUP(B112,'U17 Non Counters'!$B$3:$D$200,2,FALSE)),IF(RIGHT(B105,1)="W",VLOOKUP(B112,'U20 Non Counters'!$G$3:$I$200,2,FALSE),VLOOKUP(B112,'U20 Non Counters'!$B$3:$D$200,2,FALSE)))) -> 0 | H112: 6 | I112: ='Lane Draws'!BG7 -> 77 | J112: =IFERROR(IF(I112="","",VLOOKUP(I112,Teams!$A$12:$B$29,2,FALSE)),CONCATENATE("NC-",VLOOKUP(I112,'U20 Non Counters'!$G$3:$I$200,3,FALSE))) -> MAC_PSH | K112: =IFERROR(INDIRECT("'"&J112&"-"&H105&"'!H"&IF(RIGHT(I105,1)="W",MATCH('Start lists'!J105,'TN-U20'!F:F,0),MATCH('Start lists'!J105,'TN-U20'!J:J,0))+IF(LEFT(K105,1)="A",0,1)&""),IF(RIGHT(H105,2)="17",IF(RIGHT(I105,1)="W",VLOOKUP(I112,'U17 Non Counters'!$G$3:$I$200,2,FALSE),VLOOKUP(I112,'U17 Non Counters'!$B$3:$D$200,2,FALSE)),IF(RIGHT(I105,1)="W",VLOOKUP(I112,'U20 Non Counters'!$G$3:$I$200,2,FALSE),VLOOKUP(I112,'U20 Non Counters'!$B$3:$D$200,2,FALSE)))) -> 0
...

Sheet Lane Draws
B1: 17W | C1: 300mH | D1: A | E1: 17W | F1: 300mH | G1: B | H1: 20W | I1: 400mH | J1: A | K1: 20W | L1: 400mH | M1: B | N1: 17M | O1: 400mH | P1: A | Q1: 17M | R1: 400mH | S1: B | T1: 20M | U1: 400mH | V1: A | W1: 20M | X1: 400mH | Y1: B | Z1: 17W | AA1: 100m | AB1: A | AC1: 17W | AD1: 100m | AE1: B | AF1: 20W | AG1: 100m | AH1: A | AI1: 20W | AJ1: 100m | AK1: B | AL1: 17M | AM1: 100m | AN1: A | AO1: 17M | AP1: 100m | AQ1: B | AR1: 20M | AS1: 100m | AT1: A | AU1: 20M | AV1: 100m | AW1: B | AX1: 17W | AY1: 800m | AZ1: A | BA1: 17W | BB1: 800m | BC1: B | BD1: 20W | BE1: 800m | BF1: A | BG1: 20W | BH1: 800m | BI1: B | BJ1: 17M | BK1: 800m | BL1: A | BM1: 17M | BN1: 800m | BO1: B | BP1: 20M | BQ1: 800m | BR1: A | BS1: 20M | BT1: 800m | BU1: B | BV1: 17W | BW1: 300m | BX1: A | BY1: 17W | BZ1: 300m | CA1: B | CB1: 20W | CC1: 400m | CD1: A | CE1: 20W | CF1: 400m | CG1: B | CH1: 17M | CI1: 400m | CJ1: A | CK1: 17M | CL1: 400m | CM1: B | CN1: 20M | CO1: 400m | CP1: A | CQ1: 20M | CR1: 400m | CS1: B | CT1: 17M | CU1: 4x100m | CV1: A | CW1: 20M | CX1: 4x100m | CY1: A | CZ1: 17W | DA1: 4x100m | DB1: A | DC1: 20W | DD1: 4x100m | DE1: A | DF1: M | DG1: 1500m | DH1: A | DI1: M | DJ1: 1500m | DK1: B | DL1: M | DM1: 4x100m | DN1: A | DO1: W | DP1: 4x100m | DQ1: B
A2: Lane 1 | B2: 7 | E2: 77 | H2: 7 | K2: 77 | N2: 7 | Q2: 77 | T2: 7 | W2: 77 | Z2: 7 | AC2: 77 | AF2: 7 | AI2: 77 | AL2: 7 | AO2: 77 | AR2: 7 | AU2: 77 | AX2: 3 | BA2: 33 | BD2: 3 | BG2: 33 | BJ2: 3 | BM2: 33 | BP2: 3 | BS2: 33 | BV2: 8 | BY2: 88 | CB2: 8 | CE2: 88 | CH2: 8 | CK2: 88 | CN2: 8 | CQ2: 88 | CT2: 5 | CW2: 55 | CZ2: 5 | DC2: 55 | DF2: 5 | DI2: 44 | DL2: 3 | DO2: 22
A3: Lane 2 | B3: 6 | E3: 66 | G3: 77 | H3: 6 | K3: 66 | N3: 6 | Q3: 66 | T3: 6 | W3: 66 | Z3: 1 | AC3: 11 | AE3: 77 | AF3: 1 | AI3: 11 | AL3: 1 | AO3: 11 | AR3: 1 | AU3: 11 | AX3: 8 | BA3: 88 | BC3: 77 | BD3: 8 | BG3: 88 | BJ3: 8 | BM3: 88 | BP3: 8 | BS3: 88 | BV3: 3 | BY3: 33 | CA3: 77 | CB3: 3 | CE3: 33 | CH3: 3 | CK3: 33 | CN3: 3 | CQ3: 33 | CT3: 8 | CW3: 88 | CY3: 77 | CZ3: 8 | DC3: 88 | DF3: 6 | DI3: 55 | DL3: 4 | DO3: 33
A4: Lane 3 | B4: 4 | E4: 44 | G4: 55 | H4: 4 | K4: 44 | N4: 4 | Q4: 44 | T4: 4 | W4: 44 | Z4: 5 | AC4: 55 | AE4: 55 | AF4: 5 | AI4: 55 | AL4: 5 | AO4: 55 | AR4: 5 | AU4: 55 | AX4: 5 | BA4: 55 | BC4: 55 | BD4: 5 | BG4: 55 | BJ4: 5 | BM4: 55 | BP4: 5 | BS4: 55 | BV4: 1 | BY4: 11 | CA4: 55 | CB4: 1 | CE4: 11 | CH4: 1 | CK4: 11 | CN4: 1 | CQ4: 11 | CT4: 6 | CW4: 66 | CY4: 55 | CZ4: 6 | DC4: 66 | DF4: 7 | DI4: 66 | DL4: 5 | DO4: 44
A5: Lane 4 | B5: 2 | E5: 22 | G5: 66 | H5: 2 | K5: 22 | N5: 2 | Q5: 22 | T5: 2 | W5: 22 | Z5: 4 | AC5: 44 | AE5: 66 | AF5: 4 | AI5: 44 | AL5: 4 | AO5: 44 | AR5: 4 | AU5: 44 | AX5: 2 | BA5: 22 | BC5: 66 | BD5: 2 | BG5: 22 | BJ5: 2 | BM5: 22 | BP5: 2 | BS5: 22 | BV5: 6 | BY5: 66 | CA5: 66 | CB5: 6 | CE5: 66 | CH5: 6 | CK5: 66 | CN5: 6 | CQ5: 66 | CT5: 4 | CW5: 44 | CY5: 66 | CZ5: 4 | DC5: 44 | DF5: 8 | DI5: 77 | DL5: 6 | DO5: 55
A6: Lane 5 | B6: 5 | E6: 55 | G6: 88 | H6: 5 | K6: 55 | N6: 5 | Q6: 55 | T6: 5 | W6: 55 | Z6: 6 | AC6: 66 | AE6: 88 | AF6: 6 | AI6: 66 | AL6: 6 | AO6: 66 | AR6: 6 | AU6: 66 | AX6: 6 | BA6: 66 | BC6: 88 | BD6: 6 | BG6: 66 | BJ6: 6 | BM6: 66 | BP6: 6 | BS6: 66 | BV6: 4 | BY6: 44 | CA6: 88 | CB6: 4 | CE6: 44 | CH6: 4 | CK6: 44 | CN6: 4 | CQ6: 44 | CT6: 2 | CW6: 22 | CY6: 88 | CZ6: 2 | DC6: 22 | DF6: 1 | DI6: 88 | DL6: 7 | DO6: 66
A7: Lane 6 | B7: 1 | E7: 11 | G7: 33 | H7: 1 | K7: 11 | N7: 1 | Q7: 11 | T7: 1 | W7: 11 | Z7: 2 | AC7: 22 | AE7: 33 | AF7: 2 | AI7: 22 | AL7: 2 | AO7: 22 | AR7: 2 | AU7: 22 | AX7: 7 | BA7: 77 | BC7: 33 | BD7: 7 | BG7: 77 | BJ7: 7 | BM7: 77 | BP7: 7 | BS7: 77 | BV7: 2 | BY7: 22 | CA7: 33 | CB7: 2 | CE7: 22 | CH7: 2 | CK7: 22 | CN7: 2 | CQ7: 22 | CT7: 7 | CW7: 77 | CY7: 33 | CZ7: 7 | DC7: 77 | DF7: 2 | DI7: 11 | DL7: 8 | DO7: 77
A8: Lane 7 | B8: 8 | E8: 88 | G8: 44 | H8: 8 | K8: 88 | N8: 8 | Q8: 88 | T8: 8 | W8: 88 | Z8: 8 | AC8: 88 | AE8: 44 | AF8: 8 | AI8: 88 | AL8: 8 | AO8: 88 | AR8: 8 | AU8: 88 | AX8: 4 | BA8: 44 | BC8: 44 | BD8: 4 | BG8: 44 | BJ8: 4 | BM8: 44 | BP8: 4 | BS8: 44 | BV8: 7 | BY8: 77 | CA8: 44 | CB8: 7 | CE8: 77 | CH8: 7 | CK8: 77 | CN8: 7 | CQ8: 77 | CT8: 3 | CW8: 33 | CY8: 44 | CZ8: 3 | DC8: 33 | DF8: 3 | DI8: 22 | DL8: 1 | DO8: 88
A9: Lane 8 | B9: 3 | E9: 33 | G9: 11 | H9: 3 | K9: 33 | N9: 3 | Q9: 33 | T9: 3 | W9: 33 | Z9: 3 | AC9: 33 | AE9: 11 | AF9: 3 | AI9: 33 | AL9: 3 | AO9: 33 | AR9: 3 | AU9: 33 | AX9: 1 | BA9: 11 | BC9: 11 | BD9: 1 | BG9: 11 | BJ9: 1 | BM9: 11 | BP9: 1 | BS9: 11 | BV9: 5 | BY9: 55 | CA9: 11 | CB9: 5 | CE9: 55 | CH9: 5 | CK9: 55 | CN9: 5 | CQ9: 55 | CT9: 1 | CW9: 11 | CY9: 11 | CZ9: 1 | DC9: 11 | DF9: 4 | DI9: 33 | DL9: 2 | DO9: 11
B11: Non Counters | H11: Non Counters | N11: Non Counters | T11: Non Counters | Z11: Non Counters | AF11: Non Counters | AL11: Non Counters | AR11: Non Counters | AX11: Non Counters | BD11: Non Counters | BJ11: Non Counters | BP11: Non Counters | BV11: Non Counters | CB11: Non Counters | CH11: Non Counters | CN11: Non Counters | CT11: Non Counters | CZ11: Non Counters | DF11: Non Counters | DL11: Non Counters
B12: =15-COUNTBLANK(B13:B27) -> 0 | H12: =15-COUNTBLANK(H13:H27) -> 0 | N12: =15-COUNTBLANK(N13:N27) -> 0 | T12: =15-COUNTBLANK(T13:T27) -> 0 | Z12: =15-COUNTBLANK(Z13:Z27) -> 0 | AF12: =15-COUNTBLANK(AF13:AF27) -> 0 | AL12: =15-COUNTBLANK(AL13:AL27) -> 0 | AR12: =15-COUNTBLANK(AR13:AR27) -> 0 | AX12: =15-COUNTBLANK(AX13:AX27) -> 0 | BD12: =15-COUNTBLANK(BD13:BD27) -> 0 | BJ12: =15-COUNTBLANK(BJ13:BJ27) -> 0 | BP12: =15-COUNTBLANK(BP13:BP27) -> 0 | BV12: =15-COUNTBLANK(BV13:BV27) -> 0 | CB12: =15-COUNTBLANK(CB13:CB27) -> 0 | CH12: =15-COUNTBLANK(CH13:CH27) -> 0 | CN12: =15-COUNTBLANK(CN13:CN27) -> 0 | CT12: =15-COUNTBLANK(CT13:CT27) -> 0 | CZ12: =15-COUNTBLANK(CZ13:CZ27) -> 0 | DF12: =15-COUNTBLANK(DF13:DF27) -> 0
B13: {=IFERROR(INDEX('U17 Non Counters'!$G$3:$G$176, SMALL(IF('Lane Draws'!$C$1='U17 Non Counters'!$F$3:$F$176, ROW('U17 Non Counters'!$F$3:$F$176)-MIN(ROW('U17 Non Counters'!$F$3:$F$176))+1, ""), ROW(B1))),"")} | H13: {=IFERROR(INDEX('U20 Non Counters'!$G$3:$G$116, SMALL(IF('Lane Draws'!$I$1='U20 Non Counters'!$F$3:$F$116, ROW('U20 Non Counters'!$F$3:$F$116)-MIN(ROW('U20 Non Counters'!$F$3:$F$116))+1, ""), ROW(B1))),"")} | N13: {=IFERROR(INDEX('U17 Non Counters'!$B$3:$B$116, SMALL(IF('Lane Draws'!$O$1='U17 Non Counters'!$A$3:$A$116, ROW('U17 Non Counters'!$A$3:$A$116)-MIN(ROW('U17 Non Counters'!$A$3:$A$116))+1, ""), ROW(B1))),"")} | T13: {=IFERROR(INDEX('U20 Non Counters'!$B$3:$B$86, SMALL(IF('Lane Draws'!$U$1='U20 Non Counters'!$A$3:$A$86, ROW('U20 Non Counters'!$A$3:$A$86)-MIN(ROW('U20 Non Counters'!$A$3:$A$86))+1, ""), ROW(B1))),"")} | Z13: {=IFERROR(INDEX('U17 Non Counters'!$G$3:$G$86, SMALL(IF('Lane Draws'!$AA$1='U17 Non Counters'!$F$3:$F$86, ROW('U17 Non Counters'!$F$3:$F$86)-MIN(ROW('U17 Non Counters'!$F$3:$F$86))+1, ""), ROW(B1))),"")} | AF13: {=IFERROR(INDEX('U20 Non Counters'!$G$3:$G$86, SMALL(IF('Lane Draws'!$AG$1='U20 Non Counters'!$F$3:$F$86, ROW('U20 Non Counters'!$F$3:$F$86)-MIN(ROW('U20 Non Counters'!$F$3:$F$86))+1, ""), ROW(B1))),"")} | AL13: {=IFERROR(INDEX('U17 Non Counters'!$B$3:$B$86, SMALL(IF('Lane Draws'!$AM$1='U17 Non Counters'!$A$3:$A$86, ROW('U17 Non Counters'!$A$3:$A$86)-MIN(ROW('U17 Non Counters'!$A$3:$A$86))+1, ""), ROW(B1))),"")} | AR13: {=IFERROR(INDEX('U20 Non Counters'!$B$3:$B$86, SMALL(IF('Lane Draws'!$AS$1='U20 Non Counters'!$A$3:$A$86, ROW('U20 Non Counters'!$A$3:$A$86)-MIN(ROW('U20 Non Counters'!$A$3:$A$86))+1, ""), ROW(B1))),"")} | AX13: {=IFERROR(INDEX('U17 Non Counters'!$G$3:$G$86, SMALL(IF('Lane Draws'!$AY$1='U17 Non Counters'!$F$3:$F$86, ROW('U17 Non Counters'!$F$3:$F$86)-MIN(ROW('U17 Non Counters'!$F$3:$F$86))+1, ""), ROW(B1))),"")} | BD13: {=IFERROR(INDEX('U20 Non Counters'!$G$3:$G$86, SMALL(IF('Lane Draws'!$BE$1='U20 Non Counters'!$F$3:$F$86, ROW('U20 Non Counters'!$F$3:$F$86)-MIN(ROW('U20 Non Counters'!$F$3:$F$86))+1, ""), ROW(B1))),"")} | BJ13: {=IFERROR(INDEX('U17 Non Counters'!$B$3:$B$86, SMALL(IF('Lane Draws'!$BK$1='U17 Non Counters'!$A$3:$A$86, ROW('U17 Non Counters'!$A$3:$A$86)-MIN(ROW('U17 Non Counters'!$A$3:$A$86))+1, ""), ROW(H1))),"")} | BP13: {=IFERROR(INDEX('U20 Non Counters'!$B$3:$B$86, SMALL(IF('Lane Draws'!$BQ$1='U20 Non Counters'!$A$3:$A$86, ROW('U20 Non Counters'!$A$3:$A$86)-MIN(ROW('U20 Non Counters'!$A$3:$A$86))+1, ""), ROW(Z1))),"")} | BV13: {=IFERROR(INDEX('U17 Non Counters'!$G$3:$G$86, SMALL(IF('Lane Draws'!$BW$1='U17 Non Counters'!$F$3:$F$86, ROW('U17 Non Counters'!$F$3:$F$86)-MIN(ROW('U17 Non Counters'!$F$3:$F$86))+1, ""), ROW(Z1))),"")} | CB13: {=IFERROR(INDEX('U20 Non Counters'!$G$3:$G$86, SMALL(IF('Lane Draws'!$CC$1='U20 Non Counters'!$F$3:$F$86, ROW('U20 Non Counters'!$F$3:$F$86)-MIN(ROW('U20 Non Counters'!$F$3:$F$86))+1, ""), ROW(B1))),"")} | CH13: {=IFERROR(INDEX('U17 Non Counters'!$B$3:$B$86, SMALL(IF('Lane Draws'!$CI$1='U17 Non Counters'!$A$3:$A$86, ROW('U17 Non Counters'!$A$3:$A$86)-MIN(ROW('U17 Non Counters'!$A$3:$A$86))+1, ""), ROW(H1))),"")} | CN13: {=IFERROR(INDEX('U20 Non Counters'!$B$3:$B$86, SMALL(IF('Lane Draws'!$CO$1='U20 Non Counters'!$A$3:$A$86, ROW('U20 Non Counters'!$A$3:$A$86)-MIN(ROW('U20 Non Counters'!$A$3:$A$86))+1, ""), ROW(Z1))),"")}
B14: {=IFERROR(INDEX('U17 Non Counters'!$G$3:$G$176, SMALL(IF('Lane Draws'!$C$1='U17 Non Counters'!$F$3:$F$176, ROW('U17 Non Counters'!$F$3:$F$176)-MIN(ROW('U17 Non Counters'!$F$3:$F$176))+1, ""), ROW(B2))),"")} | H14: {=IFERROR(INDEX('U20 Non Counters'!$G$3:$G$116, SMALL(IF('Lane Draws'!$I$1='U20 Non Counters'!$F$3:$F$116, ROW('U20 Non Counters'!$F$3:$F$116)-MIN(ROW('U20 Non Counters'!$F$3:$F$116))+1, ""), ROW(B2))),"")} | N14: {=IFERROR(INDEX('U17 Non Counters'!$B$3:$B$116, SMALL(IF('Lane Draws'!$O$1='U17 Non Counters'!$A$3:$A$116, ROW('U17 Non Counters'!$A$3:$A$116)-MIN(ROW('U17 Non Counters'!$A$3:$A$116))+1, ""), ROW(B2))),"")} | T14: {=IFERROR(INDEX('U20 Non Counters'!$B$3:$B$86, SMALL(IF('Lane Draws'!$U$1='U20 Non Counters'!$A$3:$A$86, ROW('U20 Non Counters'!$A$3:$A$86)-MIN(ROW('U20 Non Counters'!$A$3:$A$86))+1, ""), ROW(B2))),"")} | Z14: {=IFERROR(INDEX('U17 Non Counters'!$G$3:$G$86, SMALL(IF('Lane Draws'!$AA$1='U17 Non Counters'!$F$3:$F$86, ROW('U17 Non Counters'!$F$3:$F$86)-MIN(ROW('U17 Non Counters'!$F$3:$F$86))+1, ""), ROW(B2))),"")} | AF14: {=IFERROR(INDEX('U20 Non Counters'!$G$3:$G$86, SMALL(IF('Lane Draws'!$AG$1='U20 Non Counters'!$F$3:$F$86, ROW('U20 Non Counters'!$F$3:$F$86)-MIN(ROW('U20 Non Counters'!$F$3:$F$86))+1, ""), ROW(B2))),"")} | AL14: {=IFERROR(INDEX('U17 Non Counters'!$B$3:$B$86, SMALL(IF('Lane Draws'!$AM$1='U17 Non Counters'!$A$3:$A$86, ROW('U17 Non Counters'!$A$3:$A$86)-MIN(ROW('U17 Non Counters'!$A$3:$A$86))+1, ""), ROW(B2))),"")} | AR14: {=IFERROR(INDEX('U20 Non Counters'!$B$3:$B$86, SMALL(IF('Lane Draws'!$AS$1='U20 Non Counters'!$A$3:$A$86, ROW('U20 Non Counters'!$A$3:$A$86)-MIN(ROW('U20 Non Counters'!$A$3:$A$86))+1, ""), ROW(B2))),"")} | AX14: {=IFERROR(INDEX('U17 Non Counters'!$G$3:$G$86, SMALL(IF('Lane Draws'!$AY$1='U17 Non Counters'!$F$3:$F$86, ROW('U17 Non Counters'!$F$3:$F$86)-MIN(ROW('U17 Non Counters'!$F$3:$F$86))+1, ""), ROW(B2))),"")} | BD14: {=IFERROR(INDEX('U20 Non Counters'!$G$3:$G$86, SMALL(IF('Lane Draws'!$BE$1='U20 Non Counters'!$F$3:$F$86, ROW('U20 Non Counters'!$F$3:$F$86)-MIN(ROW('U20 Non Counters'!$F$3:$F$86))+1, ""), ROW(B2))),"")} | BJ14: {=IFERROR(INDEX('U17 Non Counters'!$B$3:$B$86, SMALL(IF('Lane Draws'!$BK$1='U17 Non Counters'!$A$3:$A$86, ROW('U17 Non Counters'!$A$3:$A$86)-MIN(ROW('U17 Non Counters'!$A$3:$A$86))+1, ""), ROW(H2))),"")} | BP14: {=IFERROR(INDEX('U20 Non Counters'!$B$3:$B$86, SMALL(IF('Lane Draws'!$BQ$1='U20 Non Counters'!$A$3:$A$86, ROW('U20 Non Counters'!$A$3:$A$86)-MIN(ROW('U20 Non Counters'!$A$3:$A$86))+1, ""), ROW(Z2))),"")} | BV14: {=IFERROR(INDEX('U17 Non Counters'!$G$3:$G$86, SMALL(IF('Lane Draws'!$BW$1='U17 Non Counters'!$F$3:$F$86, ROW('U17 Non Counters'!$F$3:$F$86)-MIN(ROW('U17 Non Counters'!$F$3:$F$86))+1, ""), ROW(Z2))),"")} | CB14: {=IFERROR(INDEX('U20 Non Counters'!$G$3:$G$86, SMALL(IF('Lane Draws'!$CC$1='U20 Non Counters'!$F$3:$F$86, ROW('U20 Non Counters'!$F$3:$F$86)-MIN(ROW('U20 Non Counters'!$F$3:$F$86))+1, ""), ROW(B2))),"")} | CH14: {=IFERROR(INDEX('U17 Non Counters'!$B$3:$B$86, SMALL(IF('Lane Draws'!$CI$1='U17 Non Counters'!$A$3:$A$86, ROW('U17 Non Counters'!$A$3:$A$86)-MIN(ROW('U17 Non Counters'!$A$3:$A$86))+1, ""), ROW(H2))),"")} | CN14: {=IFERROR(INDEX('U20 Non Counters'!$B$3:$B$86, SMALL(IF('Lane Draws'!$CO$1='U20 Non Counters'!$A$3:$A$86, ROW('U20 Non Counters'!$A$3:$A$86)-MIN(ROW('U20 Non Counters'!$A$3:$A$86))+1, ""), ROW(Z2))),"")}
B15: {=IFERROR(INDEX('U17 Non Counters'!$G$3:$G$176, SMALL(IF('Lane Draws'!$C$1='U17 Non Counters'!$F$3:$F$176, ROW('U17 Non Counters'!$F$3:$F$176)-MIN(ROW('U17 Non Counters'!$F$3:$F$176))+1, ""), ROW(B3))),"")} | H15: {=IFERROR(INDEX('U20 Non Counters'!$G$3:$G$116, SMALL(IF('Lane Draws'!$I$1='U20 Non Counters'!$F$3:$F$116, ROW('U20 Non Counters'!$F$3:$F$116)-MIN(ROW('U20 Non Counters'!$F$3:$F$116))+1, ""), ROW(B3))),"")} | N15: {=IFERROR(INDEX('U17 Non Counters'!$B$3:$B$116, SMALL(IF('Lane Draws'!$O$1='U17 Non Counters'!$A$3:$A$116, ROW('U17 Non Counters'!$A$3:$A$116)-MIN(ROW('U17 Non Counters'!$A$3:$A$116))+1, ""), ROW(B3))),"")} | T15: {=IFERROR(INDEX('U20 Non Counters'!$B$3:$B$86, SMALL(IF('Lane Draws'!$U$1='U20 Non Counters'!$A$3:$A$86, ROW('U20 Non Counters'!$A$3:$A$86)-MIN(ROW('U20 Non Counters'!$A$3:$A$86))+1, ""), ROW(B3))),"")} | Z15: {=IFERROR(INDEX('U17 Non Counters'!$G$3:$G$86, SMALL(IF('Lane Draws'!$AA$1='U17 Non Counters'!$F$3:$F$86, ROW('U17 Non Counters'!$F$3:$F$86)-MIN(ROW('U17 Non Counters'!$F$3:$F$86))+1, ""), ROW(B3))),"")} | AF15: {=IFERROR(INDEX('U20 Non Counters'!$G$3:$G$86, SMALL(IF('Lane Draws'!$AG$1='U20 Non Counters'!$F$3:$F$86, ROW('U20 Non Counters'!$F$3:$F$86)-MIN(ROW('U20 Non Counters'!$F$3:$F$86))+1, ""), ROW(B3))),"")} | AL15: {=IFERROR(INDEX('U17 Non Counters'!$B$3:$B$86, SMALL(IF('Lane Draws'!$AM$1='U17 Non Counters'!$A$3:$A$86, ROW('U17 Non Counters'!$A$3:$A$86)-MIN(ROW('U17 Non Counters'!$A$3:$A$86))+1, ""), ROW(B3))),"")} | AR15: {=IFERROR(INDEX('U20 Non Counters'!$B$3:$B$86, SMALL(IF('Lane Draws'!$AS$1='U20 Non Counters'!$A$3:$A$86, ROW('U20 Non Counters'!$A$3:$A$86)-MIN(ROW('U20 Non Counters'!$A$3:$A$86))+1, ""), ROW(B3))),"")} | AX15: {=IFERROR(INDEX('U17 Non Counters'!$G$3:$G$86, SMALL(IF('Lane Draws'!$AY$1='U17 Non Counters'!$F$3:$F$86, ROW('U17 Non Counters'!$F$3:$F$86)-MIN(ROW('U17 Non Counters'!$F$3:$F$86))+1, ""), ROW(B3))),"")} | BD15: {=IFERROR(INDEX('U20 Non Counters'!$G$3:$G$86, SMALL(IF('Lane Draws'!$BE$1='U20 Non Counters'!$F$3:$F$86, ROW('U20 Non Counters'!$F$3:$F$86)-MIN(ROW('U20 Non Counters'!$F$3:$F$86))+1, ""), ROW(B3))),"")} | BJ15: {=IFERROR(INDEX('U17 Non Counters'!$B$3:$B$86, SMALL(IF('Lane Draws'!$BK$1='U17 Non Counters'!$A$3:$A$86, ROW('U17 Non Counters'!$A$3:$A$86)-MIN(ROW('U17 Non Counters'!$A$3:$A$86))+1, ""), ROW(H3))),"")} | BP15: {=IFERROR(INDEX('U20 Non Counters'!$B$3:$B$86, SMALL(IF('Lane Draws'!$BQ$1='U20 Non Counters'!$A$3:$A$86, ROW('U20 Non Counters'!$A$3:$A$86)-MIN(ROW('U20 Non Counters'!$A$3:$A$86))+1, ""), ROW(Z3))),"")} | BV15: {=IFERROR(INDEX('U17 Non Counters'!$G$3:$G$86, SMALL(IF('Lane Draws'!$BW$1='U17 Non Counters'!$F$3:$F$86, ROW('U17 Non Counters'!$F$3:$F$86)-MIN(ROW('U17 Non Counters'!$F$3:$F$86))+1, ""), ROW(Z3))),"")} | CB15: {=IFERROR(INDEX('U20 Non Counters'!$G$3:$G$86, SMALL(IF('Lane Draws'!$CC$1='U20 Non Counters'!$F$3:$F$86, ROW('U20 Non Counters'!$F$3:$F$86)-MIN(ROW('U20 Non Counters'!$F$3:$F$86))+1, ""), ROW(B3))),"")} | CH15: {=IFERROR(INDEX('U17 Non Counters'!$B$3:$B$86, SMALL(IF('Lane Draws'!$CI$1='U17 Non Counters'!$A$3:$A$86, ROW('U17 Non Counters'!$A$3:$A$86)-MIN(ROW('U17 Non Counters'!$A$3:$A$86))+1, ""), ROW(H3))),"")} | CN15: {=IFERROR(INDEX('U20 Non Counters'!$B$3:$B$86, SMALL(IF('Lane Draws'!$CO$1='U20 Non Counters'!$A$3:$A$86, ROW('U20 Non Counters'!$A$3:$A$86)-MIN(ROW('U20 Non Counters'!$A$3:$A$86))+1, ""), ROW(Z3))),"")}
B16: {=IFERROR(INDEX('U17 Non Counters'!$G$3:$G$176, SMALL(IF('Lane Draws'!$C$1='U17 Non Counters'!$F$3:$F$176, ROW('U17 Non Counters'!$F$3:$F$176)-MIN(ROW('U17 Non Counters'!$F$3:$F$176))+1, ""), ROW(B4))),"")} | H16: {=IFERROR(INDEX('U20 Non Counters'!$G$3:$G$116, SMALL(IF('Lane Draws'!$I$1='U20 Non Counters'!$F$3:$F$116, ROW('U20 Non Counters'!$F$3:$F$116)-MIN(ROW('U20 Non Counters'!$F$3:$F$116))+1, ""), ROW(B4))),"")} | N16: {=IFERROR(INDEX('U17 Non Counters'!$B$3:$B$116, SMALL(IF('Lane Draws'!$O$1='U17 Non Counters'!$A$3:$A$116, ROW('U17 Non Counters'!$A$3:$A$116)-MIN(ROW('U17 Non Counters'!$A$3:$A$116))+1, ""), ROW(B4))),"")} | T16: {=IFERROR(INDEX('U20 Non Counters'!$B$3:$B$86, SMALL(IF('Lane Draws'!$U$1='U20 Non Counters'!$A$3:$A$86, ROW('U20 Non Counters'!$A$3:$A$86)-MIN(ROW('U20 Non Counters'!$A$3:$A$86))+1, ""), ROW(B4))),"")} | Z16: {=IFERROR(INDEX('U17 Non Counters'!$G$3:$G$86, SMALL(IF('Lane Draws'!$AA$1='U17 Non Counters'!$F$3:$F$86, ROW('U17 Non Counters'!$F$3:$F$86)-MIN(ROW('U17 Non Counters'!$F$3:$F$86))+1, ""), ROW(B4))),"")} | AF16: {=IFERROR(INDEX('U20 Non Counters'!$G$3:$G$86, SMALL(IF('Lane Draws'!$AG$1='U20 Non Counters'!$F$3:$F$86, ROW('U20 Non Counters'!$F$3:$F$86)-MIN(ROW('U20 Non Counters'!$F$3:$F$86))+1, ""), ROW(B4))),"")} | AL16: {=IFERROR(INDEX('U17 Non Counters'!$B$3:$B$86, SMALL(IF('Lane Draws'!$AM$1='U17 Non Counters'!$A$3:$A$86, ROW('U17 Non Counters'!$A$3:$A$86)-MIN(ROW('U17 Non Counters'!$A$3:$A$86))+1, ""), ROW(B4))),"")} | AR16: {=IFERROR(INDEX('U20 Non Counters'!$B$3:$B$86, SMALL(IF('Lane Draws'!$AS$1='U20 Non Counters'!$A$3:$A$86, ROW('U20 Non Counters'!$A$3:$A$86)-MIN(ROW('U20 Non Counters'!$A$3:$A$86))+1, ""), ROW(B4))),"")} | AX16: {=IFERROR(INDEX('U17 Non Counters'!$G$3:$G$86, SMALL(IF('Lane Draws'!$AY$1='U17 Non Counters'!$F$3:$F$86, ROW('U17 Non Counters'!$F$3:$F$86)-MIN(ROW('U17 Non Counters'!$F$3:$F$86))+1, ""), ROW(B4))),"")} | BD16: {=IFERROR(INDEX('U20 Non Counters'!$G$3:$G$86, SMALL(IF('Lane Draws'!$BE$1='U20 Non Counters'!$F$3:$F$86, ROW('U20 Non Counters'!$F$3:$F$86)-MIN(ROW('U20 Non Counters'!$F$3:$F$86))+1, ""), ROW(B4))),"")} | BJ16: {=IFERROR(INDEX('U17 Non Counters'!$B$3:$B$86, SMALL(IF('Lane Draws'!$BK$1='U17 Non Counters'!$A$3:$A$86, ROW('U17 Non Counters'!$A$3:$A$86)-MIN(ROW('U17 Non Counters'!$A$3:$A$86))+1, ""), ROW(H4))),"")} | BP16: {=IFERROR(INDEX('U20 Non Counters'!$B$3:$B$86, SMALL(IF('Lane Draws'!$BQ$1='U20 Non Counters'!$A$3:$A$86, ROW('U20 Non Counters'!$A$3:$A$86)-MIN(ROW('U20 Non Counters'!$A$3:$A$86))+1, ""), ROW(Z4))),"")} | BV16: {=IFERROR(INDEX('U17 Non Counters'!$G$3:$G$86, SMALL(IF('Lane Draws'!$BW$1='U17 Non Counters'!$F$3:$F$86, ROW('U17 Non Counters'!$F$3:$F$86)-MIN(ROW('U17 Non Counters'!$F$3:$F$86))+1, ""), ROW(Z4))),"")} | CB16: {=IFERROR(INDEX('U20 Non Counters'!$G$3:$G$86, SMALL(IF('Lane Draws'!$CC$1='U20 Non Counters'!$F$3:$F$86, ROW('U20 Non Counters'!$F$3:$F$86)-MIN(ROW('U20 Non Counters'!$F$3:$F$86))+1, ""), ROW(B4))),"")} | CH16: {=IFERROR(INDEX('U17 Non Counters'!$B$3:$B$86, SMALL(IF('Lane Draws'!$CI$1='U17 Non Counters'!$A$3:$A$86, ROW('U17 Non Counters'!$A$3:$A$86)-MIN(ROW('U17 Non Counters'!$A$3:$A$86))+1, ""), ROW(H4))),"")} | CN16: {=IFERROR(INDEX('U20 Non Counters'!$B$3:$B$86, SMALL(IF('Lane Draws'!$CO$1='U20 Non Counters'!$A$3:$A$86, ROW('U20 Non Counters'!$A$3:$A$86)-MIN(ROW('U20 Non Counters'!$A$3:$A$86))+1, ""), ROW(Z4))),"")}
B17: {=IFERROR(INDEX('U17 Non Counters'!$G$3:$G$176, SMALL(IF('Lane Draws'!$C$1='U17 Non Counters'!$F$3:$F$176, ROW('U17 Non Counters'!$F$3:$F$176)-MIN(ROW('U17 Non Counters'!$F$3:$F$176))+1, ""), ROW(B5))),"")} | H17: {=IFERROR(INDEX('U20 Non Counters'!$G$3:$G$116, SMALL(IF('Lane Draws'!$I$1='U20 Non Counters'!$F$3:$F$116, ROW('U20 Non Counters'!$F$3:$F$116)-MIN(ROW('U20 Non Counters'!$F$3:$F$116))+1, ""), ROW(B5))),"")} | N17: {=IFERROR(INDEX('U17 Non Counters'!$B$3:$B$116, SMALL(IF('Lane Draws'!$O$1='U17 Non Counters'!$A$3:$A$116, ROW('U17 Non Counters'!$A$3:$A$116)-MIN(ROW('U17 Non Counters'!$A$3:$A$116))+1, ""), ROW(B5))),"")} | T17: {=IFERROR(INDEX('U20 Non Counters'!$B$3:$B$86, SMALL(IF('Lane Draws'!$U$1='U20 Non Counters'!$A$3:$A$86, ROW('U20 Non Counters'!$A$3:$A$86)-MIN(ROW('U20 Non Counters'!$A$3:$A$86))+1, ""), ROW(B5))),"")} | Z17: {=IFERROR(INDEX('U17 Non Counters'!$G$3:$G$86, SMALL(IF('Lane Draws'!$AA$1='U17 Non Counters'!$F$3:$F$86, ROW('U17 Non Counters'!$F$3:$F$86)-MIN(ROW('U17 Non Counters'!$F$3:$F$86))+1, ""), ROW(B5))),"")} | AF17: {=IFERROR(INDEX('U20 Non Counters'!$G$3:$G$86, SMALL(IF('Lane Draws'!$AG$1='U20 Non Counters'!$F$3:$F$86, ROW('U20 Non Counters'!$F$3:$F$86)-MIN(ROW('U20 Non Counters'!$F$3:$F$86))+1, ""), ROW(B5))),"")} | AL17: {=IFERROR(INDEX('U17 Non Counters'!$B$3:$B$86, SMALL(IF('Lane Draws'!$AM$1='U17 Non Counters'!$A$3:$A$86, ROW('U17 Non Counters'!$A$3:$A$86)-MIN(ROW('U17 Non Counters'!$A$3:$A$86))+1, ""), ROW(B5))),"")} | AR17: {=IFERROR(INDEX('U20 Non Counters'!$B$3:$B$86, SMALL(IF('Lane Draws'!$AS$1='U20 Non Counters'!$A$3:$A$86, ROW('U20 Non Counters'!$A$3:$A$86)-MIN(ROW('U20 Non Counters'!$A$3:$A$86))+1, ""), ROW(B5))),"")} | AX17: {=IFERROR(INDEX('U17 Non Counters'!$G$3:$G$86, SMALL(IF('Lane Draws'!$AY$1='U17 Non Counters'!$F$3:$F$86, ROW('U17 Non Counters'!$F$3:$F$86)-MIN(ROW('U17 Non Counters'!$F$3:$F$86))+1, ""), ROW(B5))),"")} | BD17: {=IFERROR(INDEX('U20 Non Counters'!$G$3:$G$86, SMALL(IF('Lane Draws'!$BE$1='U20 Non Counters'!$F$3:$F$86, ROW('U20 Non Counters'!$F$3:$F$86)-MIN(ROW('U20 Non Counters'!$F$3:$F$86))+1, ""), ROW(B5))),"")} | BJ17: {=IFERROR(INDEX('U17 Non Counters'!$B$3:$B$86, SMALL(IF('Lane Draws'!$BK$1='U17 Non Counters'!$A$3:$A$86, ROW('U17 Non Counters'!$A$3:$A$86)-MIN(ROW('U17 Non Counters'!$A$3:$A$86))+1, ""), ROW(H5))),"")} | BP17: {=IFERROR(INDEX('U20 Non Counters'!$B$3:$B$86, SMALL(IF('Lane Draws'!$BQ$1='U20 Non Counters'!$A$3:$A$86, ROW('U20 Non Counters'!$A$3:$A$86)-MIN(ROW('U20 Non Counters'!$A$3:$A$86))+1, ""), ROW(Z5))),"")} | BV17: {=IFERROR(INDEX('U17 Non Counters'!$G$3:$G$86, SMALL(IF('Lane Draws'!$BW$1='U17 Non Counters'!$F$3:$F$86, ROW('U17 Non Counters'!$F$3:$F$86)-MIN(ROW('U17 Non Counters'!$F$3:$F$86))+1, ""), ROW(Z5))),"")} | CB17: {=IFERROR(INDEX('U20 Non Counters'!$G$3:$G$86, SMALL(IF('Lane Draws'!$CC$1='U20 Non Counters'!$F$3:$F$86, ROW('U20 Non Counters'!$F$3:$F$86)-MIN(ROW('U20 Non Counters'!$F$3:$F$86))+1, ""), ROW(B5))),"")} | CH17: {=IFERROR(INDEX('U17 Non Counters'!$B$3:$B$86, SMALL(IF('Lane Draws'!$CI$1='U17 Non Counters'!$A$3:$A$86, ROW('U17 Non Counters'!$A$3:$A$86)-MIN(ROW('U17 Non Counters'!$A$3:$A$86))+1, ""), ROW(H5))),"")} | CN17: {=IFERROR(INDEX('U20 Non Counters'!$B$3:$B$86, SMALL(IF('Lane Draws'!$CO$1='U20 Non Counters'!$A$3:$A$86, ROW('U20 Non Counters'!$A$3:$A$86)-MIN(ROW('U20 Non Counters'!$A$3:$A$86))+1, ""), ROW(Z5))),"")}
B18: {=IFERROR(INDEX('U17 Non Counters'!$G$3:$G$176, SMALL(IF('Lane Draws'!$C$1='U17 Non Counters'!$F$3:$F$176, ROW('U17 Non Counters'!$F$3:$F$176)-MIN(ROW('U17 Non Counters'!$F$3:$F$176))+1, ""), ROW(B6))),"")} | H18: {=IFERROR(INDEX('U20 Non Counters'!$G$3:$G$116, SMALL(IF('Lane Draws'!$I$1='U20 Non Counters'!$F$3:$F$116, ROW('U20 Non Counters'!$F$3:$F$116)-MIN(ROW('U20 Non Counters'!$F$3:$F$116))+1, ""), ROW(B6))),"")} | N18: {=IFERROR(INDEX('U17 Non Counters'!$B$3:$B$116, SMALL(IF('Lane Draws'!$O$1='U17 Non Counters'!$A$3:$A$116, ROW('U17 Non Counters'!$A$3:$A$116)-MIN(ROW('U17 Non Counters'!$A$3:$A$116))+1, ""), ROW(B6))),"")} | T18: {=IFERROR(INDEX('U20 Non Counters'!$B$3:$B$86, SMALL(IF('Lane Draws'!$U$1='U20 Non Counters'!$A$3:$A$86, ROW('U20 Non Counters'!$A$3:$A$86)-MIN(ROW('U20 Non Counters'!$A$3:$A$86))+1, ""), ROW(B6))),"")} | Z18: {=IFERROR(INDEX('U17 Non Counters'!$G$3:$G$86, SMALL(IF('Lane Draws'!$AA$1='U17 Non Counters'!$F$3:$F$86, ROW('U17 Non Counters'!$F$3:$F$86)-MIN(ROW('U17 Non Counters'!$F$3:$F$86))+1, ""), ROW(B6))),"")} | AF18: {=IFERROR(INDEX('U20 Non Counters'!$G$3:$G$86, SMALL(IF('Lane Draws'!$AG$1='U20 Non Counters'!$F$3:$F$86, ROW('U20 Non Counters'!$F$3:$F$86)-MIN(ROW('U20 Non Counters'!$F$3:$F$86))+1, ""), ROW(B6))),"")} | AL18: {=IFERROR(INDEX('U17 Non Counters'!$B$3:$B$86, SMALL(IF('Lane Draws'!$AM$1='U17 Non Counters'!$A$3:$A$86, ROW('U17 Non Counters'!$A$3:$A$86)-MIN(ROW('U17 Non Counters'!$A$3:$A$86))+1, ""), ROW(B6))),"")} | AR18: {=IFERROR(INDEX('U20 Non Counters'!$B$3:$B$86, SMALL(IF('Lane Draws'!$AS$1='U20 Non Counters'!$A$3:$A$86, ROW('U20 Non Counters'!$A$3:$A$86)-MIN(ROW('U20 Non Counters'!$A$3:$A$86))+1, ""), ROW(B6))),"")} | AX18: {=IFERROR(INDEX('U17 Non Counters'!$G$3:$G$86, SMALL(IF('Lane Draws'!$AY$1='U17 Non Counters'!$F$3:$F$86, ROW('U17 Non Counters'!$F$3:$F$86)-MIN(ROW('U17 Non Counters'!$F$3:$F$86))+1, ""), ROW(B6))),"")} | BD18: {=IFERROR(INDEX('U20 Non Counters'!$G$3:$G$86, SMALL(IF('Lane Draws'!$BE$1='U20 Non Counters'!$F$3:$F$86, ROW('U20 Non Counters'!$F$3:$F$86)-MIN(ROW('U20 Non Counters'!$F$3:$F$86))+1, ""), ROW(B6))),"")} | BJ18: {=IFERROR(INDEX('U17 Non Counters'!$B$3:$B$86, SMALL(IF('Lane Draws'!$BK$1='U17 Non Counters'!$A$3:$A$86, ROW('U17 Non Counters'!$A$3:$A$86)-MIN(ROW('U17 Non Counters'!$A$3:$A$86))+1, ""), ROW(H6))),"")} | BP18: {=IFERROR(INDEX('U20 Non Counters'!$B$3:$B$86, SMALL(IF('Lane Draws'!$BQ$1='U20 Non Counters'!$A$3:$A$86, ROW('U20 Non Counters'!$A$3:$A$86)-MIN(ROW('U20 Non Counters'!$A$3:$A$86))+1, ""), ROW(Z6))),"")} | BV18: {=IFERROR(INDEX('U17 Non Counters'!$G$3:$G$86, SMALL(IF('Lane Draws'!$BW$1='U17 Non Counters'!$F$3:$F$86, ROW('U17 Non Counters'!$F$3:$F$86)-MIN(ROW('U17 Non Counters'!$F$3:$F$86))+1, ""), ROW(Z6))),"")} | CB18: {=IFERROR(INDEX('U20 Non Counters'!$G$3:$G$86, SMALL(IF('Lane Draws'!$CC$1='U20 Non Counters'!$F$3:$F$86, ROW('U20 Non Counters'!$F$3:$F$86)-MIN(ROW('U20 Non Counters'!$F$3:$F$86))+1, ""), ROW(B6))),"")} | CH18: {=IFERROR(INDEX('U17 Non Counters'!$B$3:$B$86, SMALL(IF('Lane Draws'!$CI$1='U17 Non Counters'!$A$3:$A$86, ROW('U17 Non Counters'!$A$3:$A$86)-MIN(ROW('U17 Non Counters'!$A$3:$A$86))+1, ""), ROW(H6))),"")} | CN18: {=IFERROR(INDEX('U20 Non Counters'!$B$3:$B$86, SMALL(IF('Lane Draws'!$CO$1='U20 Non Counters'!$A$3:$A$86, ROW('U20 Non Counters'!$A$3:$A$86)-MIN(ROW('U20 Non Counters'!$A$3:$A$86))+1, ""), ROW(Z6))),"")}
