Workbook
Name _GoBack: 'Field Results'!#REF!
Name _GoBack: 'Match 3 Timetable'!$D$18
Name _GoBack: 'Start lists'!#REF!
Name _GoBack: 'Track Results'!#REF!

Sheet Match 3 Timetable
A1: YDL Match 3 | I1: 22nd June 2014
A3: Track | F3: Field
A5: Time | F5: Time
A6: 12.00pm | C6: U17M | D6: 100m H
A7: 12.20pm | C7: U17W | D7: 80m H | F7: 13.00pm | H7: U17M | I7: Pole Vault 'A' String only
A9: 13.30pm | C9: U17W | D9: 200m
A10: 13.35pm | C10: U17M | D10: 200m | F10: 13.00pm | H10: U17M | I10: Shot
A12: 14.20pm | C12: U17M | D12: 800m | F12: 14.00pm | H12: U17M | I12: High Jump
A13: 14.30pm | C13: U17M | D13: 800m
F14: 3.00pm | H14: U17W | I14: Long Jump
A15: 15.10pm | C15: U17W | D15: 100m
A16: 15.20pm | C16: U17M | D16: 100m
F17: 3.30pm | H17: U17W | I17: Shot
A18: 16.30pm | C18: U17W | D18: 1500m
A19: 16.40pm | C19: U17M | D19: 1500m
A20: 17.10pm | C20: U17M | D20: 4x100m Relay
A21: 17.15pm | C21: U17W | D21: 4x100m Relay

Sheet Teams
A1: Club | B1: A string | C1: B string
A2: AAAC | B2: 1 | C2: 11
A3: ADAC | B3: 2 | C3: 22
A4: BSAC | B4: 3 | C4: 33
A5: DHH | B5: 4 | C5: 44
A6: IH | B6: 5 | C6: 55
A7: ISA | B7: 6 | C7: 66
A8: MAC_PSH | B8: 7 | C8: 77
A9: TN | B9: 8 | C9: 88
B11: PLEASE DO NOT ALTER NAMES BELOW
A12: =B2 -> 1 | B12: =A2 -> AAAC
A13: =C2 -> 11 | B13: =A2 -> AAAC
A14: =B3 -> 2 | B14: =A3 -> ADAC
A15: =C3 -> 22 | B15: =A3 -> ADAC
A16: =B4 -> 3 | B16: =A4 -> BSAC
A17: =C4 -> 33 | B17: =A4 -> BSAC
A18: =B5 -> 4 | B18: =A5 -> DHH
A19: =C5 -> 44 | B19: =A5 -> DHH
A20: =B6 -> 5 | B20: =A6 -> IH
A21: =C6 -> 55 | B21: =A6 -> IH
A22: =B7 -> 6 | B22: =A7 -> ISA
A23: =C7 -> 66 | B23: =A7 -> ISA
A24: =B8 -> 7 | B24: =A8 -> MAC_PSH
A25: =C8 -> 77 | B25: =A8 -> MAC_PSH
A26: =B9 -> 8 | B26: =A9 -> TN
A27: =C9 -> 88 | B27: =A9 -> TN
A28: =B10 -> 0 | B28: =A10 -> 0
A29: =C10 -> 0 | B29: =A10 -> 0

Sheet AAAC-U17
B1: ABERDEEN - U17 DECLARATION SHEET
B2: TEAM DECLARATION - 2018
B4: Division | C4: North East | F4: Club | G4: Aberdeen AAC
B6: Venue | C6: Inverness | F6: Date | G6: 43212
B8: U17M | F8: U17W
B10: 100m | C10: A | D10: Tobi Fatona | F10: 100m | G10: A | H10: Mia Keogh | L10: =B10 -> 100m | M10: =F10 -> 100m
C11: B | D11: Ryan Matheson | G11: B | H11: Sophie Dickie-Moir | L11: =B12 -> 400m | M11: =F12 -> 300m
B12: 400m | C12: A | D12: James McIntosh | F12: 300m | G12: A | H12: Kirsty Purcell | L12: =B14 -> 800m | M12: =F14 -> 800m
C13: B | D13: Adam Brown | G13: B | H13: Jess Daniel | L13: =B16 -> 400mH | M13: =F16 -> 300mH
B14: 800m | C14: A | D14: Harry Hall | F14: 800m | G14: A | H14: Georgia Morrison | L14: HJ | M14: PV
C15: B | D15: Adam Brown | G15: B | H15: Caitlin Purcell | L15: HT | M15: JT
B16: 400mH | C16: A | F16: 300mH | G16: A | H16: Jane Davidson | L16: JT | M16: HJ
C17: B | G17: B | H17: Erin Williams | L17: SP
B18: 4 x 100m Relay | C18: 1 | D18: Harry Hall | F18: 4 x 100m Relay | G18: 1 | H18: Jane Davidson
C19: 2 | D19: Tobi Fatona | G19: 2 | H19: Mia Keogh
C20: 3 | D20: Ryan Matheson | G20: 3 | H20: Erin Williams
C21: 4 | D21: James McIntosh | G21: 4 | H21: Jess Daniel
B23: High Jump | C23: A | D23: Ryan Matheson | F23: Pole Vault | G23: A
C24: B | D24: James McIntosh | G24: B
B25: Hammer | C25: A | F25: Javelin | G25: A | H25: Jane Davidson
C26: B | G26: B | H26: Erin Williams
B27: Javelin | C27: A | D27: Tobi Fatona | F27: High Jump | G27: A | H27: Ella Thoms
C28: B | D28: Adam Brown | G28: B | H28: Abigail Robertson
B29: Shot Put | C29: A | D29: Ryan Matheson | F29: Shot Put | G29: A
C30: B | D30: James McIntosh | G30: B
B32: Non Counters
B33: Event | C33: No | D33: Name | F33: Event | G33: No | H33: Name
B49: Team Manager

Sheet AAAC-U20
B1: ABERDEEN - U20 DECLARATION SHEET
B2: TEAM DECLARATION - 2018
B4: Division | C4: North East | F4: Club | G4: Aberdeen AAC
B6: Venue | C6: Inverness | F6: Date | G6: 43212
B8: U20M | F8: U20W
B10: 100m | C10: A | D10: Struan Linton | F10: 100m | G10: A | H10: Rebecca Matheson | L10: =B10 -> 100m | M10: =F10 -> 100m
C11: B | D11: Callum Davidson | G11: B | H11: Rachelle Matheson | L11: =B12 -> 400m | M11: =F12 -> 400m
B12: 400m | C12: A | D12: Callum Davidson | F12: 400m | G12: A | L12: =B14 -> 800m | M12: =F14 -> 800m
C13: B | G13: B | L13: =B16 -> 400mH | M13: =F16 -> 400mH
B14: 800m | C14: A | D14: Aaron Odentz | F14: 800m | G14: A | H14: Kirsty Purcell | L14: HJ | M14: PV
C15: B | G15: B | L15: HT | M15: LJ
B16: 400mH | C16: A | F16: 400mH | G16: A | L16: LJ | M16: HJ
C17: B | G17: B | L17: SP | M17: HT
B18: 4 x 100m Relay | C18: 1 | F18: 4 x 100m Relay | G18: 1
C19: 2 | G19: 2
C20: 3 | G20: 3
C21: 4 | G21: 4
B23: High Jump | C23: A | F23: Pole Vault | G23: A
C24: B | G24: B
B25: Hammer | C25: A | D25: John Angus | F25: Long Jump | G25: A
C26: B | G26: B
B27: Long Jump | C27: A | F27: High Jump | G27: A
C28: B | G28: B
B29: Shot Put | C29: A | D29: John Angus | F29: Hammer | G29: A
C30: B | G30: B
B32: Non Counters
B33: Event | C33: No | D33: Name | F33: Event | G33: No | H33: Name
B49: Team Manager

Sheet ADAC-U17
B1: ARBROATH - U17 DECLARATION SHEET
B2: TEAM DECLARATION - 2018
B4: Division | C4: North East | F4: Club | G4: Arbroath and District AC
B6: Venue | C6: Inverness | F6: Date | G6: 43212
B8: U17M | F8: U17W
B10: 100m | C10: A | F10: 100m | G10: A | H10: Rachel Lorimer | L10: =B10 -> 100m | M10: 100m
C11: B | G11: B | H11: Lucy Nicoll | L11: =B12 -> 400m | M11: =F12 -> 300m
B12: 400m | C12: A | F12: 300m | G12: A | H12: Rachel Lorimer | L12: =B14 -> 800m | M12: =F14 -> 800m
C13: B | G13: B | H13: Lucy Nicoll | L13: =B16 -> 400mH | M13: =F16 -> 300mH
B14: 800m | C14: A | F14: 800m | G14: A | L14: HJ | M14: PV
C15: B | G15: B | L15: HT | M15: JT
B16: 400mH | C16: A | F16: 300mH | G16: A | H16: Lucy Nicoll | L16: JT | M16: HJ
C17: B | G17: B | L17: SP
B18: 4 x 100m Relay | C18: 1 | F18: 4 x 100m Relay | G18: 1
C19: 2 | G19: 2
C20: 3 | G20: 3
C21: 4 | G21: 4
B23: High Jump | C23: A | F23: Pole Vault | G23: A
C24: B | G24: B
B25: Hammer | C25: A | F25: Javelin | G25: A
C26: B | G26: B
B27: Javelin | C27: A | F27: High Jump | G27: A
C28: B | G28: B
B29: Shot Put | C29: A | G29: A
C30: B | G30: B
B32: Non Counters
B33: Event | C33: No | D33: Name | F33: Event | G33: No | H33: Name

Sheet ADAC-U20
B1: ARBROATH - U20 DECLARATION SHEET
B2: 0
B4: Division | C4: North East | F4: Club | G4: Arbroath and District AC
B6: Venue | C6: Inverness | F6: Date | G6: 43212
B8: U20M | F8: U20W
B10: 100m | C10: A | F10: 100m | G10: A | L10: =B10 -> 100m | M10: =F10 -> 100m
C11: B | G11: B | L11: =B12 -> 400m | M11: =F12 -> 400m
B12: 400m | C12: A | F12: 400m | G12: A | L12: =B14 -> 800m | M12: =F14 -> 800m
C13: B | G13: B | L13: =B16 -> 400mH | M13: =F16 -> 400mH
B14: 800m | C14: A | F14: 800m | G14: A | L14: HJ | M14: PV
C15: B | G15: B | L15: HT | M15: LJ
B16: 400mH | C16: A | F16: 400mH | G16: A | L16: LJ | M16: HJ
C17: B | G17: B | L17: SP | M17: HT
B18: 4 x 100m Relay | C18: 1 | F18: 4 x 100m Relay | G18: 1
C19: 2 | G19: 2
C20: 3 | G20: 3
C21: 4 | G21: 4
B23: High Jump | C23: A | F23: Pole Vault | G23: A
C24: B | G24: B
B25: Hammer | C25: A | F25: Long Jump | G25: A
C26: B | G26: B
B27: Long Jump | C27: A | F27: High Jump | G27: A
C28: B | G28: B
B29: Shot Put | C29: A | F29: Hammer | G29: A
C30: B | G30: B
B32: Non Counters
B33: Event | C33: No | D33: Name | F33: Event | G33: No | H33: Name
B49: Team Manager

Sheet BSAC-U17
B1: BANCHORY - U17 DECLARATION SHEET
B2: TEAM DECLARATION - 2018
B4: Division | C4: North East | F4: Club | G4: Banchory Stonehaven AC
B6: Venue | C6: Inverness | F6: Date | G6: 43212
B8: U17M | F8: U17W
B10: 100m | C10: A | D10: Craig Strachen | F10: 100m | G10: A | L10: =B10 -> 100m | M10: =F10 -> 100m
C11: B | G11: B | L11: =B12 -> 400m | M11: =F12 -> 300m
B12: 400m | C12: A | D12: Craig Strachen | F12: 300m | G12: A | L12: =B14 -> 800m | M12: =F14 -> 800m
C13: B | D13: Ralph Silcock | G13: B | L13: =B16 -> 400mH | M13: =F16 -> 300mH
B14: 800m | C14: A | F14: 800m | G14: A | L14: HJ | M14: PV
C15: B | G15: B | L15: HT | M15: JT
B16: 400mH | C16: A | F16: 300mH | G16: A | L16: JT | M16: HJ
C17: B | G17: B | L17: SP
B18: 4 x 100m Relay | C18: 1 | F18: 4 x 100m Relay | G18: 1
C19: 2 | G19: 2
C20: 3 | G20: 3
C21: 4 | G21: 4
B23: High Jump | C23: A | D23: Logan Johnstone | F23: Pole Vault | G23: A
C24: B | G24: B
B25: Hammer | C25: A | F25: Javelin | G25: A
C26: B | G26: B
B27: Javelin | C27: A | D27: Ralph Silcock | F27: High Jump | G27: A
C28: B | G28: B
B29: Shot Put | C29: A | G29: A
C30: B | G30: B
B32: Non Counters
B33: Event | C33: No | D33: Name | F33: Event | G33: No | H33: Name

Sheet BSAC-U20
B1: BANCHORY - U20 DECLARATION SHEET
B2: TEAM DECLARATION - 2018
B4: Division | C4: North East | F4: Club | G4: Banchory Stonehaven AC
B6: Venue | C6: Inverness | F6: Date | G6: 43212
B8: U20M | F8: U20W
B10: 100m | C10: A | F10: 100m | G10: A | L10: =B10 -> 100m | M10: =F10 -> 100m
C11: B | G11: B | L11: =B12 -> 400m | M11: =F12 -> 400m
B12: 400m | C12: A | F12: 400m | G12: A | L12: =B14 -> 800m | M12: =F14 -> 800m
C13: B | G13: B | L13: =B16 -> 400mH | M13: =F16 -> 400mH
B14: 800m | C14: A | F14: 800m | G14: A | L14: HJ | M14: PV
C15: B | G15: B | L15: HT | M15: LJ
B16: 400mH | C16: A | F16: 400mH | G16: A | L16: LJ | M16: HJ
C17: B | G17: B | L17: SP | M17: HT
B18: 4 x 100m Relay | C18: 1 | F18: 4 x 100m Relay | G18: 1
C19: 2 | G19: 2
C20: 3 | G20: 3
C21: 4 | G21: 4
B23: High Jump | C23: A | F23: Pole Vault | G23: A
C24: B | G24: B
B25: Hammer | C25: A | F25: Long Jump | G25: A
C26: B | G26: B
B27: Long Jump | C27: A | F27: High Jump | G27: A
C28: B | G28: B
B29: Shot Put | C29: A | F29: Hammer | G29: A
C30: B | G30: B
B32: Non Counters
B33: Event | C33: No | D33: Name | F33: Event | G33: No | H33: Name
B49: Team Manager

Sheet DHH-U17
B1: DUNDEE - U17 DECLARATION SHEET
B2: TEAM DECLARATION - 2018
B4: Division | C4: North East | F4: Club | G4: Dundee Hawkhill Harriers
B6: Venue | C6: Inverness | F6: Date | G6: 43212
B8: U17M | F8: U17W
B10: 100m | C10: A | D10: Jamie Reid | F10: 100m | G10: A | H10: Megan Gowans | L10: =B10 -> 100m | M10: =F10 -> 100m
C11: B | D11: Logan Robertson | G11: B | H11: Frankie Duncan-Morris | L11: =B12 -> 400m | M11: =F12 -> 300m
B12: 400m | C12: A | D12: Chuka Akunna | F12: 300m | G12: A | H12: Megan Gowans | L12: =B14 -> 800m | M12: =F14 -> 800m
C13: B | D13: Jamie Reid | G13: B | L13: =B16 -> 400mH | M13: =F16 -> 300mH
B14: 800m | C14: A | F14: 800m | G14: A | H14: Iona Vannet | L14: HJ | M14: PV
C15: B | D15: Luca Venditozzi | G15: B | H15: Frankie Duncan-Morris | L15: HT | M15: JT
B16: 400mH | C16: A | D16: Luca Venditozzi | F16: 300mH | G16: A | H16: Iona Esslemont | L16: JT | M16: HJ
C17: B | G17: B | L17: SP
B18: 4 x 100m Relay | C18: 1 | D18: Chuka Akunna | F18: 4 x 100m Relay | G18: 1
C19: 2 | D19: Logan Robertson | G19: 2
C20: 3 | D20: Jamie Reid | G20: 3
C21: 4 | G21: 4
B23: High Jump | C23: A | D23: Luca Venditozzi | F23: Pole Vault | G23: A
C24: B | G24: B
B25: Hammer | C25: A | D25: Chuka Akunna | F25: Javelin | G25: A | H25: Frankie Duncan-Morris
C26: B | G26: B
B27: Javelin | C27: A | D27: Luca Venditozzi | F27: High Jump | G27: A | H27: Iona Esslemont
C28: B | D28: Logan Robertson | G28: B | H28: Iona Vannet
B29: Shot Put | C29: A | D29: Chuka Akunna | G29: A
C30: B | D30: Logan Robertson | G30: B
B32: Non Counters
B33: Event | C33: No | D33: Name | F33: Event | G33: No | H33: Name

Sheet DHH-U20
B1: DUNDEE - U20 DECLARATION SHEET
B2: TEAM DECLARATION - 2018
B4: Division | C4: North East | F4: Club | G4: Dundee Hawkhill Harriers
B6: Venue | C6: Inverness | F6: Date | G6: 43212
B8: U20M | F8: U20W
B10: 100m | C10: A | D10: Angus McDonald | F10: 100m | G10: A | H10: Carly Tragham | L10: =B10 -> 100m | M10: =F10 -> 100m
C11: B | G11: B | H11: Phoebe Moncur | L11: =B12 -> 400m | M11: =F12 -> 400m
B12: 400m | C12: A | D12: Kris Hernandez | F12: 400m | G12: A | H12: Carly Tragham | L12: =B14 -> 800m | M12: =F14 -> 800m
C13: B | D13: Angus McDonald | G13: B | H13: Phoebe Moncur | L13: =B16 -> 400mH | M13: =F16 -> 400mH
B14: 800m | C14: A | D14: Kris Hernandez | F14: 800m | G14: A | H14: Sophie Kidd | L14: HJ | M14: PV
C15: B | G15: B | H15: Amy Mollison | L15: HT | M15: LJ
B16: 400mH | C16: A | F16: 400mH | G16: A | H16: Shania King | L16: LJ | M16: HJ
C17: B | G17: B | L17: SP | M17: HT
B18: 4 x 100m Relay | C18: 1 | F18: 4 x 100m Relay | G18: 1 | H18: Phoebe Moncur
C19: 2 | G19: 2 | H19: Sophie Kidd
C20: 3 | G20: 3 | H20: Carly Tragham
C21: 4 | G21: 4 | H21: Amy Mollison
B23: High Jump | C23: A | F23: Pole Vault | G23: A
C24: B | G24: B
B25: Hammer | C25: A | F25: Long Jump | G25: A | H25: Phoebe Moncur
C26: B | G26: B | H26: Chloe Brown
B27: Long Jump | C27: A | D27: Kris Hernandez | F27: High Jump | G27: A | H27: Chloe Brown
C28: B | G28: B | H28: Amy Mollison
B29: Shot Put | C29: A | D29: Angus McDonald | F29: Hammer | G29: A | H29: Chloe Brown
C30: B | G30: B | H30: Shania King
B32: Non Counters
B33: Event | C33: No | D33: Name | F33: Event | G33: No | H33: Name
B49: Team Manager

Sheet IH-U17
B1: INVERNESS - U17 DECLARATION SHEET
B2: TEAM DECLARATION - 2018
B4: Division | C4: North East | F4: Club | G4: Inverness Harriers
B6: Venue | C6: Inverness | F6: Date | G6: 43212
B8: U17M | F8: U17W
B10: 100m | C10: A | D10: Matthew Baker | F10: 100m | G10: A | H10: Mairi Darroch | L10: =B10 -> 100m | M10: =F10 -> 100m
C11: B | G11: B | H11: Rachel Johnstone | L11: =B12 -> 400m | M11: =F12 -> 300m
B12: 400m | C12: A | F12: 300m | G12: A | H12: Mairi Darroch | L12: =B14 -> 800m | M12: =F14 -> 800m
C13: B | G13: B | H13: Rachel Johnstone | L13: =B16 -> 400mH | M13: =F16 -> 300mH
B14: 800m | C14: A | D14: Gordon Manson | F14: 800m | G14: A | H14: Chloe Cheyne | L14: HJ | M14: PV
C15: B | G15: B | H15: Ruby Soldan | L15: HT | M15: JT
B16: 400mH | C16: A | F16: 300mH | G16: A | L16: JT | M16: HJ
C17: B | G17: B | L17: SP
B18: 4 x 100m Relay | C18: 1 | D18: Matthew Baker | F18: 4 x 100m Relay | G18: 1 | H18: Mairi Darroch
C19: 2 | D19: Victor Jude Eze | G19: 2 | H19: Jessica Golden
C20: 3 | D20: Ewan Spink | G20: 3 | H20: Chloe Cheyne
C21: 4 | D21: Thomas Stone | G21: 4 | H21: Rachel Johnstone
B23: High Jump | C23: A | D23: Gordon Manson | F23: Pole Vault | G23: A
C24: B | G24: B
B25: Hammer | C25: A | D25: Matt MacFarlane | F25: Javelin | G25: A | H25: Fiona Flockhart
C26: B | D26: Victor Jude Eze | G26: B | H26: Rachel MacLennan
B27: Javelin | C27: A | D27: Victor Jude Eze | F27: High Jump | G27: A | H27: Ruby Soldan
C28: B | D28: Gordon Manson | G28: B | H28: Iona Ramsay
B29: Shot Put | C29: A | D29: George Russell | G29: A
C30: B | D30: Victor Jude Eze | G30: B
B32: Non Counters
B33: Event | C33: No | D33: Name | F33: Event | G33: No | H33: Name

Sheet IH-U20
B1: INVERNESS - U20 DECLARATION SHEET
B2: TEAM DECLARATION - 2018
B4: Division | C4: North East | F4: Club | G4: Inverness Harriers
B6: Venue | C6: Inverness | F6: Date | G6: 43212
B8: U20M | F8: U20W
B10: 100m | C10: A | F10: 100m | G10: A | H10: Emma Pedrana | L10: =B10 -> 100m | M10: =F10 -> 100m
C11: B | G11: B | L11: =B12 -> 400m | M11: =F12 -> 400m
B12: 400m | C12: A | F12: 400m | G12: A | L12: =B14 -> 800m | M12: =F14 -> 800m
C13: B | G13: B | L13: =B16 -> 400mH | M13: =F16 -> 400mH
B14: 800m | C14: A | F14: 800m | G14: A | L14: HJ | M14: PV
C15: B | G15: B | L15: HT | M15: LJ
B16: 400mH | C16: A | F16: 400mH | G16: A | L16: LJ | M16: HJ
C17: B | G17: B | L17: SP | M17: HT
B18: 4 x 100m Relay | C18: 1 | F18: 4 x 100m Relay | G18: 1
C19: 2 | G19: 2
C20: 3 | G20: 3
C21: 4 | G21: 4
B23: High Jump | C23: A | F23: Pole Vault | G23: A
C24: B | G24: B
B25: Hammer | C25: A | D25: Harry Zagorshi | F25: Long Jump | G25: A | H25: Rachel Johnstone
C26: B | D26: Andrew Bowsher | G26: B
B27: Long Jump | C27: A | F27: High Jump | G27: A
C28: B | G28: B
B29: Shot Put | C29: A | D29: Andrew Bowsher | F29: Hammer | G29: A | H29: Rachel Maclennan
C30: B | D30: Harry Zagorshi | G30: B | H30: Amy Collier
B32: Non Counters
B33: Event | C33: No | D33: Name | F33: Event | G33: No | H33: Name
B49: Team Manager

Sheet ISA-U17
B1: ISLAND - U17 DECLARATION SHEET
B2: TEAM DECLARATION - 2018
B4: Division | C4: North East | F4: Club | G4: Island Select Athletics
B6: Venue | C6: Inverness | F6: Date | G6: 43212
B8: U17M | F8: U17W
B10: 100m | C10: A | D10: Shaun Ritchie | F10: 100m | G10: A | H10: Katie Dinwoodie | L10: =B10 -> 100m | M10: =F10 -> 100m
C11: B | D11: Lewis Barclay | G11: B | H11: Laura Newbold | L11: =B12 -> 400m | M11: =F12 -> 300m
B12: 400m | C12: A | D12: Lewis Barclay | F12: 300m | G12: A | H12: Katie Dinwoodie | L12: =B14 -> 800m | M12: =F14 -> 800m
C13: B | D13: Shay Regan | G13: B | H13: Aimee Smith TBC / Laura Newbold | L13: =B16 -> 400mH | M13: =F16 -> 300mH
B14: 800m | C14: A | D14: Lewis Barclay | F14: 800m | G14: A | H14: Aimee Smith | L14: HJ | M14: PV
C15: B | D15: David Morrison | G15: B | H15: Amie Ringstead | L15: HT | M15: JT
B16: 400mH | C16: A | D16: Jordan MacKinnon | F16: 300mH | G16: A | H16: Amie Ringstead | L16: JT | M16: HJ
C17: B | G17: B | L17: SP
B18: 4 x 100m Relay | C18: 1 | D18: Lewis Barclay | F18: 4 x 100m Relay | G18: 1 | H18: Sian MacDonald
C19: 2 | D19: Ethan Tulloch | G19: 2 | H19: Katie Dinwoodie
C20: 3 | D20: Shay Regan | G20: 3 | H20: Angela Horne
C21: 4 | D21: Shaun Ritchie | G21: 4 | H21: Laura Newbold
B23: High Jump | C23: A | D23: Shay Regan | F23: Pole Vault | G23: A
C24: B | D24: Jordan MacKinnon | G24: B
B25: Hammer | C25: A | D25: Ethan Tulloch | F25: Javelin | G25: A | H25: Stephanie Mercer
C26: B | G26: B
B27: Javelin | C27: A | D27: Ethan Tulloch | F27: High Jump | G27: A | H27: Angela Horne
C28: B | D28: Michael Campbell | G28: B | H28: Molly MacLeod
B29: Shot Put | C29: A | D29: Michael Campbell | G29: A
C30: B | D30: Ethan Tulloch | G30: B
B32: Non Counters
B33: Event | C33: No | D33: Name | F33: Event | G33: No | H33: Name

Sheet ISA-U20
B1: ISLAND - U20 DECLARATION SHEET
B2: TEAM DECLARATION - 2018
B4: Division | C4: North East | F4: Club | G4: Island Select Athletics
B6: Venue | C6: Inverness | F6: Date | G6: 43212
B8: U20M | F8: U20W
B10: 100m | C10: A | D10: Scott MacIver | F10: 100m | G10: A | H10: Amy Davis | L10: =B10 -> 100m | M10: =F10 -> 100m
C11: B | D11: Donald MacMillan | G11: B | H11: Sian MacDonald | L11: =B12 -> 400m | M11: =F12 -> 400m
B12: 400m | C12: A | D12: Bobby Laurenson | F12: 400m | G12: A | H12: Eilidh MacLeod | L12: =B14 -> 800m | M12: =F14 -> 800m
C13: B | D13: Ross Budge | G13: B | L13: =B16 -> 400mH | M13: =F16 -> 400mH
B14: 800m | C14: A | D14: Kyle Munro | F14: 800m | G14: A | L14: HJ | M14: PV
C15: B | D15: Ailig MacDonald | G15: B | L15: HT | M15: LJ
B16: 400mH | C16: A | F16: 400mH | G16: A | L16: LJ | M16: HJ
C17: B | G17: B | L17: SP | M17: HT
B18: 4 x 100m Relay | C18: 1 | D18: Donald MacMillan | F18: 4 x 100m Relay | G18: 1 | H18: Heather MacKinnon
C19: 2 | D19: Jeremiasz Kaluzinski | G19: 2 | H19: Eilidh MacLeod
C20: 3 | D20: Bobby Laurenson | G20: 3 | H20: Molly MacLeod
C21: 4 | D21: Scott MacIver | G21: 4 | H21: Amy Davis
B23: High Jump | C23: A | D23: Jeremiasz Kaluzinski | F23: Pole Vault | G23: A
C24: B | G24: B
B25: Hammer | C25: A | F25: Long Jump | G25: A | H25: Heather MacKinnon
C26: B | G26: B | H26: Angela Horne
B27: Long Jump | C27: A | D27: Jeremiasz Kaluzinski | F27: High Jump | G27: A | H27: Amy Davis
C28: B | D28: Scott MacIver | G28: B
B29: Shot Put | C29: A | D29: Ross Budge | F29: Hammer | G29: A
C30: B | D30: Jeremiasz Kaluzinski | G30: B
B32: Non Counters
B33: Event | C33: No | D33: Name | F33: Event | G33: No | H33: Name
B49: Team Manager

Sheet MAC_PSH-U17
B1: MONTROSE & PERTH - U17 DECLARATION SHEET
B2: TEAM DECLARATION - 2018
B4: Division | C4: North East | F4: Club | G4: Montrose and District + Perth Strathtay
B6: Venue | C6: Inverness | F6: Date | G6: 43212
B8: U17M | F8: U17W
B10: 100m | C10: A | F10: 100m | G10: A | L10: =B10 -> 100m | M10: =F10 -> 100m
C11: B | G11: B | L11: =B12 -> 400m | M11: =F12 -> 300m
B12: 400m | C12: A | D12: Ben Henderson | F12: 300m | G12: A | L12: =B14 -> 800m | M12: =F14 -> 800m
C13: B | G13: B | L13: =B16 -> 400mH | M13: =F16 -> 300mH
B14: 800m | C14: A | D14: Ben Henderson | F14: 800m | G14: A | L14: HJ | M14: PV
C15: B | G15: B | L15: HT | M15: JT
B16: 400mH | C16: A | F16: 300mH | G16: A | L16: JT | M16: HJ
C17: B | G17: B | L17: SP
B18: 4 x 100m Relay | C18: 1 | F18: 4 x 100m Relay | G18: 1
C19: 2 | G19: 2
C20: 3 | G20: 3
C21: 4 | G21: 4
B23: High Jump | C23: A | F23: Pole Vault | G23: A
C24: B | G24: B
B25: Hammer | C25: A | F25: Javelin | G25: A
C26: B | G26: B
B27: Javelin | C27: A | F27: High Jump | G27: A
C28: B | G28: B
B29: Shot Put | C29: A | G29: A
C30: B | G30: B
B32: Non Counters
B33: Event | C33: No | D33: Name | F33: Event | G33: No | H33: Name

Sheet MAC_PSH-U20
B1: MONTROSE & PERTH - U20 DECLARATION SHEET
B2: TEAM DECLARATION - 2018
B4: Division | C4: North East | F4: Club | G4: Montrose and District + Perth Strathtay
B6: Venue | C6: Inverness | F6: Date | G6: 43212
B8: U20M | F8: U20W
B10: 100m | C10: A | F10: 100m | G10: A | L10: =B10 -> 100m | M10: =F10 -> 100m
C11: B | G11: B | L11: =B12 -> 400m | M11: =F12 -> 400m
B12: 400m | C12: A | F12: 400m | G12: A | L12: =B14 -> 800m | M12: =F14 -> 800m
C13: B | G13: B | L13: =B16 -> 400mH | M13: =F16 -> 400mH
B14: 800m | C14: A | F14: 800m | G14: A | L14: HJ | M14: PV
C15: B | G15: B | L15: HT | M15: LJ
B16: 400mH | C16: A | F16: 400mH | G16: A | L16: LJ | M16: HJ
C17: B | G17: B | L17: SP | M17: HT
B18: 4 x 100m Relay | C18: 1 | F18: 4 x 100m Relay | G18: 1
C19: 2 | G19: 2
C20: 3 | G20: 3
C21: 4 | G21: 4
B23: High Jump | C23: A | F23: Pole Vault | G23: A
C24: B | G24: B
B25: Hammer | C25: A | F25: Long Jump | G25: A
C26: B | G26: B
B27: Long Jump | C27: A | F27: High Jump | G27: A
C28: B | G28: B
B29: Shot Put | C29: A | F29: Hammer | G29: A
C30: B | G30: B
B32: Non Counters
B33: Event | C33: No | D33: Name | F33: Event | G33: No | H33: Name
B49: Team Manager

Sheet TN-U17
B1: TEAM NORTH - U17 DECLARATION SHEET
B2: TEAM DECLARATION - 2018
B4: Division | C4: North East | F4: Club | G4: Team North
B6: Venue | C6: Inverness | F6: Date | G6: 43212
B8: U17M | F8: U17W
B10: 100m | C10: A | D10: JOSHUA MILNE | F10: 100m | G10: A | H10: BETH GRANT | L10: =B10 -> 100m | M10: =F10 -> 100m
C11: B | D11: DAVID SCOTT | G11: B | H11: EMMA BARCLAY | L11: =B12 -> 400m | M11: =F12 -> 300m
B12: 400m | C12: A | D12: DANNY MCPAKE | F12: 300m | G12: A | H12: EMMA BARCLAY | L12: =B14 -> 800m | M12: =F14 -> 800m
C13: B | D13: DAVID SCOTT | G13: B | H13: EVE TULLOCH | L13: =B16 -> 400mH | M13: =F16 -> 300mH
B14: 800m | C14: A | D14: DANNY MCPAKE | F14: 800m | G14: A | H14: SHAUNA PERRY | L14: HJ | M14: PV
C15: B | D15: JOSHUA MILNE | G15: B | H15: NIAMH WHELAN | L15: HT | M15: JT
B16: 400mH | C16: A | F16: 300mH | G16: A | H16: EVE TULLOCH | L16: JT | M16: HJ
C17: B | G17: B | L17: SP
B18: 4 x 100m Relay | C18: 1 | D18: JOSHUA MILNE | F18: 4 x 100m Relay | G18: 1 | H18: BETH GRANT
C19: 2 | D19: DAVID SCOTT | G19: 2 | H19: EVE TULLOCH
C20: 3 | D20: DANNY MCPAKE | G20: 3 | H20: EMMA BARCLAY
C21: 4 | D21: ALEXANDER MACKAY | G21: 4 | H21: BETH MACKAY
B23: High Jump | C23: A | F23: Pole Vault | G23: A
C24: B | G24: B
B25: Hammer | C25: A | F25: Javelin | G25: A | H25: GEORGIE NEWLANDS
C26: B | G26: B
B27: Javelin | C27: A | D27: JOSHUA MILNE | F27: High Jump | G27: A | H27: EVE TULLOCH
C28: B | G28: B | H28: EMMA BARCLAY
B29: Shot Put | C29: A | D29: DAVID SCOTT | G29: A | H29: BETH GRANT
C30: B | G30: B | H30: GEORGIE NEWLANDS
B32: Non Counters
B33: Event | C33: No | D33: Name | F33: Event | G33: No | H33: Name

Sheet TN-U20
B1: TEAM NORTH - U20 DECLARATION SHEET
B2: TEAM DECLARATION - 2018
B4: Division | C4: North East | F4: Club | G4: Team North
B6: Venue | C6: Inverness | F6: Date | G6: 43212
B8: U20M | F8: U20W
B10: 100m | C10: A | D10: ANDREW STOKER | F10: 100m | G10: A | L10: =B10 -> 100m | M10: =F10 -> 100m
C11: B | D11: SAM ANDERSON | G11: B | L11: =B12 -> 400m | M11: =F12 -> 400m
B12: 400m | C12: A | D12: ANDREW STOKER | F12: 400m | G12: A | H12: GRACE WHELAN | L12: =B14 -> 800m | M12: =F14 -> 800m
C13: B | D13: SAM ANDERSON | G13: B | H13: MAIRI WEIR | L13: =B16 -> 400mH | M13: =F16 -> 400mH
B14: 800m | C14: A | F14: 800m | G14: A | H14: GRACE WHELAN | L14: HJ | M14: PV
C15: B | G15: B | L15: HT | M15: LJ
B16: 400mH | C16: A | F16: 400mH | G16: A | H16: MAIRI WEIR | L16: LJ | M16: HJ
C17: B | G17: B | L17: SP | M17: HT
B18: 4 x 100m Relay | C18: 1 | F18: 4 x 100m Relay | G18: 1
C19: 2 | G19: 2
C20: 3 | G20: 3
C21: 4 | G21: 4
B23: High Jump | C23: A | F23: Pole Vault | G23: A
C24: B | G24: B
B25: Hammer | C25: A | F25: Long Jump | G25: A | H25: MAIRI WEIR
C26: B | G26: B | H26: HEATHER WELSH
B27: Long Jump | C27: A | D27: ANDREW STOKER | F27: High Jump | G27: A | H27: HEATHER WELSH
C28: B | D28: SAM ANDERSON | G28: B
B29: Shot Put | C29: A | F29: Hammer | G29: A | H29: HEATHER WELSH
C30: B | G30: B
B32: Non Counters
B33: Event | C33: No | D33: Name | F33: Event | G33: No | H33: Name
B34: lj | C34: Guest | D34: Andrew McFarlane
B49: Team Manager

Sheet U17 Non Counters
A1: Non Counters
A2: Event | B2: No | C2: Name | D2: Club | F2: Event | G2: No | H2: Name | I2: Club
A3: ='AAAC-U17'!$B$34 -> 0 | B3: ='AAAC-U17'!$C$34 -> 0 | C3: ='AAAC-U17'!$D$34 -> 0 | D3: =IF(A3<>0,"AAAC","") | E3: U17 | F3: ='AAAC-U17'!$F$34 -> 0 | G3: ='AAAC-U17'!$G34 -> 0 | H3: ='AAAC-U17'!$H$34 -> 0 | I3: =IF(F3<>0,"AAAC","")
A4: ='AAAC-U17'!$B$35 -> 0 | B4: ='AAAC-U17'!$C$35 -> 0 | C4: ='AAAC-U17'!$D$35 -> 0 | D4: =IF(A4<>0,"AAAC","") | F4: ='AAAC-U17'!$F$35 -> 0 | G4: ='AAAC-U17'!$G35 -> 0 | H4: ='AAAC-U17'!$H$35 -> 0 | I4: =IF(F4<>0,"AAAC","")
A5: ='AAAC-U17'!$B$36 -> 0 | B5: ='AAAC-U17'!$C$36 -> 0 | C5: ='AAAC-U17'!$D$36 -> 0 | D5: =IF(A5<>0,"AAAC","") | F5: ='AAAC-U17'!$F$36 -> 0 | G5: ='AAAC-U17'!$G36 -> 0 | H5: ='AAAC-U17'!$H$36 -> 0 | I5: =IF(F5<>0,"AAAC","")
A6: ='AAAC-U17'!$B$37 -> 0 | B6: ='AAAC-U17'!$C$37 -> 0 | C6: ='AAAC-U17'!$D$37 -> 0 | D6: =IF(A6<>0,"AAAC","") | F6: ='AAAC-U17'!$F$37 -> 0 | G6: ='AAAC-U17'!$G37 -> 0 | H6: ='AAAC-U17'!$H$37 -> 0 | I6: =IF(F6<>0,"AAAC","")
A7: ='AAAC-U17'!$B$38 -> 0 | B7: ='AAAC-U17'!$C$38 -> 0 | C7: ='AAAC-U17'!$D$38 -> 0 | D7: =IF(A7<>0,"AAAC","") | F7: ='AAAC-U17'!$F$38 -> 0 | G7: ='AAAC-U17'!$G38 -> 0 | H7: ='AAAC-U17'!$H$38 -> 0 | I7: =IF(F7<>0,"AAAC","")
A8: ='AAAC-U17'!$B$39 -> 0 | B8: ='AAAC-U17'!$C$39 -> 0 | C8: ='AAAC-U17'!$D$39 -> 0 | D8: =IF(A8<>0,"AAAC","") | F8: ='AAAC-U17'!$F$39 -> 0 | G8: ='AAAC-U17'!$G39 -> 0 | H8: ='AAAC-U17'!$H$39 -> 0 | I8: =IF(F8<>0,"AAAC","")
A9: ='AAAC-U17'!$B$40 -> 0 | B9: ='AAAC-U17'!$C$40 -> 0 | C9: ='AAAC-U17'!$D$40 -> 0 | D9: =IF(A9<>0,"AAAC","") | F9: ='AAAC-U17'!$F$40 -> 0 | G9: ='AAAC-U17'!$G40 -> 0 | H9: ='AAAC-U17'!$H$40 -> 0 | I9: =IF(F9<>0,"AAAC","")
A10: ='AAAC-U17'!$B$41 -> 0 | B10: ='AAAC-U17'!$C$41 -> 0 | C10: ='AAAC-U17'!$D$41 -> 0 | D10: =IF(A10<>0,"AAAC","") | F10: ='AAAC-U17'!$F$41 -> 0 | G10: ='AAAC-U17'!$G41 -> 0 | H10: ='AAAC-U17'!$H$41 -> 0 | I10: =IF(F10<>0,"AAAC","")
A11: ='AAAC-U17'!$B$42 -> 0 | B11: ='AAAC-U17'!$C$42 -> 0 | C11: ='AAAC-U17'!$D$42 -> 0 | D11: =IF(A11<>0,"AAAC","") | F11: ='AAAC-U17'!$F$41 -> 0 | G11: ='AAAC-U17'!$G42 -> 0 | H11: ='AAAC-U17'!$H$41 -> 0 | I11: =IF(F11<>0,"AAAC","")
A12: ='AAAC-U17'!$B$43 -> 0 | B12: ='AAAC-U17'!$C$43 -> 0 | C12: ='AAAC-U17'!$D$43 -> 0 | D12: =IF(A12<>0,"AAAC","") | F12: ='AAAC-U17'!$F$41 -> 0 | G12: ='AAAC-U17'!$G43 -> 0 | H12: ='AAAC-U17'!$H$41 -> 0 | I12: =IF(F12<>0,"AAAC","")
A13: ='AAAC-U17'!$B$44 -> 0 | B13: ='AAAC-U17'!$C$44 -> 0 | C13: ='AAAC-U17'!$D$44 -> 0 | D13: =IF(A13<>0,"AAAC","") | F13: ='AAAC-U17'!$F$41 -> 0 | G13: ='AAAC-U17'!$G44 -> 0 | H13: ='AAAC-U17'!$H$41 -> 0 | I13: =IF(F13<>0,"AAAC","")
A14: ='AAAC-U17'!$B$45 -> 0 | B14: ='AAAC-U17'!$C$45 -> 0 | C14: ='AAAC-U17'!$D$45 -> 0 | D14: =IF(A14<>0,"AAAC","") | F14: ='AAAC-U17'!$F$41 -> 0 | G14: ='AAAC-U17'!$G45 -> 0 | H14: ='AAAC-U17'!$H$41 -> 0 | I14: =IF(F14<>0,"AAAC","")
A15: ='AAAC-U17'!$B$46 -> 0 | B15: ='AAAC-U17'!$C$46 -> 0 | C15: ='AAAC-U17'!$D$46 -> 0 | D15: =IF(A15<>0,"AAAC","") | F15: ='AAAC-U17'!$F$41 -> 0 | G15: ='AAAC-U17'!$G46 -> 0 | H15: ='AAAC-U17'!$H$41 -> 0 | I15: =IF(F15<>0,"AAAC","")
A16: ='AAAC-U17'!$B$47 -> 0 | B16: ='AAAC-U17'!$C$47 -> 0 | C16: ='AAAC-U17'!$D$47 -> 0 | D16: =IF(A16<>0,"AAAC","") | F16: ='AAAC-U17'!$F$47 -> 0 | G16: ='AAAC-U17'!$G47 -> 0 | H16: ='AAAC-U17'!$H$47 -> 0 | I16: =IF(F16<>0,"AAAC","")
A17: ='ADAC-U17'!$B$34 -> 0 | B17: ='ADAC-U17'!$C$34 -> 0 | C17: ='ADAC-U17'!$D$34 -> 0 | D17: =IF(A17<>0,"ADAC","") | E17: U17 | F17: ='ADAC-U17'!$F$34 -> 0 | G17: ='ADAC-U17'!$G$34 -> 0 | H17: ='ADAC-U17'!$H$34 -> 0 | I17: =IF(F17<>0,"ADAC","")
A18: ='ADAC-U17'!$B$35 -> 0 | B18: ='ADAC-U17'!$C$35 -> 0 | C18: ='ADAC-U17'!$D$35 -> 0 | D18: =IF(A18<>0,"ADAC","") | F18: ='ADAC-U17'!$F$35 -> 0 | G18: ='ADAC-U17'!$G$35 -> 0 | H18: ='ADAC-U17'!$H$35 -> 0 | I18: =IF(F18<>0,"ADAC","")
A19: ='ADAC-U17'!$B$36 -> 0 | B19: ='ADAC-U17'!$C$36 -> 0 | C19: ='ADAC-U17'!$D$36 -> 0 | D19: =IF(A19<>0,"ADAC","") | F19: ='ADAC-U17'!$F$36 -> 0 | G19: ='ADAC-U17'!$G$36 -> 0 | H19: ='ADAC-U17'!$H$36 -> 0 | I19: =IF(F19<>0,"ADAC","")
A20: ='ADAC-U17'!$B$37 -> 0 | B20: ='ADAC-U17'!$C$37 -> 0 | C20: ='ADAC-U17'!$D$37 -> 0 | D20: =IF(A20<>0,"ADAC","") | F20: ='ADAC-U17'!$F$37 -> 0 | G20: ='ADAC-U17'!$G$37 -> 0 | H20: ='ADAC-U17'!$H$37 -> 0 | I20: =IF(F20<>0,"ADAC","")
A21: ='ADAC-U17'!$B$38 -> 0 | B21: ='ADAC-U17'!$C$38 -> 0 | C21: ='ADAC-U17'!$D$38 -> 0 | D21: =IF(A21<>0,"ADAC","") | F21: ='ADAC-U17'!$F$38 -> 0 | G21: ='ADAC-U17'!$G$38 -> 0 | H21: ='ADAC-U17'!$H$38 -> 0 | I21: =IF(F21<>0,"ADAC","")
A22: ='ADAC-U17'!$B$39 -> 0 | B22: ='ADAC-U17'!$C$39 -> 0 | C22: ='ADAC-U17'!$D$39 -> 0 | D22: =IF(A22<>0,"ADAC","") | F22: ='ADAC-U17'!$F$39 -> 0 | G22: ='ADAC-U17'!$G$39 -> 0 | H22: ='ADAC-U17'!$H$39 -> 0 | I22: =IF(F22<>0,"ADAC","")
A23: ='ADAC-U17'!$B$40 -> 0 | B23: ='ADAC-U17'!$C$40 -> 0 | C23: ='ADAC-U17'!$D$40 -> 0 | D23: =IF(A23<>0,"ADAC","") | F23: ='ADAC-U17'!$F$40 -> 0 | G23: ='ADAC-U17'!$G$40 -> 0 | H23: ='ADAC-U17'!$H$40 -> 0 | I23: =IF(F23<>0,"ADAC","")
A24: ='ADAC-U17'!$B$41 -> 0 | B24: ='ADAC-U17'!$C$41 -> 0 | C24: ='ADAC-U17'!$D$41 -> 0 | D24: =IF(A24<>0,"ADAC","") | F24: ='ADAC-U17'!$F$41 -> 0 | G24: ='ADAC-U17'!$G$41 -> 0 | H24: ='ADAC-U17'!$H$41 -> 0 | I24: =IF(F24<>0,"ADAC","")
A25: ='ADAC-U17'!$B$42 -> 0 | B25: ='ADAC-U17'!$C$42 -> 0 | C25: ='ADAC-U17'!$D$42 -> 0 | D25: =IF(A25<>0,"ADAC","") | F25: ='ADAC-U17'!$F$42 -> 0 | G25: ='ADAC-U17'!$G$42 -> 0 | H25: ='ADAC-U17'!$H$42 -> 0 | I25: =IF(F25<>0,"ADAC","")
A26: ='ADAC-U17'!$B$43 -> 0 | B26: ='ADAC-U17'!$C$43 -> 0 | C26: ='ADAC-U17'!$D$43 -> 0 | D26: =IF(A26<>0,"ADAC","") | F26: ='ADAC-U17'!$F$43 -> 0 | G26: ='ADAC-U17'!$G$43 -> 0 | H26: ='ADAC-U17'!$H$43 -> 0 | I26: =IF(F26<>0,"ADAC","")
A27: ='BSAC-U17'!$B$34 -> 0 | B27: ='BSAC-U17'!$C$34 -> 0 | C27: ='BSAC-U17'!$D$34 -> 0 | D27: =IF(A27<>0,"BSAC","") | E27: U17 | F27: ='BSAC-U17'!$F$34 -> 0 | G27: ='BSAC-U17'!$G$34 -> 0 | H27: ='BSAC-U17'!$H$34 -> 0 | I27: =IF(F27<>0,"BSAC","")
A28: ='BSAC-U17'!$B$35 -> 0 | B28: ='BSAC-U17'!$C$35 -> 0 | C28: ='BSAC-U17'!$D$35 -> 0 | D28: =IF(A28<>0,"BSAC","") | F28: ='BSAC-U17'!$F$35 -> 0 | G28: ='BSAC-U17'!$G$35 -> 0 | H28: ='BSAC-U17'!$H$35 -> 0 | I28: =IF(F28<>0,"BSAC","")
A29: ='BSAC-U17'!$B$36 -> 0 | B29: ='BSAC-U17'!$C$36 -> 0 | C29: ='BSAC-U17'!$D$36 -> 0 | D29: =IF(A29<>0,"BSAC","") | F29: ='BSAC-U17'!$F$36 -> 0 | G29: ='BSAC-U17'!$G$36 -> 0 | H29: ='BSAC-U17'!$H$36 -> 0 | I29: =IF(F29<>0,"BSAC","")
A30: ='BSAC-U17'!$B$37 -> 0 | B30: ='BSAC-U17'!$C$37 -> 0 | C30: ='BSAC-U17'!$D$37 -> 0 | D30: =IF(A30<>0,"BSAC","") | F30: ='BSAC-U17'!$F$37 -> 0 | G30: ='BSAC-U17'!$G$37 -> 0 | H30: ='BSAC-U17'!$H$37 -> 0 | I30: =IF(F30<>0,"BSAC","")
A31: ='BSAC-U17'!$B$38 -> 0 | B31: ='BSAC-U17'!$C$38 -> 0 | C31: ='BSAC-U17'!$D$38 -> 0 | D31: =IF(A31<>0,"BSAC","") | F31: ='BSAC-U17'!$F$38 -> 0 | G31: ='BSAC-U17'!$G$38 -> 0 | H31: ='BSAC-U17'!$H$38 -> 0 | I31: =IF(F31<>0,"BSAC","")
A32: ='BSAC-U17'!$B$39 -> 0 | B32: ='BSAC-U17'!$C$39 -> 0 | C32: ='BSAC-U17'!$D$39 -> 0 | D32: =IF(A32<>0,"BSAC","") | F32: ='BSAC-U17'!$F$39 -> 0 | G32: ='BSAC-U17'!$G$39 -> 0 | H32: ='BSAC-U17'!$H$39 -> 0 | I32: =IF(F32<>0,"BSAC","")
A33: ='BSAC-U17'!$B$40 -> 0 | B33: ='BSAC-U17'!$C$40 -> 0 | C33: ='BSAC-U17'!$D$40 -> 0 | D33: =IF(A33<>0,"BSAC","") | F33: ='BSAC-U17'!$F$40 -> 0 | G33: ='BSAC-U17'!$G$40 -> 0 | H33: ='BSAC-U17'!$H$40 -> 0 | I33: =IF(F33<>0,"BSAC","")
A34: ='BSAC-U17'!$B$41 -> 0 | B34: ='BSAC-U17'!$C$41 -> 0 | C34: ='BSAC-U17'!$D$41 -> 0 | D34: =IF(A34<>0,"BSAC","") | F34: ='BSAC-U17'!$F$41 -> 0 | G34: ='BSAC-U17'!$G$41 -> 0 | H34: ='BSAC-U17'!$H$41 -> 0 | I34: =IF(F34<>0,"BSAC","")
A35: ='BSAC-U17'!$B$42 -> 0 | B35: ='BSAC-U17'!$C$42 -> 0 | C35: ='BSAC-U17'!$D$42 -> 0 | D35: =IF(A35<>0,"BSAC","") | F35: ='BSAC-U17'!$F$42 -> 0 | G35: ='BSAC-U17'!$G$42 -> 0 | H35: ='BSAC-U17'!$H$42 -> 0 | I35: =IF(F35<>0,"BSAC","")
A36: ='BSAC-U17'!$B$43 -> 0 | B36: ='BSAC-U17'!$C$43 -> 0 | C36: ='BSAC-U17'!$D$43 -> 0 | D36: =IF(A36<>0,"BSAC","") | F36: ='BSAC-U17'!$F$43 -> 0 | G36: ='BSAC-U17'!$G$43 -> 0 | H36: ='BSAC-U17'!$H$43 -> 0 | I36: =IF(F36<>0,"BSAC","")
A37: ='DHH-U17'!$B$34 -> 0 | B37: ='DHH-U17'!$C$34 -> 0 | C37: ='DHH-U17'!$D$34 -> 0 | D37: =IF(A37<>0,"DHH","") | E37: U17 | F37: ='DHH-U17'!$F$34 -> 0 | G37: ='DHH-U17'!$G$34 -> 0 | H37: ='DHH-U17'!$H$34 -> 0 | I37: =IF(F37<>0,"DHH","")
A38: ='DHH-U17'!$B$35 -> 0 | B38: ='DHH-U17'!$C$35 -> 0 | C38: ='DHH-U17'!$D$35 -> 0 | D38: =IF(A38<>0,"DHH","") | F38: ='DHH-U17'!$F$35 -> 0 | G38: ='DHH-U17'!$G$35 -> 0 | H38: ='DHH-U17'!$H$35 -> 0 | I38: =IF(F38<>0,"DHH","")
A39: ='DHH-U17'!$B$36 -> 0 | B39: ='DHH-U17'!$C$36 -> 0 | C39: ='DHH-U17'!$D$36 -> 0 | D39: =IF(A39<>0,"DHH","") | F39: ='DHH-U17'!$F$36 -> 0 | G39: ='DHH-U17'!$G$36 -> 0 | H39: ='DHH-U17'!$H$36 -> 0 | I39: =IF(F39<>0,"DHH","")
A40: ='DHH-U17'!$B$37 -> 0 | B40: ='DHH-U17'!$C$37 -> 0 | C40: ='DHH-U17'!$D$37 -> 0 | D40: =IF(A40<>0,"DHH","") | F40: ='DHH-U17'!$F$37 -> 0 | G40: ='DHH-U17'!$G$37 -> 0 | H40: ='DHH-U17'!$H$37 -> 0 | I40: =IF(F40<>0,"DHH","")
...

Sheet U20 Non Counters
A1: Non Counters
A2: Event | B2: No | C2: Name | D2: Club | F2: Event | G2: No | H2: Name | I2: Club
A3: ='AAAC-U20'!$B$34 -> 0 | B3: ='AAAC-U20'!$C$34 -> 0 | C3: ='AAAC-U20'!$D$34 -> 0 | D3: =IF(A3<>0,"AAAC","") | E3: U20 | F3: ='AAAC-U20'!$F$34 -> 0 | G3: ='AAAC-U20'!$G$34 -> 0 | H3: ='AAAC-U20'!$H$34 -> 0 | I3: =IF(F3<>0,"AAAC","")
A4: ='AAAC-U20'!$B$35 -> 0 | B4: ='AAAC-U20'!$C$35 -> 0 | C4: ='AAAC-U20'!$D$35 -> 0 | D4: =IF(A4<>0,"AAAC","") | F4: ='AAAC-U20'!$F$35 -> 0 | G4: ='AAAC-U20'!$G$35 -> 0 | H4: ='AAAC-U20'!$H$35 -> 0 | I4: =IF(F4<>0,"AAAC","")
A5: ='AAAC-U20'!$B$36 -> 0 | B5: ='AAAC-U20'!$C$36 -> 0 | C5: ='AAAC-U20'!$D$36 -> 0 | D5: =IF(A5<>0,"AAAC","") | F5: ='AAAC-U20'!$F$36 -> 0 | G5: ='AAAC-U20'!$G$36 -> 0 | H5: ='AAAC-U20'!$H$36 -> 0 | I5: =IF(F5<>0,"AAAC","")
A6: ='AAAC-U20'!$B$37 -> 0 | B6: ='AAAC-U20'!$C$37 -> 0 | C6: ='AAAC-U20'!$D$37 -> 0 | D6: =IF(A6<>0,"AAAC","") | F6: ='AAAC-U20'!$F$37 -> 0 | G6: ='AAAC-U20'!$G$37 -> 0 | H6: ='AAAC-U20'!$H$37 -> 0 | I6: =IF(F6<>0,"AAAC","")
A7: ='AAAC-U20'!$B$38 -> 0 | B7: ='AAAC-U20'!$C$38 -> 0 | C7: ='AAAC-U20'!$D$38 -> 0 | D7: =IF(A7<>0,"AAAC","") | F7: ='AAAC-U20'!$F$38 -> 0 | G7: ='AAAC-U20'!$G$38 -> 0 | H7: ='AAAC-U20'!$H$38 -> 0 | I7: =IF(F7<>0,"AAAC","")
A8: ='AAAC-U20'!$B$39 -> 0 | B8: ='AAAC-U20'!$C$39 -> 0 | C8: ='AAAC-U20'!$D$39 -> 0 | D8: =IF(A8<>0,"AAAC","") | F8: ='AAAC-U20'!$F$39 -> 0 | G8: ='AAAC-U20'!$G$39 -> 0 | H8: ='AAAC-U20'!$H$39 -> 0 | I8: =IF(F8<>0,"AAAC","")
A9: ='AAAC-U20'!$B$40 -> 0 | B9: ='AAAC-U20'!$C$40 -> 0 | C9: ='AAAC-U20'!$D$40 -> 0 | D9: =IF(A9<>0,"AAAC","") | F9: ='AAAC-U20'!$F$40 -> 0 | G9: ='AAAC-U20'!$G$40 -> 0 | H9: ='AAAC-U20'!$H$40 -> 0 | I9: =IF(F9<>0,"AAAC","")
A10: ='AAAC-U20'!$B$41 -> 0 | B10: ='AAAC-U20'!$C$41 -> 0 | C10: ='AAAC-U20'!$D$41 -> 0 | D10: =IF(A10<>0,"AAAC","") | F10: ='AAAC-U20'!$F$41 -> 0 | G10: ='AAAC-U20'!$G$41 -> 0 | H10: ='AAAC-U20'!$H$41 -> 0 | I10: =IF(F10<>0,"AAAC","")
A11: ='AAAC-U20'!$B$42 -> 0 | B11: ='AAAC-U20'!$C$42 -> 0 | C11: ='AAAC-U20'!$D$42 -> 0 | D11: =IF(A11<>0,"AAAC","") | F11: ='AAAC-U20'!$F$42 -> 0 | G11: ='AAAC-U20'!$G$42 -> 0 | H11: ='AAAC-U20'!$H$42 -> 0 | I11: =IF(F11<>0,"AAAC","")
A12: ='AAAC-U20'!$B$43 -> 0 | B12: ='AAAC-U20'!$C$43 -> 0 | C12: ='AAAC-U20'!$D$43 -> 0 | D12: =IF(A12<>0,"AAAC","") | F12: ='AAAC-U20'!$F$42 -> 0 | G12: ='AAAC-U20'!$G$42 -> 0 | H12: ='AAAC-U20'!$H$42 -> 0 | I12: =IF(F12<>0,"AAAC","")
A13: ='AAAC-U20'!$B$44 -> 0 | B13: ='AAAC-U20'!$C$44 -> 0 | C13: ='AAAC-U20'!$D$44 -> 0 | D13: =IF(A13<>0,"AAAC","") | F13: ='AAAC-U20'!$F$42 -> 0 | G13: ='AAAC-U20'!$G$42 -> 0 | H13: ='AAAC-U20'!$H$42 -> 0 | I13: =IF(F13<>0,"AAAC","")
A14: ='AAAC-U20'!$B$45 -> 0 | B14: ='AAAC-U20'!$C$45 -> 0 | C14: ='AAAC-U20'!$D$45 -> 0 | D14: =IF(A14<>0,"AAAC","") | F14: ='AAAC-U20'!$F$42 -> 0 | G14: ='AAAC-U20'!$G$42 -> 0 | H14: ='AAAC-U20'!$H$42 -> 0 | I14: =IF(F14<>0,"AAAC","")
A15: ='AAAC-U20'!$B$46 -> 0 | B15: ='AAAC-U20'!$C$46 -> 0 | C15: ='AAAC-U20'!$D$46 -> 0 | D15: =IF(A15<>0,"AAAC","") | F15: ='AAAC-U20'!$F$42 -> 0 | G15: ='AAAC-U20'!$G$42 -> 0 | H15: ='AAAC-U20'!$H$42 -> 0 | I15: =IF(F15<>0,"AAAC","")
A16: ='AAAC-U20'!$B$47 -> 0 | B16: ='AAAC-U20'!$C$47 -> 0 | C16: ='AAAC-U20'!$D$47 -> 0 | D16: =IF(A16<>0,"AAAC","") | F16: ='AAAC-U20'!$F$47 -> 0 | G16: ='AAAC-U20'!$G$47 -> 0 | H16: ='AAAC-U20'!$H$47 -> 0 | I16: =IF(F16<>0,"AAAC","")
A17: ='ADAC-U20'!$B$34 -> 0 | B17: ='ADAC-U20'!$C$34 -> 0 | C17: ='ADAC-U20'!$D$34 -> 0 | D17: =IF(A17<>0,"ADAC","") | E17: U20 | F17: ='ADAC-U20'!$F$34 -> 0 | G17: ='ADAC-U20'!$G$34 -> 0 | H17: ='ADAC-U20'!$H$34 -> 0 | I17: =IF(F17<>0,"ADAC","")
A18: ='ADAC-U20'!$B$35 -> 0 | B18: ='ADAC-U20'!$C$35 -> 0 | C18: ='ADAC-U20'!$D$35 -> 0 | D18: =IF(A18<>0,"ADAC","") | F18: ='ADAC-U20'!$F$35 -> 0 | G18: ='ADAC-U20'!$G$35 -> 0 | H18: ='ADAC-U20'!$H$35 -> 0 | I18: =IF(F18<>0,"ADAC","")
A19: ='ADAC-U20'!$B$36 -> 0 | B19: ='ADAC-U20'!$C$36 -> 0 | C19: ='ADAC-U20'!$D$36 -> 0 | D19: =IF(A19<>0,"ADAC","") | F19: ='ADAC-U20'!$F$36 -> 0 | G19: ='ADAC-U20'!$G$36 -> 0 | H19: ='ADAC-U20'!$H$36 -> 0 | I19: =IF(F19<>0,"ADAC","")
A20: ='ADAC-U20'!$B$37 -> 0 | B20: ='ADAC-U20'!$C$37 -> 0 | C20: ='ADAC-U20'!$D$37 -> 0 | D20: =IF(A20<>0,"ADAC","") | F20: ='ADAC-U20'!$F$37 -> 0 | G20: ='ADAC-U20'!$G$37 -> 0 | H20: ='ADAC-U20'!$H$37 -> 0 | I20: =IF(F20<>0,"ADAC","")
A21: ='ADAC-U20'!$B$38 -> 0 | B21: ='ADAC-U20'!$C$38 -> 0 | C21: ='ADAC-U20'!$D$38 -> 0 | D21: =IF(A21<>0,"ADAC","") | F21: ='ADAC-U20'!$F$38 -> 0 | G21: ='ADAC-U20'!$G$38 -> 0 | H21: ='ADAC-U20'!$H$38 -> 0 | I21: =IF(F21<>0,"ADAC","")
A22: ='ADAC-U20'!$B$39 -> 0 | B22: ='ADAC-U20'!$C$39 -> 0 | C22: ='ADAC-U20'!$D$39 -> 0 | D22: =IF(A22<>0,"ADAC","") | F22: ='ADAC-U20'!$F$39 -> 0 | G22: ='ADAC-U20'!$G$39 -> 0 | H22: ='ADAC-U20'!$H$39 -> 0 | I22: =IF(F22<>0,"ADAC","")
A23: ='ADAC-U20'!$B$40 -> 0 | B23: ='ADAC-U20'!$C$40 -> 0 | C23: ='ADAC-U20'!$D$40 -> 0 | D23: =IF(A23<>0,"ADAC","") | F23: ='ADAC-U20'!$F$40 -> 0 | G23: ='ADAC-U20'!$G$40 -> 0 | H23: ='ADAC-U20'!$H$40 -> 0 | I23: =IF(F23<>0,"ADAC","")
A24: ='ADAC-U20'!$B$41 -> 0 | B24: ='ADAC-U20'!$C$41 -> 0 | C24: ='ADAC-U20'!$D$41 -> 0 | D24: =IF(A24<>0,"ADAC","") | F24: ='ADAC-U20'!$F$41 -> 0 | G24: ='ADAC-U20'!$G$41 -> 0 | H24: ='ADAC-U20'!$H$41 -> 0 | I24: =IF(F24<>0,"ADAC","")
A25: ='ADAC-U20'!$B$42 -> 0 | B25: ='ADAC-U20'!$C$42 -> 0 | C25: ='ADAC-U20'!$D$42 -> 0 | D25: =IF(A25<>0,"ADAC","") | F25: ='ADAC-U20'!$F$42 -> 0 | G25: ='ADAC-U20'!$G$42 -> 0 | H25: ='ADAC-U20'!$H$42 -> 0 | I25: =IF(F25<>0,"ADAC","")
A26: ='ADAC-U20'!$B$43 -> 0 | B26: ='ADAC-U20'!$C$43 -> 0 | C26: ='ADAC-U20'!$D$43 -> 0 | D26: =IF(A26<>0,"ADAC","") | F26: ='ADAC-U20'!$F$43 -> 0 | G26: ='ADAC-U20'!$G$43 -> 0 | H26: ='ADAC-U20'!$H$43 -> 0 | I26: =IF(F26<>0,"ADAC","")
A27: ='BSAC-U20'!$B$34 -> 0 | B27: ='BSAC-U20'!$C$34 -> 0 | C27: ='BSAC-U20'!$D$34 -> 0 | D27: =IF(A27<>0,"BSAC","") | E27: U20 | F27: ='BSAC-U20'!$F$34 -> 0 | G27: ='BSAC-U20'!$G$34 -> 0 | H27: ='BSAC-U20'!$H$34 -> 0 | I27: =IF(F27<>0,"BSAC","")
A28: ='BSAC-U20'!$B$35 -> 0 | B28: ='BSAC-U20'!$C$35 -> 0 | C28: ='BSAC-U20'!$D$35 -> 0 | D28: =IF(A28<>0,"BSAC","") | F28: ='BSAC-U20'!$F$35 -> 0 | G28: ='BSAC-U20'!$G$35 -> 0 | H28: ='BSAC-U20'!$H$35 -> 0 | I28: =IF(F28<>0,"BSAC","")
A29: ='BSAC-U20'!$B$36 -> 0 | B29: ='BSAC-U20'!$C$36 -> 0 | C29: ='BSAC-U20'!$D$36 -> 0 | D29: =IF(A29<>0,"BSAC","") | F29: ='BSAC-U20'!$F$36 -> 0 | G29: ='BSAC-U20'!$G$36 -> 0 | H29: ='BSAC-U20'!$H$36 -> 0 | I29: =IF(F29<>0,"BSAC","")
A30: ='BSAC-U20'!$B$37 -> 0 | B30: ='BSAC-U20'!$C$37 -> 0 | C30: ='BSAC-U20'!$D$37 -> 0 | D30: =IF(A30<>0,"BSAC","") | F30: ='BSAC-U20'!$F$37 -> 0 | G30: ='BSAC-U20'!$G$37 -> 0 | H30: ='BSAC-U20'!$H$37 -> 0 | I30: =IF(F30<>0,"BSAC","")
A31: ='BSAC-U20'!$B$38 -> 0 | B31: ='BSAC-U20'!$C$38 -> 0 | C31: ='BSAC-U20'!$D$38 -> 0 | D31: =IF(A31<>0,"BSAC","") | F31: ='BSAC-U20'!$F$38 -> 0 | G31: ='BSAC-U20'!$G$38 -> 0 | H31: ='BSAC-U20'!$H$38 -> 0 | I31: =IF(F31<>0,"BSAC","")
A32: ='BSAC-U20'!$B$39 -> 0 | B32: ='BSAC-U20'!$C$39 -> 0 | C32: ='BSAC-U20'!$D$39 -> 0 | D32: =IF(A32<>0,"BSAC","") | F32: ='BSAC-U20'!$F$39 -> 0 | G32: ='BSAC-U20'!$G$39 -> 0 | H32: ='BSAC-U20'!$H$39 -> 0 | I32: =IF(F32<>0,"BSAC","")
A33: ='BSAC-U20'!$B$40 -> 0 | B33: ='BSAC-U20'!$C$40 -> 0 | C33: ='BSAC-U20'!$D$40 -> 0 | D33: =IF(A33<>0,"BSAC","") | F33: ='BSAC-U20'!$F$40 -> 0 | G33: ='BSAC-U20'!$G$40 -> 0 | H33: ='BSAC-U20'!$H$40 -> 0 | I33: =IF(F33<>0,"BSAC","")
A34: ='BSAC-U20'!$B$41 -> 0 | B34: ='BSAC-U20'!$C$41 -> 0 | C34: ='BSAC-U20'!$D$41 -> 0 | D34: =IF(A34<>0,"BSAC","") | F34: ='BSAC-U20'!$F$41 -> 0 | G34: ='BSAC-U20'!$G$41 -> 0 | H34: ='BSAC-U20'!$H$41 -> 0 | I34: =IF(F34<>0,"BSAC","")
A35: ='BSAC-U20'!$B$42 -> 0 | B35: ='BSAC-U20'!$C$42 -> 0 | C35: ='BSAC-U20'!$D$42 -> 0 | D35: =IF(A35<>0,"BSAC","") | F35: ='BSAC-U20'!$F$42 -> 0 | G35: ='BSAC-U20'!$G$42 -> 0 | H35: ='BSAC-U20'!$H$42 -> 0 | I35: =IF(F35<>0,"BSAC","")
A36: ='BSAC-U20'!$B$43 -> 0 | B36: ='BSAC-U20'!$C$43 -> 0 | C36: ='BSAC-U20'!$D$43 -> 0 | D36: =IF(A36<>0,"BSAC","") | F36: ='BSAC-U20'!$F$43 -> 0 | G36: ='BSAC-U20'!$G$43 -> 0 | H36: ='BSAC-U20'!$H$43 -> 0 | I36: =IF(F36<>0,"BSAC","")
A37: ='DHH-U20'!$B$34 -> 0 | B37: ='DHH-U20'!$C$34 -> 0 | C37: ='DHH-U20'!$D$34 -> 0 | D37: =IF(A37<>0,"DHH","") | E37: U20 | F37: ='DHH-U20'!$F$34 -> 0 | G37: ='DHH-U20'!$G$34 -> 0 | H37: ='DHH-U20'!$H$34 -> 0 | I37: =IF(F37<>0,"DHH","")
A38: ='DHH-U20'!$B$35 -> 0 | B38: ='DHH-U20'!$C$35 -> 0 | C38: ='DHH-U20'!$D$35 -> 0 | D38: =IF(A38<>0,"DHH","") | F38: ='DHH-U20'!$F$35 -> 0 | G38: ='DHH-U20'!$G$35 -> 0 | H38: ='DHH-U20'!$H$35 -> 0 | I38: =IF(F38<>0,"DHH","")
A39: ='DHH-U20'!$B$36 -> 0 | B39: ='DHH-U20'!$C$36 -> 0 | C39: ='DHH-U20'!$D$36 -> 0 | D39: =IF(A39<>0,"DHH","") | F39: ='DHH-U20'!$F$36 -> 0 | G39: ='DHH-U20'!$G$36 -> 0 | H39: ='DHH-U20'!$H$36 -> 0 | I39: =IF(F39<>0,"DHH","")
A40: ='DHH-U20'!$B$37 -> 0 | B40: ='DHH-U20'!$C$37 -> 0 | C40: ='DHH-U20'!$D$37 -> 0 | D40: =IF(A40<>0,"DHH","") | F40: ='DHH-U20'!$F$37 -> 0 | G40: ='DHH-U20'!$G$37 -> 0 | H40: ='DHH-U20'!$H$37 -> 0 | I40: =IF(F40<>0,"DHH","")
...

Sheet Start lists
C1: U17 & U20 Challenge Match Start Lists | N1: 22nd June 2014
C3: TRACK EVENTS - START LISTS
A6: =LEFT(B6,3) -> U17 | B6: U17W | C6: 300mH | D6: A string | E6: =IF('Lane Draws'!$B$12-COUNTIF('Lane Draws'!$B$2:$G$9,">88")=0,0,CONCATENATE('Lane Draws'!$B$12-COUNTIF('Lane Draws'!$B$2:$G$9,">88"), " Non Counters to put in lanes")) -> 0 | H6: =LEFT(I6,3) -> U17 | I6: =B6 -> U17W | J6: 300mH | K6: B string | L6: =IF('Lane Draws'!$B$12-COUNTIF('Lane Draws'!$B$2:$G$9,">88")=0,0,CONCATENATE('Lane Draws'!$B$12-COUNTIF('Lane Draws'!$B$2:$G$9,">88"), " Non Counters to put in lanes")) -> 0
A7: Lane | B7: Num | C7: Club | D7: Athlete | E7: Time | F7: Pos | H7: Lane | I7: Num | J7: Club | K7: Athlete | L7: Time | M7: Pos | N7: Points
A8: 1 | B8: ='Lane Draws'!B2 -> 7 | C8: =IFERROR(IF(B8="","",VLOOKUP(B8,Teams!$A$12:$B$29,2,FALSE)),CONCATENATE("NC-",VLOOKUP(B8,'U17 Non Counters'!$G$3:$I$200,3,FALSE))) -> MAC_PSH | D8: =IFERROR(INDIRECT("'"&C8&"-"&$A6&"'!H"&IF(RIGHT(B6,1)="W",MATCH('Start lists'!C6,'TN-U17'!F:F,0),MATCH('Start lists'!C6,'TN-U17'!B:B,0))+IF(LEFT(D6,1)="A",0,1)&""),IF(RIGHT(A6,2)="17",IF(RIGHT(B6,1)="W",VLOOKUP(B8,'U17 Non Counters'!$G$3:$I$200,2,FALSE),VLOOKUP(B8,'U17 Non Counters'!$B$3:$D$200,2,FALSE)),IF(RIGHT(B6,1)="W",VLOOKUP(B8,'U20 Non Counters'!$G$3:$I$200,2,FALSE),VLOOKUP(B8,'U20 Non Counters'!$B$3:$D$200,2,FALSE)))) -> 0 | H8: 1 | I8: ='Lane Draws'!E2 -> 77 | J8: =IFERROR(IF(I8="","",VLOOKUP(I8,Teams!$A$12:$B$29,2,FALSE)),CONCATENATE("NC-",VLOOKUP(I8,'U17 Non Counters'!$G$3:$I$200,3,FALSE))) -> MAC_PSH | K8: =IFERROR(INDIRECT("'"&J8&"-"&H6&"'!H"&IF(RIGHT(I6,1)="W",MATCH('Start lists'!J6,'TN-U17'!F:F,0),MATCH('Start lists'!J6,'TN-U17'!J:J,0))+IF(LEFT(K6,1)="A",0,1)&""),IF(RIGHT(H6,2)="17",IF(RIGHT(I6,1)="W",VLOOKUP(I8,'U17 Non Counters'!$G$3:$I$200,2,FALSE),VLOOKUP(I8,'U17 Non Counters'!$B$3:$D$200,2,FALSE)),IF(RIGHT(I6,1)="W",VLOOKUP(I8,'U20 Non Counters'!$G$3:$I$200,2,FALSE),VLOOKUP(I8,'U20 Non Counters'!$B$3:$D$200,2,FALSE)))) -> 0
A9: 2 | B9: ='Lane Draws'!B3 -> 6 | C9: =IFERROR(IF(B9="","",VLOOKUP(B9,Teams!$A$12:$B$29,2,FALSE)),CONCATENATE("NC-",VLOOKUP(B9,'U17 Non Counters'!$G$3:$I$200,3,FALSE))) -> ISA | D9: =IFERROR(INDIRECT("'"&C9&"-"&$A6&"'!H"&IF(RIGHT(B6,1)="W",MATCH('Start lists'!C6,'TN-U17'!F:F,0),MATCH('Start lists'!C6,'TN-U17'!B:B,0))+IF(LEFT(D6,1)="A",0,1)&""),IF(RIGHT(A6,2)="17",IF(RIGHT(B6,1)="W",VLOOKUP(B9,'U17 Non Counters'!$G$3:$I$200,2,FALSE),VLOOKUP(B9,'U17 Non Counters'!$B$3:$D$200,2,FALSE)),IF(RIGHT(B6,1)="W",VLOOKUP(B9,'U20 Non Counters'!$G$3:$I$200,2,FALSE),VLOOKUP(B9,'U20 Non Counters'!$B$3:$D$200,2,FALSE)))) -> Amie Ringstead | H9: 2 | I9: ='Lane Draws'!E3 -> 66 | J9: =IFERROR(IF(I9="","",VLOOKUP(I9,Teams!$A$12:$B$29,2,FALSE)),CONCATENATE("NC-",VLOOKUP(I9,'U17 Non Counters'!$G$3:$I$200,3,FALSE))) -> ISA | K9: =IFERROR(INDIRECT("'"&J9&"-"&H6&"'!H"&IF(RIGHT(I6,1)="W",MATCH('Start lists'!J6,'TN-U17'!F:F,0),MATCH('Start lists'!J6,'TN-U17'!J:J,0))+IF(LEFT(K6,1)="A",0,1)&""),IF(RIGHT(H6,2)="17",IF(RIGHT(I6,1)="W",VLOOKUP(I9,'U17 Non Counters'!$G$3:$I$200,2,FALSE),VLOOKUP(I9,'U17 Non Counters'!$B$3:$D$200,2,FALSE)),IF(RIGHT(I6,1)="W",VLOOKUP(I9,'U20 Non Counters'!$G$3:$I$200,2,FALSE),VLOOKUP(I9,'U20 Non Counters'!$B$3:$D$200,2,FALSE)))) -> 0
A10: 3 | B10: ='Lane Draws'!B4 -> 4 | C10: =IFERROR(IF(B10="","",VLOOKUP(B10,Teams!$A$12:$B$29,2,FALSE)),CONCATENATE("NC-",VLOOKUP(B10,'U17 Non Counters'!$G$3:$I$200,3,FALSE))) -> DHH | D10: =IFERROR(INDIRECT("'"&C10&"-"&$A6&"'!H"&IF(RIGHT(B6,1)="W",MATCH('Start lists'!C6,'TN-U17'!F:F,0),MATCH('Start lists'!C6,'TN-U17'!B:B,0))+IF(LEFT(D6,1)="A",0,1)&""),IF(RIGHT(A6,2)="17",IF(RIGHT(B6,1)="W",VLOOKUP(B10,'U17 Non Counters'!$G$3:$I$200,2,FALSE),VLOOKUP(B10,'U17 Non Counters'!$B$3:$D$200,2,FALSE)),IF(RIGHT(B6,1)="W",VLOOKUP(B10,'U20 Non Counters'!$G$3:$I$200,2,FALSE),VLOOKUP(B10,'U20 Non Counters'!$B$3:$D$200,2,FALSE)))) -> Iona Esslemont | H10: 3 | I10: ='Lane Draws'!E4 -> 44 | J10: =IFERROR(IF(I10="","",VLOOKUP(I10,Teams!$A$12:$B$29,2,FALSE)),CONCATENATE("NC-",VLOOKUP(I10,'U17 Non Counters'!$G$3:$I$200,3,FALSE))) -> DHH | K10: =IFERROR(INDIRECT("'"&J10&"-"&H6&"'!H"&IF(RIGHT(I6,1)="W",MATCH('Start lists'!J6,'TN-U17'!F:F,0),MATCH('Start lists'!J6,'TN-U17'!J:J,0))+IF(LEFT(K6,1)="A",0,1)&""),IF(RIGHT(H6,2)="17",IF(RIGHT(I6,1)="W",VLOOKUP(I10,'U17 Non Counters'!$G$3:$I$200,2,FALSE),VLOOKUP(I10,'U17 Non Counters'!$B$3:$D$200,2,FALSE)),IF(RIGHT(I6,1)="W",VLOOKUP(I10,'U20 Non Counters'!$G$3:$I$200,2,FALSE),VLOOKUP(I10,'U20 Non Counters'!$B$3:$D$200,2,FALSE)))) -> 0
A11: 4 | B11: ='Lane Draws'!B5 -> 2 | C11: =IFERROR(IF(B11="","",VLOOKUP(B11,Teams!$A$12:$B$29,2,FALSE)),CONCATENATE("NC-",VLOOKUP(B11,'U17 Non Counters'!$G$3:$I$200,3,FALSE))) -> ADAC | D11: =IFERROR(INDIRECT("'"&C11&"-"&$A6&"'!H"&IF(RIGHT(B6,1)="W",MATCH('Start lists'!C6,'TN-U17'!F:F,0),MATCH('Start lists'!C6,'TN-U17'!B:B,0))+IF(LEFT(D6,1)="A",0,1)&""),IF(RIGHT(A6,2)="17",IF(RIGHT(B6,1)="W",VLOOKUP(B11,'U17 Non Counters'!$G$3:$I$200,2,FALSE),VLOOKUP(B11,'U17 Non Counters'!$B$3:$D$200,2,FALSE)),IF(RIGHT(B6,1)="W",VLOOKUP(B11,'U20 Non Counters'!$G$3:$I$200,2,FALSE),VLOOKUP(B11,'U20 Non Counters'!$B$3:$D$200,2,FALSE)))) -> Lucy Nicoll | H11: 4 | I11: ='Lane Draws'!E5 -> 22 | J11: =IFERROR(IF(I11="","",VLOOKUP(I11,Teams!$A$12:$B$29,2,FALSE)),CONCATENATE("NC-",VLOOKUP(I11,'U17 Non Counters'!$G$3:$I$200,3,FALSE))) -> ADAC | K11: =IFERROR(INDIRECT("'"&J11&"-"&H6&"'!H"&IF(RIGHT(I6,1)="W",MATCH('Start lists'!J6,'TN-U17'!F:F,0),MATCH('Start lists'!J6,'TN-U17'!J:J,0))+IF(LEFT(K6,1)="A",0,1)&""),IF(RIGHT(H6,2)="17",IF(RIGHT(I6,1)="W",VLOOKUP(I11,'U17 Non Counters'!$G$3:$I$200,2,FALSE),VLOOKUP(I11,'U17 Non Counters'!$B$3:$D$200,2,FALSE)),IF(RIGHT(I6,1)="W",VLOOKUP(I11,'U20 Non Counters'!$G$3:$I$200,2,FALSE),VLOOKUP(I11,'U20 Non Counters'!$B$3:$D$200,2,FALSE)))) -> 0
A12: 5 | B12: ='Lane Draws'!B6 -> 5 | C12: =IFERROR(IF(B12="","",VLOOKUP(B12,Teams!$A$12:$B$29,2,FALSE)),CONCATENATE("NC-",VLOOKUP(B12,'U17 Non Counters'!$G$3:$I$200,3,FALSE))) -> IH | D12: =IFERROR(INDIRECT("'"&C12&"-"&$A6&"'!H"&IF(RIGHT(B6,1)="W",MATCH('Start lists'!C6,'TN-U17'!F:F,0),MATCH('Start lists'!C6,'TN-U17'!B:B,0))+IF(LEFT(D6,1)="A",0,1)&""),IF(RIGHT(A6,2)="17",IF(RIGHT(B6,1)="W",VLOOKUP(B12,'U17 Non Counters'!$G$3:$I$200,2,FALSE),VLOOKUP(B12,'U17 Non Counters'!$B$3:$D$200,2,FALSE)),IF(RIGHT(B6,1)="W",VLOOKUP(B12,'U20 Non Counters'!$G$3:$I$200,2,FALSE),VLOOKUP(B12,'U20 Non Counters'!$B$3:$D$200,2,FALSE)))) -> 0 | H12: 5 | I12: ='Lane Draws'!E6 -> 55 | J12: =IFERROR(IF(I12="","",VLOOKUP(I12,Teams!$A$12:$B$29,2,FALSE)),CONCATENATE("NC-",VLOOKUP(I12,'U17 Non Counters'!$G$3:$I$200,3,FALSE))) -> IH | K12: =IFERROR(INDIRECT("'"&J12&"-"&H6&"'!H"&IF(RIGHT(I6,1)="W",MATCH('Start lists'!J6,'TN-U17'!F:F,0),MATCH('Start lists'!J6,'TN-U17'!J:J,0))+IF(LEFT(K6,1)="A",0,1)&""),IF(RIGHT(H6,2)="17",IF(RIGHT(I6,1)="W",VLOOKUP(I12,'U17 Non Counters'!$G$3:$I$200,2,FALSE),VLOOKUP(I12,'U17 Non Counters'!$B$3:$D$200,2,FALSE)),IF(RIGHT(I6,1)="W",VLOOKUP(I12,'U20 Non Counters'!$G$3:$I$200,2,FALSE),VLOOKUP(I12,'U20 Non Counters'!$B$3:$D$200,2,FALSE)))) -> 0
A13: 6 | B13: ='Lane Draws'!B7 -> 1 | C13: =IFERROR(IF(B13="","",VLOOKUP(B13,Teams!$A$12:$B$29,2,FALSE)),CONCATENATE("NC-",VLOOKUP(B13,'U17 Non Counters'!$G$3:$I$200,3,FALSE))) -> AAAC | D13: =IFERROR(INDIRECT("'"&C13&"-"&$A6&"'!H"&IF(RIGHT(B6,1)="W",MATCH('Start lists'!C6,'TN-U17'!F:F,0),MATCH('Start lists'!C6,'TN-U17'!B:B,0))+IF(LEFT(D6,1)="A",0,1)&""),IF(RIGHT(A6,2)="17",IF(RIGHT(B6,1)="W",VLOOKUP(B13,'U17 Non Counters'!$G$3:$I$200,2,FALSE),VLOOKUP(B13,'U17 Non Counters'!$B$3:$D$200,2,FALSE)),IF(RIGHT(B6,1)="W",VLOOKUP(B13,'U20 Non Counters'!$G$3:$I$200,2,FALSE),VLOOKUP(B13,'U20 Non Counters'!$B$3:$D$200,2,FALSE)))) -> Jane Davidson | H13: 6 | I13: ='Lane Draws'!E7 -> 11 | J13: =IFERROR(IF(I13="","",VLOOKUP(I13,Teams!$A$12:$B$29,2,FALSE)),CONCATENATE("NC-",VLOOKUP(I13,'U17 Non Counters'!$G$3:$I$200,3,FALSE))) -> AAAC | K13: =IFERROR(INDIRECT("'"&J13&"-"&H6&"'!H"&IF(RIGHT(I6,1)="W",MATCH('Start lists'!J6,'TN-U17'!F:F,0),MATCH('Start lists'!J6,'TN-U17'!J:J,0))+IF(LEFT(K6,1)="A",0,1)&""),IF(RIGHT(H6,2)="17",IF(RIGHT(I6,1)="W",VLOOKUP(I13,'U17 Non Counters'!$G$3:$I$200,2,FALSE),VLOOKUP(I13,'U17 Non Counters'!$B$3:$D$200,2,FALSE)),IF(RIGHT(I6,1)="W",VLOOKUP(I13,'U20 Non Counters'!$G$3:$I$200,2,FALSE),VLOOKUP(I13,'U20 Non Counters'!$B$3:$D$200,2,FALSE)))) -> Erin Williams
A14: 7 | B14: ='Lane Draws'!B8 -> 8 | C14: =IFERROR(IF(B14="","",VLOOKUP(B14,Teams!$A$12:$B$29,2,FALSE)),CONCATENATE("NC-",VLOOKUP(B14,'U17 Non Counters'!$G$3:$I$200,3,FALSE))) -> TN | D14: =IFERROR(INDIRECT("'"&C14&"-"&$A6&"'!H"&IF(RIGHT(B6,1)="W",MATCH('Start lists'!C6,'TN-U17'!F:F,0),MATCH('Start lists'!C6,'TN-U17'!B:B,0))+IF(LEFT(D6,1)="A",0,1)&""),IF(RIGHT(A6,2)="17",IF(RIGHT(B6,1)="W",VLOOKUP(B14,'U17 Non Counters'!$G$3:$I$200,2,FALSE),VLOOKUP(B14,'U17 Non Counters'!$B$3:$D$200,2,FALSE)),IF(RIGHT(B6,1)="W",VLOOKUP(B14,'U20 Non Counters'!$G$3:$I$200,2,FALSE),VLOOKUP(B14,'U20 Non Counters'!$B$3:$D$200,2,FALSE)))) -> EVE TULLOCH | H14: 7 | I14: ='Lane Draws'!E8 -> 88 | J14: =IFERROR(IF(I14="","",VLOOKUP(I14,Teams!$A$12:$B$29,2,FALSE)),CONCATENATE("NC-",VLOOKUP(I14,'U17 Non Counters'!$G$3:$I$200,3,FALSE))) -> TN | K14: =IFERROR(INDIRECT("'"&J14&"-"&H6&"'!H"&IF(RIGHT(I6,1)="W",MATCH('Start lists'!J6,'TN-U17'!F:F,0),MATCH('Start lists'!J6,'TN-U17'!J:J,0))+IF(LEFT(K6,1)="A",0,1)&""),IF(RIGHT(H6,2)="17",IF(RIGHT(I6,1)="W",VLOOKUP(I14,'U17 Non Counters'!$G$3:$I$200,2,FALSE),VLOOKUP(I14,'U17 Non Counters'!$B$3:$D$200,2,FALSE)),IF(RIGHT(I6,1)="W",VLOOKUP(I14,'U20 Non Counters'!$G$3:$I$200,2,FALSE),VLOOKUP(I14,'U20 Non Counters'!$B$3:$D$200,2,FALSE)))) -> 0
A15: 8 | B15: ='Lane Draws'!B9 -> 3 | C15: =IFERROR(IF(B15="","",VLOOKUP(B15,Teams!$A$12:$B$29,2,FALSE)),CONCATENATE("NC-",VLOOKUP(B15,'U17 Non Counters'!$G$3:$I$200,3,FALSE))) -> BSAC | D15: =IFERROR(INDIRECT("'"&C15&"-"&$A6&"'!H"&IF(RIGHT(B6,1)="W",MATCH('Start lists'!C6,'TN-U17'!F:F,0),MATCH('Start lists'!C6,'TN-U17'!B:B,0))+IF(LEFT(D6,1)="A",0,1)&""),IF(RIGHT(A6,2)="17",IF(RIGHT(B6,1)="W",VLOOKUP(B15,'U17 Non Counters'!$G$3:$I$200,2,FALSE),VLOOKUP(B15,'U17 Non Counters'!$B$3:$D$200,2,FALSE)),IF(RIGHT(B6,1)="W",VLOOKUP(B15,'U20 Non Counters'!$G$3:$I$200,2,FALSE),VLOOKUP(B15,'U20 Non Counters'!$B$3:$D$200,2,FALSE)))) -> 0 | H15: 8 | I15: ='Lane Draws'!E9 -> 33 | J15: =IFERROR(IF(I15="","",VLOOKUP(I15,Teams!$A$12:$B$29,2,FALSE)),CONCATENATE("NC-",VLOOKUP(I15,'U17 Non Counters'!$G$3:$I$200,3,FALSE))) -> BSAC | K15: =IFERROR(INDIRECT("'"&J15&"-"&H6&"'!H"&IF(RIGHT(I6,1)="W",MATCH('Start lists'!J6,'TN-U17'!F:F,0),MATCH('Start lists'!J6,'TN-U17'!J:J,0))+IF(LEFT(K6,1)="A",0,1)&""),IF(RIGHT(H6,2)="17",IF(RIGHT(I6,1)="W",VLOOKUP(I15,'U17 Non Counters'!$G$3:$I$200,2,FALSE),VLOOKUP(I15,'U17 Non Counters'!$B$3:$D$200,2,FALSE)),IF(RIGHT(I6,1)="W",VLOOKUP(I15,'U20 Non Counters'!$G$3:$I$200,2,FALSE),VLOOKUP(I15,'U20 Non Counters'!$B$3:$D$200,2,FALSE)))) -> 0
A17: =LEFT(B17,3) -> U20 | B17: U20W | C17: 400mH | D17: A string | E17: =IF('Lane Draws'!$H$12-COUNTIF('Lane Draws'!$H$2:$M$9,">88")=0,0,CONCATENATE('Lane Draws'!$H$12-COUNTIF('Lane Draws'!$H$2:$M$9,">88"), " Non Counters to put in lanes")) -> 0 | H17: =LEFT(I17,3) -> U20 | I17: =B17 -> U20W | J17: 400mH | K17: B string | L17: =IF('Lane Draws'!$H$12-COUNTIF('Lane Draws'!$H$2:$M$9,">88")=0,0,CONCATENATE('Lane Draws'!$H$12-COUNTIF('Lane Draws'!$H$2:$M$9,">88"), " Non Counters to put in lanes")) -> 0
A18: Lane | B18: Num | C18: Club | D18: Athlete | E18: Time | F18: Pos | H18: Lane | I18: Num | J18: Club | K18: Athlete | L18: Time | M18: Pos | N18: Points
A19: 1 | B19: ='Lane Draws'!H2 -> 7 | C19: =IFERROR(IF(B19="","",VLOOKUP(B19,Teams!$A$12:$B$29,2,FALSE)),CONCATENATE("NC-",VLOOKUP(B19,'U20 Non Counters'!$G$3:$I$200,3,FALSE))) -> MAC_PSH | D19: =IFERROR(INDIRECT("'"&C19&"-"&$A17&"'!H"&IF(RIGHT(B17,1)="W",MATCH('Start lists'!C17,'TN-U20'!F:F,0),MATCH('Start lists'!C17,'TN-U20'!B:B,0))+IF(LEFT(D17,1)="A",0,1)&""),IF(RIGHT(A17,2)="17",IF(RIGHT(B17,1)="W",VLOOKUP(B19,'U17 Non Counters'!$G$3:$I$200,2,FALSE),VLOOKUP(B19,'U17 Non Counters'!$B$3:$D$200,2,FALSE)),IF(RIGHT(B17,1)="W",VLOOKUP(B19,'U20 Non Counters'!$G$3:$I$200,2,FALSE),VLOOKUP(B19,'U20 Non Counters'!$B$3:$D$200,2,FALSE)))) -> 0 | H19: 1 | I19: ='Lane Draws'!K2 -> 77 | J19: =IFERROR(IF(I19="","",VLOOKUP(I19,Teams!$A$12:$B$29,2,FALSE)),CONCATENATE("NC-",VLOOKUP(I19,'U20 Non Counters'!$G$3:$I$200,3,FALSE))) -> MAC_PSH | K19: =IFERROR(INDIRECT("'"&J19&"-"&H17&"'!H"&IF(RIGHT(I17,1)="W",MATCH('Start lists'!J17,'TN-U20'!F:F,0),MATCH('Start lists'!J17,'TN-U20'!B:B,0))+IF(LEFT(K17,1)="A",0,1)&""),IF(RIGHT(H17,2)="17",IF(RIGHT(I17,1)="W",VLOOKUP(I19,'U17 Non Counters'!$G$3:$I$200,2,FALSE),VLOOKUP(I19,'U17 Non Counters'!$B$3:$D$200,2,FALSE)),IF(RIGHT(I17,1)="W",VLOOKUP(I19,'U20 Non Counters'!$G$3:$I$200,2,FALSE),VLOOKUP(I19,'U20 Non Counters'!$B$3:$D$200,2,FALSE)))) -> 0
A20: 2 | B20: ='Lane Draws'!H3 -> 6 | C20: =IFERROR(IF(B20="","",VLOOKUP(B20,Teams!$A$12:$B$29,2,FALSE)),CONCATENATE("NC-",VLOOKUP(B20,'U20 Non Counters'!$G$3:$I$200,3,FALSE))) -> ISA | D20: =IFERROR(INDIRECT("'"&C20&"-"&$A17&"'!H"&IF(RIGHT(B17,1)="W",MATCH('Start lists'!C17,'TN-U20'!F:F,0),MATCH('Start lists'!C17,'TN-U20'!B:B,0))+IF(LEFT(D17,1)="A",0,1)&""),IF(RIGHT(A17,2)="17",IF(RIGHT(B17,1)="W",VLOOKUP(B20,'U17 Non Counters'!$G$3:$I$200,2,FALSE),VLOOKUP(B20,'U17 Non Counters'!$B$3:$D$200,2,FALSE)),IF(RIGHT(B17,1)="W",VLOOKUP(B20,'U20 Non Counters'!$G$3:$I$200,2,FALSE),VLOOKUP(B20,'U20 Non Counters'!$B$3:$D$200,2,FALSE)))) -> 0 | H20: 2 | I20: ='Lane Draws'!K3 -> 66 | J20: =IFERROR(IF(I20="","",VLOOKUP(I20,Teams!$A$12:$B$29,2,FALSE)),CONCATENATE("NC-",VLOOKUP(I20,'U20 Non Counters'!$G$3:$I$200,3,FALSE))) -> ISA | K20: =IFERROR(INDIRECT("'"&J20&"-"&H17&"'!H"&IF(RIGHT(I17,1)="W",MATCH('Start lists'!J17,'TN-U20'!F:F,0),MATCH('Start lists'!J17,'TN-U20'!B:B,0))+IF(LEFT(K17,1)="A",0,1)&""),IF(RIGHT(H17,2)="17",IF(RIGHT(I17,1)="W",VLOOKUP(I20,'U17 Non Counters'!$G$3:$I$200,2,FALSE),VLOOKUP(I20,'U17 Non Counters'!$B$3:$D$200,2,FALSE)),IF(RIGHT(I17,1)="W",VLOOKUP(I20,'U20 Non Counters'!$G$3:$I$200,2,FALSE),VLOOKUP(I20,'U20 Non Counters'!$B$3:$D$200,2,FALSE)))) -> 0
A21: 3 | B21: ='Lane Draws'!H4 -> 4 | C21: =IFERROR(IF(B21="","",VLOOKUP(B21,Teams!$A$12:$B$29,2,FALSE)),CONCATENATE("NC-",VLOOKUP(B21,'U20 Non Counters'!$G$3:$I$200,3,FALSE))) -> DHH | D21: =IFERROR(INDIRECT("'"&C21&"-"&$A17&"'!H"&IF(RIGHT(B17,1)="W",MATCH('Start lists'!C17,'TN-U20'!F:F,0),MATCH('Start lists'!C17,'TN-U20'!B:B,0))+IF(LEFT(D17,1)="A",0,1)&""),IF(RIGHT(A17,2)="17",IF(RIGHT(B17,1)="W",VLOOKUP(B21,'U17 Non Counters'!$G$3:$I$200,2,FALSE),VLOOKUP(B21,'U17 Non Counters'!$B$3:$D$200,2,FALSE)),IF(RIGHT(B17,1)="W",VLOOKUP(B21,'U20 Non Counters'!$G$3:$I$200,2,FALSE),VLOOKUP(B21,'U20 Non Counters'!$B$3:$D$200,2,FALSE)))) -> Shania King | H21: 3 | I21: ='Lane Draws'!K4 -> 44 | J21: =IFERROR(IF(I21="","",VLOOKUP(I21,Teams!$A$12:$B$29,2,FALSE)),CONCATENATE("NC-",VLOOKUP(I21,'U20 Non Counters'!$G$3:$I$200,3,FALSE))) -> DHH | K21: =IFERROR(INDIRECT("'"&J21&"-"&H17&"'!H"&IF(RIGHT(I17,1)="W",MATCH('Start lists'!J17,'TN-U20'!F:F,0),MATCH('Start lists'!J17,'TN-U20'!B:B,0))+IF(LEFT(K17,1)="A",0,1)&""),IF(RIGHT(H17,2)="17",IF(RIGHT(I17,1)="W",VLOOKUP(I21,'U17 Non Counters'!$G$3:$I$200,2,FALSE),VLOOKUP(I21,'U17 Non Counters'!$B$3:$D$200,2,FALSE)),IF(RIGHT(I17,1)="W",VLOOKUP(I21,'U20 Non Counters'!$G$3:$I$200,2,FALSE),VLOOKUP(I21,'U20 Non Counters'!$B$3:$D$200,2,FALSE)))) -> 0
A22: 4 | B22: ='Lane Draws'!H5 -> 2 | C22: =IFERROR(IF(B22="","",VLOOKUP(B22,Teams!$A$12:$B$29,2,FALSE)),CONCATENATE("NC-",VLOOKUP(B22,'U20 Non Counters'!$G$3:$I$200,3,FALSE))) -> ADAC | D22: =IFERROR(INDIRECT("'"&C22&"-"&$A17&"'!H"&IF(RIGHT(B17,1)="W",MATCH('Start lists'!C17,'TN-U20'!F:F,0),MATCH('Start lists'!C17,'TN-U20'!B:B,0))+IF(LEFT(D17,1)="A",0,1)&""),IF(RIGHT(A17,2)="17",IF(RIGHT(B17,1)="W",VLOOKUP(B22,'U17 Non Counters'!$G$3:$I$200,2,FALSE),VLOOKUP(B22,'U17 Non Counters'!$B$3:$D$200,2,FALSE)),IF(RIGHT(B17,1)="W",VLOOKUP(B22,'U20 Non Counters'!$G$3:$I$200,2,FALSE),VLOOKUP(B22,'U20 Non Counters'!$B$3:$D$200,2,FALSE)))) -> 0 | H22: 4 | I22: ='Lane Draws'!K5 -> 22 | J22: =IFERROR(IF(I22="","",VLOOKUP(I22,Teams!$A$12:$B$29,2,FALSE)),CONCATENATE("NC-",VLOOKUP(I22,'U20 Non Counters'!$G$3:$I$200,3,FALSE))) -> ADAC | K22: =IFERROR(INDIRECT("'"&J22&"-"&H17&"'!H"&IF(RIGHT(I17,1)="W",MATCH('Start lists'!J17,'TN-U20'!F:F,0),MATCH('Start lists'!J17,'TN-U20'!B:B,0))+IF(LEFT(K17,1)="A",0,1)&""),IF(RIGHT(H17,2)="17",IF(RIGHT(I17,1)="W",VLOOKUP(I22,'U17 Non Counters'!$G$3:$I$200,2,FALSE),VLOOKUP(I22,'U17 Non Counters'!$B$3:$D$200,2,FALSE)),IF(RIGHT(I17,1)="W",VLOOKUP(I22,'U20 Non Counters'!$G$3:$I$200,2,FALSE),VLOOKUP(I22,'U20 Non Counters'!$B$3:$D$200,2,FALSE)))) -> 0
